BEGIN:VCALENDAR
VERSION:2.0
PRODID:-//La Danza Tanzzentrum - ECPv6.10.0//NONSGML v1.0//EN
CALSCALE:GREGORIAN
METHOD:PUBLISH
X-WR-CALNAME:La Danza Tanzzentrum
X-ORIGINAL-URL:https://la-danza.de
X-WR-CALDESC:Veranstaltungen für La Danza Tanzzentrum
REFRESH-INTERVAL;VALUE=DURATION:PT1H
X-Robots-Tag:noindex
X-PUBLISHED-TTL:PT1H
BEGIN:VTIMEZONE
TZID:Europe/Berlin
BEGIN:DAYLIGHT
TZOFFSETFROM:+0100
TZOFFSETTO:+0200
TZNAME:CEST
DTSTART:20220327T010000
END:DAYLIGHT
BEGIN:STANDARD
TZOFFSETFROM:+0200
TZOFFSETTO:+0100
TZNAME:CET
DTSTART:20221030T010000
END:STANDARD
BEGIN:DAYLIGHT
TZOFFSETFROM:+0100
TZOFFSETTO:+0200
TZNAME:CEST
DTSTART:20230326T010000
END:DAYLIGHT
BEGIN:STANDARD
TZOFFSETFROM:+0200
TZOFFSETTO:+0100
TZNAME:CET
DTSTART:20231029T010000
END:STANDARD
BEGIN:DAYLIGHT
TZOFFSETFROM:+0100
TZOFFSETTO:+0200
TZNAME:CEST
DTSTART:20240331T010000
END:DAYLIGHT
BEGIN:STANDARD
TZOFFSETFROM:+0200
TZOFFSETTO:+0100
TZNAME:CET
DTSTART:20241027T010000
END:STANDARD
BEGIN:DAYLIGHT
TZOFFSETFROM:+0100
TZOFFSETTO:+0200
TZNAME:CEST
DTSTART:20250330T010000
END:DAYLIGHT
BEGIN:STANDARD
TZOFFSETFROM:+0200
TZOFFSETTO:+0100
TZNAME:CET
DTSTART:20251026T010000
END:STANDARD
END:VTIMEZONE
BEGIN:VEVENT
DTSTART;TZID=Europe/Berlin:20251101T150000
DTEND;TZID=Europe/Berlin:20251101T190000
DTSTAMP:20260421T142301
CREATED:20251006T135252Z
LAST-MODIFIED:20251030T172731Z
UID:10000484-1762009200-1762023600@la-danza.de
SUMMARY:Zouk Brasil Beginner (for Dancers)
DESCRIPTION:Mit Tiago & Emilia \nTeilnahme nur nach Anmeldung. \nBitte hier buchen
URL:https://la-danza.de/event/zouk-workshop-nov/
LOCATION:La Danza\, Weyerstr. 35-37\, Köln\, 50676\, Germany
CATEGORIES:Workshops
ATTACH;FMTTYPE=image/jpeg:https://la-danza.de/wp-content/uploads/2025/10/IMG_4003.jpg
END:VEVENT
BEGIN:VEVENT
DTSTART;TZID=Europe/Berlin:20251025T133000
DTEND;TZID=Europe/Berlin:20251025T153000
DTSTAMP:20260421T142301
CREATED:20250807T181003Z
LAST-MODIFIED:20250807T181221Z
UID:10000417-1761399000-1761406200@la-danza.de
SUMMARY:Bachata Sensual Anfänger - 25. Oktober
DESCRIPTION:Der beliebte Wochenend-Workshop beinhaltet Spaß und intensives Erlernen der Grundzüge des Tanzes Bachata Sensual. Du lernst die Grundschritte und das Führen und Folgen sowie schöne Kombinationen. \n  \nErmässigung für Studenten und Abonnenten von La Danza. \nDer Saal ist klimatisiert! \nZeit: 13:30 bis 15:30 Uhr \nTeilnahme nur nach Anmeldung. \nBitte hier buchen
URL:https://la-danza.de/event/bachata-sensual-anfaenger-oktober/
LOCATION:La Danza\, Weyerstr. 35-37\, Köln\, 50676\, Germany
CATEGORIES:Workshops
ATTACH;FMTTYPE=image/png:https://la-danza.de/wp-content/uploads/2025/05/Bachata-Workshop-A1-3.png
END:VEVENT
BEGIN:VEVENT
DTSTART;TZID=Europe/Berlin:20251018T200000
DTEND;TZID=Europe/Berlin:20251019T030000
DTSTAMP:20260421T142301
CREATED:20250621T124452Z
LAST-MODIFIED:20250924T200322Z
UID:10000414-1760817600-1760842800@la-danza.de
SUMMARY:BACHATALICIOUS Party - 18. Oktober
DESCRIPTION:BACHATALICIOUS – 2. EDITION\nDie neue Bachata-Party in Köln geht in die nächste Runde!\nLa Danza lädt euch herzlich ein\, mit uns erneut einen unvergesslichen Abend zu erleben!Das erwartet euch:Internationale Künstler und DJ-Power:\nJorlanda & Adriano (Hannover) @your.aventura.bachata\n20:00–21:30: 90-minütiger Workshop voller Technik\, Partnerwork & Spaß!Für den Sound: DJ Monito @djmonito_oficial – sorgt für beste Beats & volle Tanzfläche! \nSpecial Cocktail „Cherrylicious“ – exklusiv für unsere Gäste kreiert – mit und ohne Alkohol! \nExtravagante Location (La Danza Weyerstraße) \nFeiert mit der besten Bachata-Community überhaupt! \nLa Danza Tanzzentrum Cologne: Weyerstraße 35-37\, 50676 Köln\nWorkshop: 20:00–21:30\nParty: ab 21:30-3:00 open floor – dance all night! \n️ Prices:\n▫️ Presale: 25 € (Workshop + Party) – Tickets: Eventim-Light \n▫️Abendkasse: 30 € (Workshop + Party)\n▫️ Nur Party AK: 20 €\n▫️ La Danza Members AK: 15 € (nur Party) \nCloakroom: 1 € / 2 € (obligatorisch – safety first!)\nZahlung vor Ort: Bar oder PayPal/ Cash or Paypal at the door \nWir freuen uns riesig auf eine weitere magische Nacht – Bachata like never before!
URL:https://la-danza.de/event/bachatalicious-oktober/
LOCATION:La Danza\, Weyerstr. 35-37\, Köln\, 50676\, Germany
CATEGORIES:Party,Workshops
ATTACH;FMTTYPE=image/png:https://la-danza.de/wp-content/uploads/2025/09/BACHATALICIOUS-Poster-Instagram-Post-45.png
ORGANIZER;CN="La Danza Tanzzentrum":MAILTO:info@la-danza.de
END:VEVENT
BEGIN:VEVENT
DTSTART;TZID=Europe/Berlin:20251011T200000
DTEND;TZID=Europe/Berlin:20251012T030000
DTSTAMP:20260421T142301
CREATED:20251002T120302Z
LAST-MODIFIED:20251002T120302Z
UID:10000483-1760212800-1760238000@la-danza.de
SUMMARY:Ritmo X Party - 11. Oktober
DESCRIPTION:La Danza lädt zurRitmo X ein!\nRITMO X – Workshops & Social Night! \n 11. Oktober 2025 La Danza – Weyerstr. 35\, 50676 Köln\n 2 Floors – 2 Styles:2 Workshops Saal A: Bachata Sensual Saal C: Salsa Cubana\n\n Workshops um 20 Uhr:\n20:00 – 21:00 Bachata Sensual mit Fabi & LauraSensual Fluidity (Open Level)\n 21:00 – 22:00 Salsa Cubana mit Dr. Ash & AliceTimba Partnerwork (Open Level)\n DJs: DJ Fran – Bachata Sensual DJ BelMar – Salsa Cubana\n Party Time: 22:00 – 03:00 Uhr\n Vorverkauf:\nEventim-lightEintritt: 12\,- EuroEintritt + 1 Workshop: 15\,- EuroEintritt + 2 Workshops: 20\,- Euro\nAbendkasse:Eintritt: 15\,- EuroEintritt + 1 Workshop: 20\,- EuroEintritt + 2 Workshops: 25\,- Euro\n\n\n La Danza Mitglieder erhalten 5\,- Ermäßigung an der Abendkasse!Mit oder ohne Workshop\nUSC: Check-In + 10\,- Euro (Party)USC: Check-In + 15\,- Euro ( 1 Workshop + Party)USC: Check-In + 20\,- Euro (2 Workshops + Party)
URL:https://la-danza.de/event/ritmo-x-party-11-okt/
LOCATION:La Danza\, Weyerstr. 35-37\, Köln\, 50676\, Germany
CATEGORIES:Party,Workshops
ATTACH;FMTTYPE=image/png:https://la-danza.de/wp-content/uploads/2025/10/Instagram-Ritmo-X-45.png
ORGANIZER;CN="La Danza Tanzzentrum":MAILTO:info@la-danza.de
END:VEVENT
BEGIN:VEVENT
DTSTART;TZID=Europe/Berlin:20250919T210000
DTEND;TZID=Europe/Berlin:20250920T020000
DTSTAMP:20260421T142301
CREATED:20250909T143246Z
LAST-MODIFIED:20250909T144520Z
UID:10000477-1758315600-1758333600@la-danza.de
SUMMARY:NEXT KIZZ Party - 19. September
DESCRIPTION:NEXT KIZZ. Your Kizomba experience in Cologne \n✨ Workshop w/ Max & Mel \nPivot Turns (open level) \nParty w/ DJ Aaron & DJ Shasha\nGroovy vibes\, warm community \nLa Danza Tanzzentrum Cologne\n21:00 Workshop | 22:00 Party \n️️️ Presale 25€ | Door 30€/15€ party only\nPresale hier \n1€ bag\n2€ jacket cloakroom per item (mandatory – safety rules) \nCash and Paypal at the door \nCan‘t wait to see you on the dancefloor
URL:https://la-danza.de/event/next-kizz-party-19-september/
LOCATION:La Danza\, Weyerstr. 35-37\, Köln\, 50676\, Germany
CATEGORIES:Party,Workshops
ATTACH;FMTTYPE=image/png:https://la-danza.de/wp-content/uploads/2025/09/Facebook-Event-Design-1-Favorit.png
ORGANIZER;CN="La Danza Tanzzentrum":MAILTO:info@la-danza.de
END:VEVENT
BEGIN:VEVENT
DTSTART;TZID=Europe/Berlin:20250913T200000
DTEND;TZID=Europe/Berlin:20250914T020000
DTSTAMP:20260421T142301
CREATED:20250826T104035Z
LAST-MODIFIED:20250826T124053Z
UID:10000475-1757793600-1757815200@la-danza.de
SUMMARY:Ritmo X Party - 13. September
DESCRIPTION:La Danza lädt ganz herzlich zu der neuen Eventreihe Ritmo X ein.\nJeden 2. Samstag im Monat!✨\nRITMO X – Workshops & Social Night!️ 13. September 2025\nLa Danza – Weyerstr. 35\, 50676 Köln✨ 2 Floors – 2 Styles:\n2 Workshops\nSaal A: Bachata Sensual\nSaal C: Brazilian ZoukWorkshops ab 20:00 Uhr:20:00 – 21:00 Bachata Sensual mit Walid & Bella (Open Level) \n21:00 – 22:00 Brazilian Zouk mit Gabi & Guba (Open Level) \nDJs:\nDJ Orhanito – Bachata Sensual\nDJ Yong & DJ Guba Beats – Brazilian Zouk \nParty Time: 22:00 – 03:00 Uhr \n️ Vorverkauf: \nVORVERKAUF hier:  Eventim.de\nEintritt: 12\,- Euro\nEintritt + 1 Workshop: 15\,- Euro\nEintritt + 2 Workshops: 20\,- Euro \n️Abendkasse:\nEintritt: 15\,- Euro\nEintritt + 1 Workshop: 20\,- Euro\nEintritt + 2 Workshops: 25\,- Euro \n‼️ La Danza Mitglieder erhalten 5\,- Ermäßigung an der Abendkasse!\nMit oder ohne Workshop‼️ \nUSC: Check-In + 10\,- Euro (Party)\nUSC: Check-In + 15\,- Euro ( 1 Workshop + Party)\nUSC: Check-In + 20\,- Euro (2 Workshops + Party) \nWir freuen uns auf Euch!
URL:https://la-danza.de/event/ritmo-x-party-sept/
LOCATION:La Danza\, Weyerstr. 35-37\, Köln\, 50676\, Germany
CATEGORIES:Party,Workshops
ATTACH;FMTTYPE=image/png:https://la-danza.de/wp-content/uploads/2025/08/Poster-A2-Ritmo-X-Instagram-Post-45-1.png
ORGANIZER;CN="La Danza Tanzzentrum":MAILTO:info@la-danza.de
END:VEVENT
BEGIN:VEVENT
DTSTART;TZID=Europe/Berlin:20250906T123000
DTEND;TZID=Europe/Berlin:20250906T180000
DTSTAMP:20260421T142301
CREATED:20250825T200456Z
LAST-MODIFIED:20250825T200845Z
UID:10000474-1757161800-1757181600@la-danza.de
SUMMARY:Tag der offenen Tür
DESCRIPTION:More info soon! \nBitte hier buchen
URL:https://la-danza.de/event/open-day-socialdance/
LOCATION:La Danza\, Weyerstr. 35-37\, Köln\, 50676\, Germany
CATEGORIES:Workshops
ATTACH;FMTTYPE=image/png:https://la-danza.de/wp-content/uploads/2025/08/1.png
END:VEVENT
BEGIN:VEVENT
DTSTART;TZID=Europe/Berlin:20250830T133000
DTEND;TZID=Europe/Berlin:20250830T153000
DTSTAMP:20260421T142301
CREATED:20250621T125322Z
LAST-MODIFIED:20250807T181146Z
UID:10000410-1756560600-1756567800@la-danza.de
SUMMARY:Bachata Sensual Anfänger - 30. August
DESCRIPTION:Der beliebte Wochenend-Workshop beinhaltet Spaß und intensives Erlernen der Grundzüge des Tanzes Bachata Sensual. Du lernst die Grundschritte und das Führen und Folgen sowie schöne Kombinationen. \nErmässigung für Studenten und Abonnenten von La Danza. \nDer Saal ist klimatisiert! \nZeit: 13:30 bis 15:30 Uhr \nTeilnahme nur nach Anmeldung. \nBitte hier buchen
URL:https://la-danza.de/event/bachata-sensual-anfaenger-august/
LOCATION:La Danza\, Weyerstr. 35-37\, Köln\, 50676\, Germany
CATEGORIES:Workshops
ATTACH;FMTTYPE=image/png:https://la-danza.de/wp-content/uploads/2025/05/Bachata-Workshop-A1-3.png
END:VEVENT
BEGIN:VEVENT
DTSTART;TZID=Europe/Berlin:20250720T143000
DTEND;TZID=Europe/Berlin:20250720T163000
DTSTAMP:20260421T142301
CREATED:20250711T150245Z
LAST-MODIFIED:20250711T150423Z
UID:10000415-1753021800-1753029000@la-danza.de
SUMMARY:Bachata Sensual Musicality - Walid & Bella
DESCRIPTION:ab 6 Monate Tanzerfahrung\n30€ pro Person\, 5€ Rabatt für LaDanza Members\nAnmeldung: Link in der Bio \nBegrenzte Plätze – 50 % Leader / 50 % Follower\, Sichere deinen Platz schnell! \nTanzen was du hörst\nIn diesem Bootcamp geht es darum\, wie du Musik wirklich verstehst\, fühlst und im Tanz interpretierst. \nDas erwartet dich: \n✅Einführung in klassische & moderne Bachata-Instrumente\n✅Songaufbau erkennen – von Intro bis Mambo\n✅Makro Musicality: Welche Teile im Song tanzen wir gerade – und wie reagieren wir darauf?\n✅Mikro Musicality: Breaks\, Hits\, Vocals – wie du musikalische Details erkennst und interpretieren kannst\n✅Bewegungen & Figuren\, die auf Musik-Highlights abgestimmt sind\n✅Praxisorientierte Übungen\, die dir helfen\, Musicality direkt im Social Dance umzusetzen \nKein:e Partner:in nötig \nDer Saal ist klimatisiert! \nZeit: 14:30 bis 16:30 Uhr \nTeilnahme nur nach Anmeldung. \nBitte hier buchen
URL:https://la-danza.de/event/bachata-sensual-musicality/
LOCATION:La Danza\, Weyerstr. 35-37\, Köln\, 50676\, Germany
CATEGORIES:Workshops
ATTACH;FMTTYPE=image/png:https://la-danza.de/wp-content/uploads/2025/07/Musicality-Bootcamp-Walid-Bella-Flyer-Instagram-Story-1080-x-1350-px.png
END:VEVENT
BEGIN:VEVENT
DTSTART;TZID=Europe/Berlin:20250718T210000
DTEND;TZID=Europe/Berlin:20250719T030000
DTSTAMP:20260421T142301
CREATED:20250621T124218Z
LAST-MODIFIED:20250706T174915Z
UID:10000413-1752872400-1752894000@la-danza.de
SUMMARY:NEXT KIZZ Party - 18. Juli !
DESCRIPTION:New Kizomba experience in Cologne \n✨ Workshop w/ Selim (FR) & Mel (DE) Playing with hook variations (open level) \nParty w/ DJ Fola & DJ XTATIC \nGroovy vibes\, warm community \nLa Danza Tanzzentrum Cologne\nWeyerstraße 35-37\, 50676 Köln \n21:00 Workshop | 22:00 Party \n️ Presale 25€ \nPresale 25€ Workshop + Party (Limited online tickets sold)https://www.eventim-light.com/…/e/685ac72619e822358cf41e68 \nDoor 30€ \n15€ party only \n1€/ 2€ cloakroom (mandatory – safety rules)\nCash or Paypal at the door \n❤️‍ Welcome surprise\n✨ Bar available \nThis is just the beginning.\nCan‘t wait to see you on the dancefloor
URL:https://la-danza.de/event/next-kizz-juli/
LOCATION:La Danza\, Weyerstr. 35-37\, Köln\, 50676\, Germany
CATEGORIES:Party,Workshops
ATTACH;FMTTYPE=image/png:https://la-danza.de/wp-content/uploads/2025/06/Instagram-Post-Design-1.png
ORGANIZER;CN="La Danza Tanzzentrum":MAILTO:info@la-danza.de
END:VEVENT
BEGIN:VEVENT
DTSTART;TZID=Europe/Berlin:20250628T130000
DTEND;TZID=Europe/Berlin:20250628T153000
DTSTAMP:20260421T142301
CREATED:20250227T223228Z
LAST-MODIFIED:20250516T155842Z
UID:10000397-1751115600-1751124600@la-danza.de
SUMMARY:Salsa Cubana Anfänger (Level A1) - 28. Juni
DESCRIPTION:Der beliebte Wochenend Workshop beinhaltet Spaß und intensives Erlernen der Grundzüge des Tanzes Salsa Cubana. Du lernst die Grundschritte und das Führen und Folgen sowie schöne Kombinationen mit Drehungen und Platzwechsel. Du lernst Passo basico cubano\, Guapea\, Vuelta derecha\, Enchafa doble und Dile Que No. Du kannst Dich mit oder ohne Tanzpartner/in anmelden.\nErmässigung für Studenten und Abonnenten von La Danza. \nDer Saal ist klimatisiert! \nZeit: Sa.  13:00 bis 15:30 Uhr \nTeilnahme nur nach Anmeldung. \nBitte hier buchen
URL:https://la-danza.de/event/salsa-cubana-anfaenger-level-a1-sa-so-mai/
LOCATION:La Danza\, Weyerstr. 35-37\, Köln\, 50676\, Germany
CATEGORIES:Workshops
ATTACH;FMTTYPE=image/png:https://la-danza.de/wp-content/uploads/2025/02/Salsa-Workshop-A1-1.png
END:VEVENT
BEGIN:VEVENT
DTSTART;TZID=Europe/Berlin:20250524T140000
DTEND;TZID=Europe/Berlin:20250524T170000
DTSTAMP:20260421T142301
CREATED:20250428T140157Z
LAST-MODIFIED:20250511T171842Z
UID:10000407-1748095200-1748106000@la-danza.de
SUMMARY:Heels Workshop mit Nora
DESCRIPTION:Teilnahme nur nach Anmeldung.\n\n\nBitte hier buchen
URL:https://la-danza.de/event/heels-workshop-mit-nora-mai/
LOCATION:La Danza\, Weyerstr. 35-37\, Köln\, 50676\, Germany
CATEGORIES:Workshops
ATTACH;FMTTYPE=image/jpeg:https://la-danza.de/wp-content/uploads/2025/04/Ws-nora.jpg
END:VEVENT
BEGIN:VEVENT
DTSTART;TZID=Europe/Berlin:20250510T200000
DTEND;TZID=Europe/Berlin:20250511T020000
DTSTAMP:20260421T142301
CREATED:20250428T133723Z
LAST-MODIFIED:20250428T135935Z
UID:10000405-1746907200-1746928800@la-danza.de
SUMMARY:Ritmo X Party - 10. Mai !
DESCRIPTION:La Danza lädt ganz herzlich zu der neuen Eventreihe RITMO X ein mit Workshops und Practice Night.\nJeden 2. Samstag im Monat!✨3 Floors\nBachata Sensual (Saal A)\nSalsa Cubana (Saal B)\nSalsa Calena/ Latin Mix (Saal C) \n✨2 Workshops \nSalsa Cubana\n21 h Timba Fusion Partnerwork – Fabi & Alev (Open Level) \nBachata Sensual\n21 h Bachata Sensual – Anass & Louise (Intermediate) \n✨3 DJs\nDJ Fran – Bachata Sensual\nDJ Paulazo – Salsa Cubana\nDJ Saoco – Salsa Calena/ Latin Mix \n✨Party; 22:00 – 03:00 Uhr \nVORVERKAUF hier:  Eventim.de\nEintritt: 12\,- Euro\nEintritt +1 Workshop: 17\,- Euro \nABENDKASSE:\nEintritt: 15\,- Euro\nEintritt + 1 Workshops: 20\,- Euro \n‼️La Danza Mitglieder erhalten 5\,- Euro Ermäßigung ‼️ \nWir freuen uns auf Euch!
URL:https://la-danza.de/event/ritmo-x-party-10-mai/
LOCATION:La Danza\, Weyerstr. 35-37\, Köln\, 50676\, Germany
CATEGORIES:Party,Workshops
ATTACH;FMTTYPE=image/png:https://la-danza.de/wp-content/uploads/2025/04/Ritmo-X-Insta-Post-25.png
ORGANIZER;CN="La Danza Tanzzentrum":MAILTO:info@la-danza.de
END:VEVENT
BEGIN:VEVENT
DTSTART;TZID=Europe/Berlin:20250412T200000
DTEND;TZID=Europe/Berlin:20250413T020000
DTSTAMP:20260421T142301
CREATED:20250404T202217Z
LAST-MODIFIED:20250404T202217Z
UID:10000404-1744488000-1744509600@la-danza.de
SUMMARY:Ritmo X Party - 12. April !
DESCRIPTION: \n\nLa Danza lädt ganz herzlich zu der neuen Eventreihe RITMO X ein mit Workshops und Practice Night.\n2 FloorsBachata Sensual (Saal A)Salsa Cubana (Saal B)\n\n3 Workshops\nSalsa Cubana\n19 h20h Salsa von Reggaeton\nBachata Sensual\n20h Bachata Sensual\n2 DJs\n\nDJ  Marquito- Bachata SensualDJ  Paulazzo – Salsa Cubana\nParty; 21:00 – 02:00 Uhr\n\n\nABENDKASSE:\n\nEintritt: 15\,- EuroEintritt + 2 Workshops: 20\,- Euro\nLa Danza Mitglieder erhalten 5\,- Euro Ermäßigung \n\nWir freuen uns auf Euch!
URL:https://la-danza.de/event/ritmo-x-party-12-april/
LOCATION:La Danza\, Weyerstr. 35-37\, Köln\, 50676\, Germany
CATEGORIES:Party,Workshops
ATTACH;FMTTYPE=image/png:https://la-danza.de/wp-content/uploads/2025/04/Ritmo-X-12.-April-Party-Flyer-Instagram-Post-45.png
ORGANIZER;CN="La Danza Tanzzentrum":MAILTO:info@la-danza.de
END:VEVENT
BEGIN:VEVENT
DTSTART;TZID=Europe/Berlin:20250322T120000
DTEND;TZID=Europe/Berlin:20250323T020000
DTSTAMP:20260421T142301
CREATED:20250314T112415Z
LAST-MODIFIED:20250314T113612Z
UID:10000402-1742644800-1742695200@la-danza.de
SUMMARY:Tarraxo & Urban Kiz
DESCRIPTION:Location: NEW SUPER NICE LOCATION at the new La Danza studio!\nWeyerstraße 35-37\, 50676 Köln\n─────────────────\nPROGRAM8h-Bootcamp on 2 days ⭐⭐⭐⭐TARRAXO BOOTCAMP ON SATURDAY⭐\n12:00-14:00 I 2h-Bootcamp (OL)\n14:00-15:00 I Lunch Break\n15:00-17:00 I 2h-Bootcamp (IL) \n⭐SATURDAY EVENING PARTY\n21:00-22:00 Pre-party workshop with Luis & Karen\n22:00-03:00 I Party (All styles) DJ Fola Flow \n⭐URBAN KIZ BOOTCAMP ON SUNDAY⭐\n12:00-14:00 I 2h-Bootcamp (OL)\n14:00-15:00 I Lunch Break\n15:00-17:00 I 2h-Bootcamp (AL)\n─────────────────\nTICKETS\nhttps://buytickets.at/kizzessence/1531529 \nNOTE: Party tickets only available at the door; full pass holders get a significant discount on the party tickets!\n─────────────────\nLocation: La Danza studio!\nWeyerstraße 35-37\, 50676 Köln\n───────────────── \n\n 
URL:https://la-danza.de/event/tarraxoandurbankiz/
LOCATION:La Danza\, Weyerstr. 35-37\, Köln\, 50676\, Germany
CATEGORIES:Party,Workshops
ATTACH;FMTTYPE=image/jpeg:https://la-danza.de/wp-content/uploads/2025/03/maxkizomba.jpg
END:VEVENT
BEGIN:VEVENT
DTSTART;TZID=Europe/Berlin:20250315T130000
DTEND;TZID=Europe/Berlin:20250316T153000
DTSTAMP:20260421T142301
CREATED:20250227T223140Z
LAST-MODIFIED:20250227T223927Z
UID:10000396-1742043600-1742139000@la-danza.de
SUMMARY:Salsa Cubana Anfänger (Level A1) - Sa. & So.
DESCRIPTION:Der beliebte zweitägige Wochenend Workshop beinhaltet Spaß und intensives Erlernen der Grundzüge des Tanzes Salsa Cubana. Du lernst die Grundschritte und das Führen und Folgen sowie schöne Kombinationen mit Drehungen und Platzwechsel. Du lernst Passo basico cubano\, Guapea\, Vuelta derecha\, Enchafa doble und Dile Que No. Du kannst Dich mit oder ohne Tanzpartner/in anmelden.\nErmässigung für Studenten und Abonnenten von La Danza. \nDer Saal ist klimatisiert! \nZeiten: Sa. und So.\, jeweils 13:00 bis 15:30 Uhr \nTeilnahme nur nach Anmeldung. \nBitte hier buchen
URL:https://la-danza.de/event/salsa-cubana-anfaenger-level-a1-sa-so-maerz/
LOCATION:La Danza\, Weyerstr. 35-37\, Köln\, 50676\, Germany
CATEGORIES:Workshops
ATTACH;FMTTYPE=image/png:https://la-danza.de/wp-content/uploads/2025/02/Salsa-Workshops-A1-uwe-chiara-6.png
END:VEVENT
BEGIN:VEVENT
DTSTART;TZID=Europe/Berlin:20250308T200000
DTEND;TZID=Europe/Berlin:20250309T020000
DTSTAMP:20260421T142301
CREATED:20250216T134934Z
LAST-MODIFIED:20250308T134643Z
UID:10000393-1741464000-1741485600@la-danza.de
SUMMARY:Ritmo X Party - 08. März !
DESCRIPTION: \n\nLa Danza lädt ganz herzlich zu der neuen Eventreihe RITMO X ein mit Workshops und Practice Night.\n2 FloorsBachata Sensual (Saal A)Salsa Cubana (Saal B)\n\n3 Workshops\nSalsa Cubana\n19 h De la Salsa Timba Cubanaa la Rumba – Elio20h Salsa von Reggaeton – Emilio & Alice\nBachata Sensual\n20h Smooth Sensual TransitionsBachata Sensual – Fabi & Sina\n2 DJs\n\nDJ Fran – Bachata SensualDJ BelMar – Salsa Cubana\nParty; 21:00 – 02:00 Uhr\n\n\nABENDKASSE:\n\nEintritt: 15\,- EuroEintritt + 2 Workshops: 20\,- Euro\nLa Danza Mitglieder erhalten 5\,- Euro Ermäßigung \n\nWir freuen uns auf Euch!
URL:https://la-danza.de/event/party-x-08-maerz/
LOCATION:La Danza\, Weyerstr. 35-37\, Köln\, 50676\, Germany
CATEGORIES:Party,Workshops
ATTACH;FMTTYPE=image/png:https://la-danza.de/wp-content/uploads/2025/02/Ritmo-X-8.-Feb.-Party-Flyer-1080-x-1350-px.png
ORGANIZER;CN="La Danza Tanzzentrum":MAILTO:info@la-danza.de
END:VEVENT
BEGIN:VEVENT
DTSTART;TZID=Europe/Berlin:20250208T190000
DTEND;TZID=Europe/Berlin:20250209T020000
DTSTAMP:20260421T142301
CREATED:20250126T144237Z
LAST-MODIFIED:20250126T144856Z
UID:10000392-1739041200-1739066400@la-danza.de
SUMMARY:GRAND OPENING PARTY - 08. Februar!
DESCRIPTION:Wir laden ganz herzlich zu der Eröffnung unsere neuen Tanzschule im Herzen Kölns (Barbarossa Platz) ein! \n19 h SEKTEMPFANG \nWORKSHOPS: \n20 h Timbaton Open Level Enrique & Alice\n21 h Timba Partnerwork Level M Iljana & Ashwin \n20 h Bachata Sensual Open Level Lucia & Janina\n21 h Bachata Sensual Chami & Maja \n21 h Kiz Flow Level M Oleg & Stef \nLIVE ACTS: \nD‘ Karlos Caribbeantime\n0:00 h Show mit Colonia Caleña \n5 DJ’S: \nSalsa Cubana DJ Alaui\nDJ Alejandro\nDJ BelMar\nBachata Sensual DJ Chami\nKizomba / Urban Kiz DJ Fola \n  \nPreise:*\n(5\,- Rabatt für La Danza-Abonnenten) \nVVK / Presale: \nEventim-Light-Ticket \nFullpass:                       35\,- Euro\nEintritt + 1 Workshop: 30\,- \nAbendkasse: \nFullpass:                        40\,- Euro\nEintritt + 1 Workshop: 35\,-\nPartyeintritt:                 20\,- \n*Hinweis!\nEin Teil der ausgelegten Flyer enthält Tippfehler bei den Preisen und Daten. Es gelten die auf Social Media und der Homepage angegebenen Preise und Daten.
URL:https://la-danza.de/event/grandopeningparty/
LOCATION:La Danza\, Weyerstr. 35-37\, Köln\, 50676\, Germany
CATEGORIES:Party,Workshops
ATTACH;FMTTYPE=image/png:https://la-danza.de/wp-content/uploads/2025/01/Grand-Opening-Instagram-Post.png
ORGANIZER;CN="La Danza Tanzzentrum":MAILTO:info@la-danza.de
END:VEVENT
BEGIN:VEVENT
DTSTART;TZID=Europe/Berlin:20241210T183000
DTEND;TZID=Europe/Berlin:20241210T200000
DTSTAMP:20260421T142301
CREATED:20241026T131453Z
LAST-MODIFIED:20241026T134141Z
UID:10000385-1733855400-1733860800@la-danza.de
SUMMARY:Bachata Sensual Lady Styling 10 weeks-Bootcamp mit Ece
DESCRIPTION:Ab Level A2+ and more! \n10 Wochen Projekt. Start 12. November 2024 (Pause am 24. und 31. Dez.) \nDienstags: 18:30 bis 20:00 Uhr \nTrainerin: Ece Demiray \n\nPreisübersicht: \n14o\,- regulär \n125\,- für Teilnehmerinnen des ersten Cyclus \n90\,- für Inhaberinnen eines Abos/Flatrate bei La Danza \nWo: La Danza – Weyerstr. 35-37
URL:https://la-danza.de/event/bachata-sensual-lady-styling-10-weeks-bootcamp-mit-ece/2024-12-10/
LOCATION:La Danza\, Weyerstr. 35-37\, Köln\, 50676\, Germany
CATEGORIES:Workshops
ATTACH;FMTTYPE=image/png:https://la-danza.de/wp-content/uploads/2024/10/Ece-1.png
ORGANIZER;CN="La Danza Tanzzentrum":MAILTO:info@la-danza.de
END:VEVENT
BEGIN:VEVENT
DTSTART;TZID=Europe/Berlin:20241203T183000
DTEND;TZID=Europe/Berlin:20241203T200000
DTSTAMP:20260421T142301
CREATED:20241026T131453Z
LAST-MODIFIED:20241026T134141Z
UID:10000384-1733250600-1733256000@la-danza.de
SUMMARY:Bachata Sensual Lady Styling 10 weeks-Bootcamp mit Ece
DESCRIPTION:Ab Level A2+ and more! \n10 Wochen Projekt. Start 12. November 2024 (Pause am 24. und 31. Dez.) \nDienstags: 18:30 bis 20:00 Uhr \nTrainerin: Ece Demiray \n\nPreisübersicht: \n14o\,- regulär \n125\,- für Teilnehmerinnen des ersten Cyclus \n90\,- für Inhaberinnen eines Abos/Flatrate bei La Danza \nWo: La Danza – Weyerstr. 35-37
URL:https://la-danza.de/event/bachata-sensual-lady-styling-10-weeks-bootcamp-mit-ece/2024-12-03/
LOCATION:La Danza\, Weyerstr. 35-37\, Köln\, 50676\, Germany
CATEGORIES:Workshops
ATTACH;FMTTYPE=image/png:https://la-danza.de/wp-content/uploads/2024/10/Ece-1.png
ORGANIZER;CN="La Danza Tanzzentrum":MAILTO:info@la-danza.de
END:VEVENT
BEGIN:VEVENT
DTSTART;TZID=Europe/Berlin:20241126T183000
DTEND;TZID=Europe/Berlin:20241126T200000
DTSTAMP:20260421T142301
CREATED:20241026T131453Z
LAST-MODIFIED:20241026T134141Z
UID:10000383-1732645800-1732651200@la-danza.de
SUMMARY:Bachata Sensual Lady Styling 10 weeks-Bootcamp mit Ece
DESCRIPTION:Ab Level A2+ and more! \n10 Wochen Projekt. Start 12. November 2024 (Pause am 24. und 31. Dez.) \nDienstags: 18:30 bis 20:00 Uhr \nTrainerin: Ece Demiray \n\nPreisübersicht: \n14o\,- regulär \n125\,- für Teilnehmerinnen des ersten Cyclus \n90\,- für Inhaberinnen eines Abos/Flatrate bei La Danza \nWo: La Danza – Weyerstr. 35-37
URL:https://la-danza.de/event/bachata-sensual-lady-styling-10-weeks-bootcamp-mit-ece/2024-11-26/
LOCATION:La Danza\, Weyerstr. 35-37\, Köln\, 50676\, Germany
CATEGORIES:Workshops
ATTACH;FMTTYPE=image/png:https://la-danza.de/wp-content/uploads/2024/10/Ece-1.png
ORGANIZER;CN="La Danza Tanzzentrum":MAILTO:info@la-danza.de
END:VEVENT
BEGIN:VEVENT
DTSTART;TZID=Europe/Berlin:20241119T183000
DTEND;TZID=Europe/Berlin:20241119T200000
DTSTAMP:20260421T142301
CREATED:20241026T131453Z
LAST-MODIFIED:20241026T134141Z
UID:10000382-1732041000-1732046400@la-danza.de
SUMMARY:Bachata Sensual Lady Styling 10 weeks-Bootcamp mit Ece
DESCRIPTION:Ab Level A2+ and more! \n10 Wochen Projekt. Start 12. November 2024 (Pause am 24. und 31. Dez.) \nDienstags: 18:30 bis 20:00 Uhr \nTrainerin: Ece Demiray \n\nPreisübersicht: \n14o\,- regulär \n125\,- für Teilnehmerinnen des ersten Cyclus \n90\,- für Inhaberinnen eines Abos/Flatrate bei La Danza \nWo: La Danza – Weyerstr. 35-37
URL:https://la-danza.de/event/bachata-sensual-lady-styling-10-weeks-bootcamp-mit-ece/2024-11-19/
LOCATION:La Danza\, Weyerstr. 35-37\, Köln\, 50676\, Germany
CATEGORIES:Workshops
ATTACH;FMTTYPE=image/png:https://la-danza.de/wp-content/uploads/2024/10/Ece-1.png
ORGANIZER;CN="La Danza Tanzzentrum":MAILTO:info@la-danza.de
END:VEVENT
BEGIN:VEVENT
DTSTART;TZID=Europe/Berlin:20241112T183000
DTEND;TZID=Europe/Berlin:20241112T200000
DTSTAMP:20260421T142301
CREATED:20241026T131453Z
LAST-MODIFIED:20241026T134141Z
UID:10000381-1731436200-1731441600@la-danza.de
SUMMARY:Bachata Sensual Lady Styling 10 weeks-Bootcamp mit Ece
DESCRIPTION:Ab Level A2+ and more! \n10 Wochen Projekt. Start 12. November 2024 (Pause am 24. und 31. Dez.) \nDienstags: 18:30 bis 20:00 Uhr \nTrainerin: Ece Demiray \n\nPreisübersicht: \n14o\,- regulär \n125\,- für Teilnehmerinnen des ersten Cyclus \n90\,- für Inhaberinnen eines Abos/Flatrate bei La Danza \nWo: La Danza – Weyerstr. 35-37
URL:https://la-danza.de/event/bachata-sensual-lady-styling-10-weeks-bootcamp-mit-ece/2024-11-12/
LOCATION:La Danza\, Weyerstr. 35-37\, Köln\, 50676\, Germany
CATEGORIES:Workshops
ATTACH;FMTTYPE=image/png:https://la-danza.de/wp-content/uploads/2024/10/Ece-1.png
ORGANIZER;CN="La Danza Tanzzentrum":MAILTO:info@la-danza.de
END:VEVENT
BEGIN:VEVENT
DTSTART;TZID=Europe/Berlin:20220326T190000
DTEND;TZID=Europe/Berlin:20220327T013000
DTSTAMP:20260421T142301
CREATED:20220317T131157Z
LAST-MODIFIED:20220326T172350Z
UID:10000231-1648321200-1648344600@la-danza.de
SUMMARY:SalsaNacht in der Lutherkirche
DESCRIPTION:Die SalsaNacht in der Lutherkirche! ****Findet statt***\n\n\nAlle Workshops werden in Zusammenarbeit mit „La-Danza-Köln“ durchgeführt.\n\n19.00 Salsa Cubana mit Luca & Partnerin (Open Level)\n20.00 Bachata Dominicana mit Werner & Lucia (Open Level )\n21:00- 1.00 Party mit DJ Yoyo\n\n21 bis 22 Uhr: Vorverkauf für die Danzalicous-Fullpässe und Tickets\n\nPartyeintritt:                     12 Euro\n2 Workshops und Party: 25 Euro\n\nHygienkonzept (Stand 9.März 2022) :\nEinlass nach der 2G+ Regel !\n– Vollständig Geimpften Geboostert(mind. 14 Tage nach der 2 Impfung) und Genesenen wird bei Vorlage des entsprechenden Nachweises in Verbindung mit einem max. 24 Stunden alten negativen Antigen Schnelltest Ergebnis (Testzentrum – Kein Selbsttest) der Eintritt gewährt.\n– Lichtbildausweis !\n– Eine Teilnahme von Ungeimpften Personen ist nicht zulässig.
URL:https://la-danza.de/event/salsanacht-lutherkirche/
LOCATION:La Danza\, Weyerstr. 35-37\, Köln\, 50676\, Germany
CATEGORIES:Party
ORGANIZER;CN="La Danza Tanzzentrum":MAILTO:info@la-danza.de
END:VEVENT
END:VCALENDAR