BEGIN:VCALENDAR
VERSION:2.0
PRODID:-//La Danza Tanzzentrum - ECPv6.10.0//NONSGML v1.0//EN
CALSCALE:GREGORIAN
METHOD:PUBLISH
X-WR-CALNAME:La Danza Tanzzentrum
X-ORIGINAL-URL:https://la-danza.de
X-WR-CALDESC:Veranstaltungen für La Danza Tanzzentrum
REFRESH-INTERVAL;VALUE=DURATION:PT1H
X-Robots-Tag:noindex
X-PUBLISHED-TTL:PT1H
BEGIN:VTIMEZONE
TZID:Europe/Berlin
BEGIN:DAYLIGHT
TZOFFSETFROM:+0100
TZOFFSETTO:+0200
TZNAME:CEST
DTSTART:20210328T010000
END:DAYLIGHT
BEGIN:STANDARD
TZOFFSETFROM:+0200
TZOFFSETTO:+0100
TZNAME:CET
DTSTART:20211031T010000
END:STANDARD
END:VTIMEZONE
BEGIN:VEVENT
DTSTART;TZID=Europe/Berlin:20211120T203000
DTEND;TZID=Europe/Berlin:20211121T003000
DTSTAMP:20260420T070907
CREATED:20211020T102034Z
LAST-MODIFIED:20211118T103333Z
UID:10000186-1637440200-1637454600@la-danza.de
SUMMARY:Salsa Cubana / Calena - Social Dance Party
DESCRIPTION:La Danza zur Salsa Social Dance Party ein! \n Du darfst Deine eigenen Getränke mitbringen. Alkoholfreie Getränke sind für 2\,- erhältlich.\n\nTeilnahme ist nur nach online-Registrierung möglich. \nDie Teilnehmerzahl ist auf 50 Personen begrenzt.\nRegistierung: Hier\nBitte bringe Deinen Impfnachweis bzw. aktuellen Negativtest mit.
URL:https://la-danza.de/event/salsal-social-dance-party-nov/
LOCATION:La Danza –\, Engelbertstr. 29\, Köln\, 50674
CATEGORIES:Party
ORGANIZER;CN="La Danza Tanzzentrum":MAILTO:info@la-danza.de
GEO:19.4326077;-99.133208
X-APPLE-STRUCTURED-LOCATION;VALUE=URI;X-ADDRESS=La Danza – Engelbertstr. 29 Köln 50674;X-APPLE-RADIUS=500;X-TITLE=Engelbertstr. 29:geo:-99.133208,19.4326077
END:VEVENT
BEGIN:VEVENT
DTSTART;TZID=Europe/Berlin:20211113T203000
DTEND;TZID=Europe/Berlin:20211114T010000
DTSTAMP:20260420T070907
CREATED:20211111T152606Z
LAST-MODIFIED:20211118T103200Z
UID:10000189-1636835400-1636851600@la-danza.de
SUMMARY:Senso Bachata Familia - Social Dance
DESCRIPTION:Wir laden zum Senso Bachata social be La Danza ein! Organisiert mit Unterstützung des Senso Bachata-Teams. \n Die Teilnehmerzahl ist begrenzt. Teilnahme ist nur nach online-Registierung möglich. Bitte Hier registrieren\nBitte bringe Deinen Impfnachweis bzw. aktuellen Negativtest mit.
URL:https://la-danza.de/event/seno-bachta-social-dance-nov1/
LOCATION:La Danza –\, Engelbertstr. 29\, Köln\, 50674
CATEGORIES:Party
ORGANIZER;CN="La Danza Tanzzentrum":MAILTO:info@la-danza.de
GEO:19.4326077;-99.133208
X-APPLE-STRUCTURED-LOCATION;VALUE=URI;X-ADDRESS=La Danza – Engelbertstr. 29 Köln 50674;X-APPLE-RADIUS=500;X-TITLE=Engelbertstr. 29:geo:-99.133208,19.4326077
END:VEVENT
BEGIN:VEVENT
DTSTART;TZID=Europe/Berlin:20211113T170000
DTEND;TZID=Europe/Berlin:20211113T183000
DTSTAMP:20260420T070907
CREATED:20210928T204337Z
LAST-MODIFIED:20210928T204337Z
UID:10000181-1636822800-1636828200@la-danza.de
SUMMARY:Afrobeat / Ndombole
DESCRIPTION:Mady Keita aus Guinea leitet diesen hochwertigen Workshop mit Elementen des Afrohouse\, Afrobeat\, Ndombole und Afrodance.\nErmässigung für Studenten und Abonnenten von La Danza. \nTeilnahme nur nach Anmeldung. Hier kannst du buchen.
URL:https://la-danza.de/event/afrobeat-ndombole/
LOCATION:La Danza –\, Engelbertstr. 29\, Köln\, 50674
CATEGORIES:Workshops
ORGANIZER;CN="La Danza Tanzzentrum":MAILTO:info@la-danza.de
GEO:19.4326077;-99.133208
X-APPLE-STRUCTURED-LOCATION;VALUE=URI;X-ADDRESS=La Danza – Engelbertstr. 29 Köln 50674;X-APPLE-RADIUS=500;X-TITLE=Engelbertstr. 29:geo:-99.133208,19.4326077
END:VEVENT
BEGIN:VEVENT
DTSTART;TZID=Europe/Berlin:20211106T203000
DTEND;TZID=Europe/Berlin:20211107T003000
DTSTAMP:20260420T070907
CREATED:20211020T101653Z
LAST-MODIFIED:20211020T101653Z
UID:10000185-1636230600-1636245000@la-danza.de
SUMMARY:Bachata Sensual - Social Dance Party
DESCRIPTION:La Danza zum Bachata Social ein! \nDie Teilnehmerzahl ist auf 50 Personen begrenzt. \nTeilnahme ist nur nach online-Registierung möglich. \nRegistierung: Hier\nBitte bringe Deinen Impfnachweis bzw. aktuellen Negativtest mit.
URL:https://la-danza.de/event/bachata-sensual-social-dance-party/
LOCATION:La Danza –\, Engelbertstr. 29\, Köln\, 50674
CATEGORIES:Party
ORGANIZER;CN="La Danza Tanzzentrum":MAILTO:info@la-danza.de
GEO:19.4326077;-99.133208
X-APPLE-STRUCTURED-LOCATION;VALUE=URI;X-ADDRESS=La Danza – Engelbertstr. 29 Köln 50674;X-APPLE-RADIUS=500;X-TITLE=Engelbertstr. 29:geo:-99.133208,19.4326077
END:VEVENT
BEGIN:VEVENT
DTSTART;TZID=Europe/Berlin:20211106T203000
DTEND;TZID=Europe/Berlin:20211106T233000
DTSTAMP:20260420T070907
CREATED:20211008T121505Z
LAST-MODIFIED:20211008T121845Z
UID:10000182-1636230600-1636241400@la-danza.de
SUMMARY:Bachata Familia - Social Dance
DESCRIPTION:Wir laden zum Bachata social be La Danza ein! \n Die Teilnehmerzahl ist begrenzt. Teilnahme ist nur nach online-Registierung möglich. Bitte Hier registrieren\nBitte bringe Deinen Impfnachweis bzw. aktuellen Negativtest mit.
URL:https://la-danza.de/event/bachata-social-dance/
LOCATION:La Danza –\, Engelbertstr. 29\, Köln\, 50674
CATEGORIES:Party
ORGANIZER;CN="La Danza Tanzzentrum":MAILTO:info@la-danza.de
GEO:19.4326077;-99.133208
X-APPLE-STRUCTURED-LOCATION;VALUE=URI;X-ADDRESS=La Danza – Engelbertstr. 29 Köln 50674;X-APPLE-RADIUS=500;X-TITLE=Engelbertstr. 29:geo:-99.133208,19.4326077
END:VEVENT
BEGIN:VEVENT
DTSTART;TZID=Europe/Berlin:20211106T150000
DTEND;TZID=Europe/Berlin:20211106T200000
DTSTAMP:20260420T070907
CREATED:20211103T124115Z
LAST-MODIFIED:20211103T124243Z
UID:10000188-1636210800-1636228800@la-danza.de
SUMMARY:Bachata Sensual Workshop Weekend mit Alejandro und Elly
DESCRIPTION:Workshop schedule: \n15:00 bis 16:30 Uhr –  Level A1/2 (Anfänger mit und ohen Vorkenntnissen) \n16:45 bis 18:15 Uhr –   Level M und F: Mittelstufe und Fortgeschrittene (Enpfehlung ab mindestens 1 Jahr Bachata Sensual Erfahrung) \n18:30 bis 20:00 Uhr – Lady und Men Styling (open Level) \nErmässigung für Studenten und Abonnenten von La Danza. \nTeilnahme nur nach Anmeldung.   Bitte hier buchen.   Einzeln oder im Kombipack buchbar.
URL:https://la-danza.de/event/bachata-sensual-workshop-weekend-mit-alejandro-und-elly/
LOCATION:La Danza –\, Engelbertstr. 29\, Köln\, 50674
CATEGORIES:Workshops
ORGANIZER;CN="La Danza Tanzzentrum":MAILTO:info@la-danza.de
GEO:19.4326077;-99.133208
X-APPLE-STRUCTURED-LOCATION;VALUE=URI;X-ADDRESS=La Danza – Engelbertstr. 29 Köln 50674;X-APPLE-RADIUS=500;X-TITLE=Engelbertstr. 29:geo:-99.133208,19.4326077
END:VEVENT
BEGIN:VEVENT
DTSTART;TZID=Europe/Berlin:20211031T203000
DTEND;TZID=Europe/Berlin:20211101T030000
DTSTAMP:20260420T070907
CREATED:20211026T143058Z
LAST-MODIFIED:20211031T092406Z
UID:10000187-1635712200-1635735600@la-danza.de
SUMMARY:Salsa Konzert und Salsa & Bachata Workshop am 31.10.21
DESCRIPTION:Workshops und Salsa Konzert und am 31.10.21 (Helloween)\n18.30 – 19.45 Uhr / Salsa Cubana Workshop  mit Enrique & IlianaBachata  \n19.45 – 21.00 Uhr / Sensual Workshop mit Sergio & Volha \n21.00 – 22.00 Uhr / Salsa + Bachata Party \n22.00 – 00.00 Uhr / Live Konzert „Marcando“ \n00.00 – 03.00 Uhr / Salsa + Bachata Party \nFullpass (beide Workshops) VVK 45\,- (AK 50\,-) \nParty-Eintritt                            VVK 21\,- (AK 28\,-) \n  \nLocation: Herbrands\, Herbrandstr. 21\, Köln \nBitte bringe Deinen Impfnachweis (CovPass) bzw. aktuellen PCR-Negativtest mit.
URL:https://la-danza.de/event/salsa-konzert-und-salsa-bachata-workshop-am-31-10-21/
LOCATION:La Danza –\, Engelbertstr. 29\, Köln\, 50674
CATEGORIES:Party
ORGANIZER;CN="La Danza Tanzzentrum":MAILTO:info@la-danza.de
GEO:19.4326077;-99.133208
X-APPLE-STRUCTURED-LOCATION;VALUE=URI;X-ADDRESS=La Danza – Engelbertstr. 29 Köln 50674;X-APPLE-RADIUS=500;X-TITLE=Engelbertstr. 29:geo:-99.133208,19.4326077
END:VEVENT
BEGIN:VEVENT
DTSTART;TZID=Europe/Berlin:20211023T203000
DTEND;TZID=Europe/Berlin:20211024T003000
DTSTAMP:20260420T070907
CREATED:20211020T101519Z
LAST-MODIFIED:20211020T102326Z
UID:10000184-1635021000-1635035400@la-danza.de
SUMMARY:Senso Bachata - Social Dance Party
DESCRIPTION:Das Senso Bachata Team lädt zum Bachata Social Party bei La Danza ein! \n Du darfst Deine eigenen Getränke mitbringen. Alkoholfreie Getränke sind für 2\,- erhältlich.\nTeilnahme ist nur nach online-Registierung möglich. \nDie Teilnehmerzahl ist auf 50 Personen begrenzt. \n\nRegistierung: Hier\nBitte bringe Deinen Impfnachweis bzw. aktuellen Negativtest mit.
URL:https://la-danza.de/event/senso-bachata-social-dance-2/
LOCATION:La Danza –\, Engelbertstr. 29\, Köln\, 50674
CATEGORIES:Party
ORGANIZER;CN="La Danza Tanzzentrum":MAILTO:info@la-danza.de
GEO:19.4326077;-99.133208
X-APPLE-STRUCTURED-LOCATION;VALUE=URI;X-ADDRESS=La Danza – Engelbertstr. 29 Köln 50674;X-APPLE-RADIUS=500;X-TITLE=Engelbertstr. 29:geo:-99.133208,19.4326077
END:VEVENT
BEGIN:VEVENT
DTSTART;TZID=Europe/Berlin:20211016T203000
DTEND;TZID=Europe/Berlin:20211017T003000
DTSTAMP:20260420T070907
CREATED:20211012T162047Z
LAST-MODIFIED:20211012T163116Z
UID:10000183-1634416200-1634430600@la-danza.de
SUMMARY:Senso Bachata - Social Dance
DESCRIPTION:Das Senso Bachata Team lädt zum Bachata social be La Danza ein! \nDie Teilnehmerzahl ist auf 50 Personen begrenzt. \nTeilnahme ist nur nach online-Registierung möglich. \nRegistierung: Hier\nBitte bringe Deinen Impfnachweis bzw. aktuellen Negativtest mit.
URL:https://la-danza.de/event/senso-bachata-social-dance/
LOCATION:La Danza –\, Engelbertstr. 29\, Köln\, 50674
CATEGORIES:Party
ORGANIZER;CN="La Danza Tanzzentrum":MAILTO:info@la-danza.de
GEO:19.4326077;-99.133208
X-APPLE-STRUCTURED-LOCATION;VALUE=URI;X-ADDRESS=La Danza – Engelbertstr. 29 Köln 50674;X-APPLE-RADIUS=500;X-TITLE=Engelbertstr. 29:geo:-99.133208,19.4326077
END:VEVENT
BEGIN:VEVENT
DTSTART;TZID=Europe/Berlin:20211009T140000
DTEND;TZID=Europe/Berlin:20211010T163000
DTSTAMP:20260420T070907
CREATED:20210911T162439Z
LAST-MODIFIED:20210911T162439Z
UID:10000178-1633788000-1633883400@la-danza.de
SUMMARY:Salsa Cubana Anfänger (Level A1) - Sa. & So.
DESCRIPTION:Der beliebte zweitägige Wochenend Workshop beinhaltet Spaß und intensives Erlernen der Grundzüge des Tanzes Salsa Cubana. Du lernst die Grundschritte und das Führen und Folgen sowie schöne Kombinationen mit Drehungen und Platzwechsel. Du lernst Passo basico cubano\, Guapea\, Vuelta derecha\, Enchafa doble und Dile Que No. Du kannst Dich mit oder ohne Tanzpartner/in anmelden.\nErmässigung für Studenten und Abonnenten von La Danza. \nZeiten: Sa. und So.\, jeweils 14:00 bis 16:30 Uhr \nTeilnahme nur nach Anmeldung. Bitte hier buchen.
URL:https://la-danza.de/event/salsa-cubana-anfaenger-level-a1-sa-so-2/
LOCATION:La Danza –\, Engelbertstr. 29\, Köln\, 50674
CATEGORIES:Workshops
ATTACH;FMTTYPE=image/jpeg:https://la-danza.de/wp-content/uploads/2021/08/Salsa-Cubana-Uwe.jpg
ORGANIZER;CN="La Danza Tanzzentrum":MAILTO:info@la-danza.de
GEO:19.4326077;-99.133208
X-APPLE-STRUCTURED-LOCATION;VALUE=URI;X-ADDRESS=La Danza – Engelbertstr. 29 Köln 50674;X-APPLE-RADIUS=500;X-TITLE=Engelbertstr. 29:geo:-99.133208,19.4326077
END:VEVENT
BEGIN:VEVENT
DTSTART;TZID=Europe/Berlin:20210919T120000
DTEND;TZID=Europe/Berlin:20210919T133000
DTSTAMP:20260420T070907
CREATED:20210811T090739Z
LAST-MODIFIED:20210917T164752Z
UID:10000171-1632052800-1632058200@la-danza.de
SUMMARY:Afrobeat / Ndombole
DESCRIPTION:Mady Keita aus Guinea leitet diesen hochwertigen Workshop mit Elementen des Afrohouse\, Afrobeat\, Ndombole und Afrodance.\nErmässigung für Studenten und Abonnenten von La Danza. \nTeilnahme nur nach Anmeldung. Hier kannst du buchen.
URL:https://la-danza.de/event/salsa-social-workshop/
LOCATION:La Danza –\, Engelbertstr. 29\, Köln\, 50674
CATEGORIES:Workshops
ORGANIZER;CN="La Danza Tanzzentrum":MAILTO:info@la-danza.de
GEO:19.4326077;-99.133208
X-APPLE-STRUCTURED-LOCATION;VALUE=URI;X-ADDRESS=La Danza – Engelbertstr. 29 Köln 50674;X-APPLE-RADIUS=500;X-TITLE=Engelbertstr. 29:geo:-99.133208,19.4326077
END:VEVENT
BEGIN:VEVENT
DTSTART;TZID=Europe/Berlin:20210918T170000
DTEND;TZID=Europe/Berlin:20210918T190000
DTSTAMP:20260420T070907
CREATED:20210818T200941Z
LAST-MODIFIED:20210820T140409Z
UID:10000176-1631984400-1631991600@la-danza.de
SUMMARY:Bachata Sensual - Level A1
DESCRIPTION:Mady Keita aus Guinea leitet diesen Bachata Sensual Workshop.\nErmässigung für Student und Abonnenten von La Danza. \nTeilnahme nur nach Anmeldung. Hier kannst du buchen.
URL:https://la-danza.de/event/bachata-sensual-level-a1/
LOCATION:La Danza –\, Engelbertstr. 29\, Köln\, 50674
CATEGORIES:Workshops
ATTACH;FMTTYPE=image/jpeg:https://la-danza.de/wp-content/uploads/2021/08/Bachata-A1-Mady-2.jpg
ORGANIZER;CN="La Danza Tanzzentrum":MAILTO:info@la-danza.de
GEO:19.4326077;-99.133208
X-APPLE-STRUCTURED-LOCATION;VALUE=URI;X-ADDRESS=La Danza – Engelbertstr. 29 Köln 50674;X-APPLE-RADIUS=500;X-TITLE=Engelbertstr. 29:geo:-99.133208,19.4326077
END:VEVENT
BEGIN:VEVENT
DTSTART;TZID=Europe/Berlin:20210918T140000
DTEND;TZID=Europe/Berlin:20210919T163000
DTSTAMP:20260420T070907
CREATED:20210812T165134Z
LAST-MODIFIED:20210915T135438Z
UID:10000174-1631973600-1632069000@la-danza.de
SUMMARY:Salsa Cubana Anfänger (Level A1) - Sa. & So.
DESCRIPTION:Der beliebte zweitägige Wochenend Workshop beinhaltet Spaß und intensives Erlernen der Grundzüge des Tanzes Salsa Cubana. Du lernst die Grundschritte und das Führen und Folgen sowie schöne Kombinationen mit Drehungen und Platzwechsel. Du lernst Passo basico cubano\, Guapea\, Vuelta derecha\, Enchafa doble und Dile Que No. Du kannst Dich mit oder ohne Tanzpartner/in anmelden.\nErmässigung für Studenten und Abonnenten von La Danza. \n*Ausgebucht – Nur noch Plätze für einzelne Männer frei!* \nZeiten: Sa. und So.\, jeweils 14:00 bis 16:30 Uhr \nTeilnahme nur nach Anmeldung. Bitte hier buchen.
URL:https://la-danza.de/event/salsa-cubana-anfaenger-level-a1-sa-so/
LOCATION:La Danza –\, Engelbertstr. 29\, Köln\, 50674
CATEGORIES:Workshops
ATTACH;FMTTYPE=image/jpeg:https://la-danza.de/wp-content/uploads/2021/08/Salsa-Cubana-Uwe.jpg
ORGANIZER;CN="La Danza Tanzzentrum":MAILTO:info@la-danza.de
GEO:19.4326077;-99.133208
X-APPLE-STRUCTURED-LOCATION;VALUE=URI;X-ADDRESS=La Danza – Engelbertstr. 29 Köln 50674;X-APPLE-RADIUS=500;X-TITLE=Engelbertstr. 29:geo:-99.133208,19.4326077
END:VEVENT
BEGIN:VEVENT
DTSTART;TZID=Europe/Berlin:20210904T203000
DTEND;TZID=Europe/Berlin:20210904T233000
DTSTAMP:20260420T070907
CREATED:20210827T122244Z
LAST-MODIFIED:20210902T093152Z
UID:10000177-1630787400-1630798200@la-danza.de
SUMMARY:Salsa & Bachata Familia - Social Dance – Open Air
DESCRIPTION:Wir laden zum Salsa & Bachata social Dance Open Air ein!\nWegen der Negativnachweispflicht ist die Registrierung vor der Party über die Homepage notwendig! Hier registrieren \nBitte bringe Deinen Impfnachweis bzw. aktuelle Negativtest mit.
URL:https://la-danza.de/event/salsa-bachata-familia-social-dance-open-air/
LOCATION:Open Air Aachener Weiher\, Universtitätsstr. 100\, Köln\, Deutschland
CATEGORIES:Party
ORGANIZER;CN="La Danza Tanzzentrum":MAILTO:info@la-danza.de
END:VEVENT
BEGIN:VEVENT
DTSTART;TZID=Europe/Berlin:20210821T200000
DTEND;TZID=Europe/Berlin:20210821T233000
DTSTAMP:20260420T070907
CREATED:20210818T153813Z
LAST-MODIFIED:20210821T095647Z
UID:10000175-1629576000-1629588600@la-danza.de
SUMMARY:Bachata - Social Dance – Open Air
DESCRIPTION:Wir laden zum Bachata social Dance ein! – Mit Gast Dj’s Don Julio\, Micky!\nWegen der Negativnachweispflicht ist die Registrierung vor der Party über die Homepage notwendig! \nHier registrieren \nBitte bringe Deinen Impfnachweis bzw. aktuelle PCR-Negativtest mit.
URL:https://la-danza.de/event/bachata-social-dance-open-air/
LOCATION:Open Air Aachener Weiher\, Universtitätsstr. 100\, Köln\, Deutschland
CATEGORIES:Party
ORGANIZER;CN="La Danza Tanzzentrum":MAILTO:info@la-danza.de
END:VEVENT
BEGIN:VEVENT
DTSTART;TZID=Europe/Berlin:20210821T140000
DTEND;TZID=Europe/Berlin:20210821T163000
DTSTAMP:20260420T070907
CREATED:20210812T140809Z
LAST-MODIFIED:20210812T165033Z
UID:10000172-1629554400-1629563400@la-danza.de
SUMMARY:Salsa Cubana Anfänger (Level A1) - Sa. & So.
DESCRIPTION:Der beliebte zweitägige Wochenend Workshop beinhaltet Spaß und intensives Erlernen der Grundzüge des Tanzes Salsa Cubana. Du lernst die Grundschritte und das Führen und Folgen sowie schöne Kombinationen mit Drehungen und Platzwechsel. Du lernst Passo basico cubano\, Guapea\, Vuelta derecha\, Enchafa doble und Dile Que No. Du kannst Dich mit oder ohne Tanzpartner/in anmelden.\nErmässigung für Studenten und Abonnenten von La Danza. \nZeiten: Sa. und So.\, jeweils 14:00 bis 16:30 Uhr \nTeilnahme nur nach Anmeldung. Bitte hier buchen.
URL:https://la-danza.de/event/salsa-cubana-anfaenger-level-a1/
LOCATION:La Danza –\, Engelbertstr. 29\, Köln\, 50674
CATEGORIES:Workshops
ATTACH;FMTTYPE=image/jpeg:https://la-danza.de/wp-content/uploads/2021/08/Salsa-Cubana-Uwe.jpg
ORGANIZER;CN="La Danza Tanzzentrum":MAILTO:info@la-danza.de
GEO:19.4326077;-99.133208
X-APPLE-STRUCTURED-LOCATION;VALUE=URI;X-ADDRESS=La Danza – Engelbertstr. 29 Köln 50674;X-APPLE-RADIUS=500;X-TITLE=Engelbertstr. 29:geo:-99.133208,19.4326077
END:VEVENT
BEGIN:VEVENT
DTSTART;TZID=Europe/Berlin:20210821T110000
DTEND;TZID=Europe/Berlin:20210821T123000
DTSTAMP:20260420T070907
CREATED:20210812T141542Z
LAST-MODIFIED:20210820T165824Z
UID:10000173-1629543600-1629549000@la-danza.de
SUMMARY:Latin Fusion Lady Styling - Verschoben auf mittwochs ab 1. Sept.
DESCRIPTION:Caral Da Silva vermittelt Dir\, wie Du Dich zu lateinamerikanischer Musik\, wie Salsa\, Reggaeton und ALtunfusion Musuk schön und weiblich bewegen kannst.\nErmässigung für Studenten und Abonnenten von La Danza. \nTeilnahme nur nach Anmeldung. Hier kannst du buchen.
URL:https://la-danza.de/event/latin-fusion-lady-styling/
LOCATION:La Danza –\, Engelbertstr. 29\, Köln\, 50674
CATEGORIES:Workshops
ATTACH;FMTTYPE=image/jpeg:https://la-danza.de/wp-content/uploads/2021/03/Carla.jpg
ORGANIZER;CN="La Danza Tanzzentrum":MAILTO:info@la-danza.de
GEO:19.4326077;-99.133208
X-APPLE-STRUCTURED-LOCATION;VALUE=URI;X-ADDRESS=La Danza – Engelbertstr. 29 Köln 50674;X-APPLE-RADIUS=500;X-TITLE=Engelbertstr. 29:geo:-99.133208,19.4326077
END:VEVENT
BEGIN:VEVENT
DTSTART;TZID=Europe/Berlin:20210814T200000
DTEND;TZID=Europe/Berlin:20210815T010000
DTSTAMP:20260420T070907
CREATED:20210811T084523Z
LAST-MODIFIED:20210813T151110Z
UID:10000170-1628971200-1628989200@la-danza.de
SUMMARY:Salsa Familia - Social Dance – Open Air
DESCRIPTION:Wir laden zum Salsa social Dance ein!\nWegen der Negativnachweispflicht ist die Registrierung vor der Party über die Homepage notwendig! Hier registrieren \nBitte bringe Deinen Impfnachweis bzw. aktuelle Negativtest mit. Dei Teilnehmer zahl pro Gruppe ist auf 25 begrenzt. Es könne sich aber mehrere getrennte Gruppen mit Mindestabstand einfinden\, jeweils mit eigenr Nusik.
URL:https://la-danza.de/event/salsa-social-party-open-air/
LOCATION:Open Air Aachener Weiher\, Universtitätsstr. 100\, Köln\, Deutschland
CATEGORIES:Party
ORGANIZER;CN="La Danza Tanzzentrum":MAILTO:info@la-danza.de
END:VEVENT
BEGIN:VEVENT
DTSTART;TZID=Europe/Berlin:20210510T183000
DTEND;TZID=Europe/Berlin:20210510T233000
DTSTAMP:20260420T070907
CREATED:20210404T222130Z
LAST-MODIFIED:20210410T125842Z
UID:10000168-1620671400-1620689400@la-danza.de
SUMMARY:Salsa Party März 2021
DESCRIPTION:Donec mollis\, metus a varius faucibus\, est magna tempor mauris\, sit amet lobortis nunc sem non lectus. Proin vitae feugiat lorem\, nec lacinia massa. Integer interdum ipsum sed placerat posuere. Etiam dapibus ante in lacus lacinia\, non convallis quam luctus. Vivamus augue nibh\, fermentum quis justo sed\, fermentum maximus magna. Morbi venenatis eros velit\, elementum sodales turpis viverra at. Phasellus finibus mauris a massa malesuada faucibus. Duis euismod vehicula enim eu placerat. Aenean dictum eget lacus in fermentum. Cras ac ipsum imperdiet\, bibendum tortor quis\, mollis risus. Aliquam quis dapibus est. Vestibulum elementum\, ante nec tristique rutrum\, risus augue dapibus sem\, ut bibendum dolor urna sed lacus.
URL:https://la-danza.de/event/salsa-party-maerz-2021/
LOCATION:La Danza –\, Engelbertstr. 29\, Köln\, 50674
CATEGORIES:Party
ATTACH;FMTTYPE=image/jpeg:https://la-danza.de/wp-content/uploads/2015/04/Salsa-Party-1024x683-1.jpg
ORGANIZER;CN="La Danza Tanzzentrum":MAILTO:info@la-danza.de
GEO:19.4326077;-99.133208
X-APPLE-STRUCTURED-LOCATION;VALUE=URI;X-ADDRESS=La Danza – Engelbertstr. 29 Köln 50674;X-APPLE-RADIUS=500;X-TITLE=Engelbertstr. 29:geo:-99.133208,19.4326077
END:VEVENT
BEGIN:VEVENT
DTSTART;TZID=Europe/Berlin:20210501T183000
DTEND;TZID=Europe/Berlin:20210501T233000
DTSTAMP:20260420T070907
CREATED:20210404T222208Z
LAST-MODIFIED:20210410T125817Z
UID:10000169-1619893800-1619911800@la-danza.de
SUMMARY:Salsa Party April 2021
DESCRIPTION:Donec mollis\, metus a varius faucibus\, est magna tempor mauris\, sit amet lobortis nunc sem non lectus. Proin vitae feugiat lorem\, nec lacinia massa. Integer interdum ipsum sed placerat posuere. Etiam dapibus ante in lacus lacinia\, non convallis quam luctus. Vivamus augue nibh\, fermentum quis justo sed\, fermentum maximus magna. Morbi venenatis eros velit\, elementum sodales turpis viverra at. Phasellus finibus mauris a massa malesuada faucibus. Duis euismod vehicula enim eu placerat. Aenean dictum eget lacus in fermentum. Cras ac ipsum imperdiet\, bibendum tortor quis\, mollis risus. Aliquam quis dapibus est. Vestibulum elementum\, ante nec tristique rutrum\, risus augue dapibus sem\, ut bibendum dolor urna sed lacus.
URL:https://la-danza.de/event/salsa-party-april-2021/
LOCATION:La Danza –\, Engelbertstr. 29\, Köln\, 50674
CATEGORIES:Party
ATTACH;FMTTYPE=image/jpeg:https://la-danza.de/wp-content/uploads/2015/04/Salsa-Party-1024x683-1.jpg
ORGANIZER;CN="La Danza Tanzzentrum":MAILTO:info@la-danza.de
GEO:19.4326077;-99.133208
X-APPLE-STRUCTURED-LOCATION;VALUE=URI;X-ADDRESS=La Danza – Engelbertstr. 29 Köln 50674;X-APPLE-RADIUS=500;X-TITLE=Engelbertstr. 29:geo:-99.133208,19.4326077
END:VEVENT
BEGIN:VEVENT
DTSTART;TZID=Europe/Berlin:20210430T183000
DTEND;TZID=Europe/Berlin:20210430T233000
DTSTAMP:20260420T070907
CREATED:20150409T114857Z
LAST-MODIFIED:20210410T125858Z
UID:10000167-1619807400-1619825400@la-danza.de
SUMMARY:Salsa Party Februar 2021
DESCRIPTION:Donec mollis\, metus a varius faucibus\, est magna tempor mauris\, sit amet lobortis nunc sem non lectus. Proin vitae feugiat lorem\, nec lacinia massa. Integer interdum ipsum sed placerat posuere. Etiam dapibus ante in lacus lacinia\, non convallis quam luctus. Vivamus augue nibh\, fermentum quis justo sed\, fermentum maximus magna. Morbi venenatis eros velit\, elementum sodales turpis viverra at. Phasellus finibus mauris a massa malesuada faucibus. Duis euismod vehicula enim eu placerat. Aenean dictum eget lacus in fermentum. Cras ac ipsum imperdiet\, bibendum tortor quis\, mollis risus. Aliquam quis dapibus est. Vestibulum elementum\, ante nec tristique rutrum\, risus augue dapibus sem\, ut bibendum dolor urna sed lacus.
URL:https://la-danza.de/event/salsa-party-februar-2021/
LOCATION:La Danza –\, Engelbertstr. 29\, Köln\, 50674
CATEGORIES:Party
ATTACH;FMTTYPE=image/jpeg:https://la-danza.de/wp-content/uploads/2015/04/Salsa-Party-1024x683-1.jpg
ORGANIZER;CN="La Danza Tanzzentrum":MAILTO:info@la-danza.de
GEO:19.4326077;-99.133208
X-APPLE-STRUCTURED-LOCATION;VALUE=URI;X-ADDRESS=La Danza – Engelbertstr. 29 Köln 50674;X-APPLE-RADIUS=500;X-TITLE=Engelbertstr. 29:geo:-99.133208,19.4326077
END:VEVENT
END:VCALENDAR