BEGIN:VCALENDAR
VERSION:2.0
PRODID:-//La Danza Tanzzentrum - ECPv6.10.0//NONSGML v1.0//EN
CALSCALE:GREGORIAN
METHOD:PUBLISH
X-WR-CALNAME:La Danza Tanzzentrum
X-ORIGINAL-URL:https://la-danza.de
X-WR-CALDESC:Veranstaltungen für La Danza Tanzzentrum
REFRESH-INTERVAL;VALUE=DURATION:PT1H
X-Robots-Tag:noindex
X-PUBLISHED-TTL:PT1H
BEGIN:VTIMEZONE
TZID:Europe/Berlin
BEGIN:DAYLIGHT
TZOFFSETFROM:+0100
TZOFFSETTO:+0200
TZNAME:CEST
DTSTART:20240331T010000
END:DAYLIGHT
BEGIN:STANDARD
TZOFFSETFROM:+0200
TZOFFSETTO:+0100
TZNAME:CET
DTSTART:20241027T010000
END:STANDARD
END:VTIMEZONE
BEGIN:VEVENT
DTSTART;TZID=Europe/Berlin:20241012T130000
DTEND;TZID=Europe/Berlin:20241013T163000
DTSTAMP:20260422T105341
CREATED:20240704T083718Z
LAST-MODIFIED:20241010T091434Z
UID:10000369-1728738000-1728837000@la-danza.de
SUMMARY:Salsa Cubana Anfänger (Level A1) - Sa. & So.
DESCRIPTION:Der beliebte zweitägige Wochenend Workshop beinhaltet Spaß und intensives Erlernen der Grundzüge des Tanzes Salsa Cubana. Du lernst die Grundschritte und das Führen und Folgen sowie schöne Kombinationen mit Drehungen und Platzwechsel. Du lernst Passo basico cubano\, Guapea\, Vuelta derecha\, Enchafa doble und Dile Que No. Du kannst Dich mit oder ohne Tanzpartner/in anmelden.\nErmässigung für Studenten und Abonnenten von La Danza. \nDer Saal ist klimatisiert! \nZeiten: Sa. und So.\, jeweils 14:00 bis 16:30 Uhr \nTeilnahme nur nach Anmeldung. \nBitte hier buchen
URL:https://la-danza.de/event/salsa-cubana-anfaenger-level-a1-sa-so-20/
LOCATION:La Danza –\, Engelbertstr. 29\, Köln\, 50674
CATEGORIES:Workshops
GEO:19.4326077;-99.133208
X-APPLE-STRUCTURED-LOCATION;VALUE=URI;X-ADDRESS=La Danza – Engelbertstr. 29 Köln 50674;X-APPLE-RADIUS=500;X-TITLE=Engelbertstr. 29:geo:-99.133208,19.4326077
END:VEVENT
BEGIN:VEVENT
DTSTART;TZID=Europe/Berlin:20241012T203000
DTEND;TZID=Europe/Berlin:20241013T010000
DTSTAMP:20260422T105341
CREATED:20241011T161730Z
LAST-MODIFIED:20241011T161818Z
UID:10000378-1728765000-1728781200@la-danza.de
SUMMARY:Salsa Cubana Zone Practice Night
DESCRIPTION:Liebe Tänzerinnen und Tänzer\,\n\nherzlich willkommen zur Salsa Cubana Nacht! Wir laden euch ein\, gemeinsam eine unvergessliche Zeit zu erleben.\nBesonders aufregend wird unser exklusiver Salsa-Cubana DJ Alaui und der Workshop sein. Freut euch darauf\, nicht nur das Tanzen und die Salsa Cubana Stimmung zu erleben\, sondern auch jede Menge Spaß zur besten kubanischen Musik zu haben.\nAbendprogramm:\n\n– *20:30 Uhr: Salsa Cubana Level M Workshop\n– *21:30 Uhr: Salsa Cubana\, Timba\, Son\, Rumba Party mit DJ Alaui*\n\nDer gesamte Abend wird von 100 % authentischer kubanischer Musik begleitet. Beachtet bitte\, dass für die Workshops kein fester Tanzpartner benötigt wird.\nWir freuen uns darauf\, mit euch gemeinsam zu tanzen und einen unvergesslichen Tanzabend zu erleben!\nHerzliche Grüße\,\nLa Danza Team & Alaui ( Salsa y más)\nWo: Engelbertstr. 20. 50674 köln \nBringe Deine Getränke selber mit\, denke aber bitte daran\, Deine leeren Flaschen wieder mitzunehmen und den Platz sauber zu hinterlassen!
URL:https://la-danza.de/event/salsa-cubana-zone-practice-night-3/
LOCATION:La Danza –\, Engelbertstr. 29\, Köln\, 50674
CATEGORIES:Party,Workshops
ORGANIZER;CN="La Danza Tanzzentrum":MAILTO:info@la-danza.de
GEO:19.4326077;-99.133208
X-APPLE-STRUCTURED-LOCATION;VALUE=URI;X-ADDRESS=La Danza – Engelbertstr. 29 Köln 50674;X-APPLE-RADIUS=500;X-TITLE=Engelbertstr. 29:geo:-99.133208,19.4326077
END:VEVENT
BEGIN:VEVENT
DTSTART;TZID=Europe/Berlin:20241019T203000
DTEND;TZID=Europe/Berlin:20241020T010000
DTSTAMP:20260422T105341
CREATED:20241011T161028Z
LAST-MODIFIED:20241011T161922Z
UID:10000377-1729369800-1729386000@la-danza.de
SUMMARY:Bachata Community Social Night
DESCRIPTION:La Danza lädt wieder zur Bachata Community Night ein. \nab 20:30 Uhr Workshop \nab 21:30 Uhr Practice Night \nWo: La Danza – Engelbertstr. 29 \nBringe Deine Getränke selber mit\, denke aber bitte daran\, Deine leeren Flaschen wieder mitzunehmen und den Platz sauber zu hinterlassen! Für Deine Hilfe beim Einsammeln sind wir Dir sehr dankbar. Alkoholfreie Getränke sind für 2\,- Euro erhältlich.
URL:https://la-danza.de/event/bachata-community-social-night-3/
LOCATION:La Danza –\, Engelbertstr. 29\, Köln\, 50674
CATEGORIES:Party,Workshops
ORGANIZER;CN="La Danza Tanzzentrum":MAILTO:info@la-danza.de
GEO:19.4326077;-99.133208
X-APPLE-STRUCTURED-LOCATION;VALUE=URI;X-ADDRESS=La Danza – Engelbertstr. 29 Köln 50674;X-APPLE-RADIUS=500;X-TITLE=Engelbertstr. 29:geo:-99.133208,19.4326077
END:VEVENT
BEGIN:VEVENT
DTSTART;TZID=Europe/Berlin:20241026T140000
DTEND;TZID=Europe/Berlin:20241026T183000
DTSTAMP:20260422T105341
CREATED:20241019T135059Z
LAST-MODIFIED:20241019T140520Z
UID:10000379-1729951200-1729967400@la-danza.de
SUMMARY:Salsa Calena Bootcamp mit Michel Lozada (Colombia)
DESCRIPTION:Workshop Schedule \n14:00 h Salsa with Boogaloo – Open Level \n15:10 h Salsa Styling Lady / Man – Open Level \n16:20 h Salsa with Pachanga – Open Level \n17:30 h Salsodromo Showcases Intermediate Level \n\nTickets \n3 or 4 Workshop Pass : 55 € \n2 Workshops Pass :       35 € \n\nBuche hier  (Zahlbar vor Ort) \nWo: La Danza – Engelbertstr. 29
URL:https://la-danza.de/event/salsacalena-bootcamp/
LOCATION:La Danza –\, Engelbertstr. 29\, Köln\, 50674
CATEGORIES:Workshops
GEO:19.4326077;-99.133208
X-APPLE-STRUCTURED-LOCATION;VALUE=URI;X-ADDRESS=La Danza – Engelbertstr. 29 Köln 50674;X-APPLE-RADIUS=500;X-TITLE=Engelbertstr. 29:geo:-99.133208,19.4326077
END:VEVENT
BEGIN:VEVENT
DTSTART;TZID=Europe/Berlin:20241026T200000
DTEND;TZID=Europe/Berlin:20241027T030000
DTSTAMP:20260422T105341
CREATED:20240704T084243Z
LAST-MODIFIED:20241023T162104Z
UID:10000371-1729972800-1729998000@la-danza.de
SUMMARY:Danzalicious! Party - 26. Oktober !
DESCRIPTION: La Danza lädt wieder zur Danzalicious Party ein!\n \nLINE UP für 26. Oktober 2024:\n \n✨5WORKSHOPS \n\n\n➠ 20h Bachata Sensual – Werner & Ece           Rahmen als Hebel für smooth dancing (Improvers -Intermediate) \n➠ 20h Salsa Cubana – Enrique & Alice             Man Style und Lady Style in Partnerwork (Improvers Intermediate) \n➠ 21h Bachata Sensual – Vicky & Marquito    Circular Movements (Intermediate) \n➠ 21h Timba Cubana – Fabien & Alev              Timba Partnerwork (Improver) \n➠ 21h Kizomba – Maxwell & Sonja                    Saida Variations (Open Level) \n✨ Special Events:  \n– Nora´s Crew -High Heels Show\n– Ece´s Crew – Bachata Ladies Show\n– Reydel & D’Karlos (Live Musik) \n\n✨3 FLOORS: Salsa (Cubana/ Son)\, Bachata (Sensual)\, Kizomba/ Urban Kiz\n  DJ Belmar – Salsa Cubana\n DJ Orhanito  – Bachata Sensual\n DJ  Fola – Kizomba\n\n : Black & Gold\n\n \n✨PARTY ab 22 Uhr\nLocation: Weißhausstr. 21 – 50939 Köln\n \nVORVERKAUF – (der online-VVK* ist eröffnet und endet 25.10. 15 Uhr möglich)\nVVK Fullpass (Party-Eintritt + 5 Workshops nach Wahl )   Price:  30\,- Euro\nEintritt + 1 WS (21 oder 22 Uhr)                                                 Price: 25\,- Euro\nMindestverzehr an der AK 2\,50€\nBuche Dein/e VVK-Ticket/s ab sofort über EVENTIM\n \nABENDKASSE (Es gibt noch Tickets für Workshops und Eintritt an der Abendkasse)\nWorkshop-Pass:  25\,- Euro (Party-Eintritt + 1 Workshop 21 oder 22 Uhr)\nFullpass:               35\,- Euro (Party-Eintritt + 5 Workshops)\nEintritt:                 15 \,- Euro\n Mindestverzehr 2\,50 €\n \nUnser La Danza Ticketshop öffnet am 22.10.24 (*Workshop- und Partypässe nach Verfügbarkeit)
URL:https://la-danza.de/event/danzalicious-party-26-oktober/
LOCATION:CreaDance Tanzzentrum\, Weißhausstraße 21\, Köln\, 50939\, Deutschland
CATEGORIES:Party
ATTACH;FMTTYPE=image/png:https://la-danza.de/wp-content/uploads/2024/07/Danzalicious-5-Jubilaeum-Poster.png
ORGANIZER;CN="La Danza Tanzzentrum":MAILTO:info@la-danza.de
END:VEVENT
END:VCALENDAR