BEGIN:VCALENDAR
VERSION:2.0
PRODID:-//La Danza Tanzzentrum - ECPv6.10.0//NONSGML v1.0//EN
CALSCALE:GREGORIAN
METHOD:PUBLISH
X-WR-CALNAME:La Danza Tanzzentrum
X-ORIGINAL-URL:https://la-danza.de
X-WR-CALDESC:Veranstaltungen für La Danza Tanzzentrum
REFRESH-INTERVAL;VALUE=DURATION:PT1H
X-Robots-Tag:noindex
X-PUBLISHED-TTL:PT1H
BEGIN:VTIMEZONE
TZID:Europe/Berlin
BEGIN:DAYLIGHT
TZOFFSETFROM:+0100
TZOFFSETTO:+0200
TZNAME:CEST
DTSTART:20240331T010000
END:DAYLIGHT
BEGIN:STANDARD
TZOFFSETFROM:+0200
TZOFFSETTO:+0100
TZNAME:CET
DTSTART:20241027T010000
END:STANDARD
END:VTIMEZONE
BEGIN:VEVENT
DTSTART;TZID=Europe/Berlin:20240907T160000
DTEND;TZID=Europe/Berlin:20240907T173000
DTSTAMP:20260422T122327
CREATED:20240502T094236Z
LAST-MODIFIED:20240827T142818Z
UID:10000361-1725724800-1725730200@la-danza.de
SUMMARY:Twerk Basic mit Angi (confirmed)
DESCRIPTION:Thema: Twerk Basic \nLevel: Einsteiger \nTrainerin: Angi Mbugua – Instagram: itsangi.m \n\nWo: La Danza – Engelbertstr. 29 \nBook here
URL:https://la-danza.de/event/twerk-basic-mit-angi/
LOCATION:La Danza –\, Engelbertstr. 29\, Köln\, 50674
CATEGORIES:Workshops
GEO:19.4326077;-99.133208
X-APPLE-STRUCTURED-LOCATION;VALUE=URI;X-ADDRESS=La Danza – Engelbertstr. 29 Köln 50674;X-APPLE-RADIUS=500;X-TITLE=Engelbertstr. 29:geo:-99.133208,19.4326077
END:VEVENT
BEGIN:VEVENT
DTSTART;TZID=Europe/Berlin:20240919T180000
DTEND;TZID=Europe/Berlin:20240919T190000
DTSTAMP:20260422T122327
CREATED:20240827T141602Z
LAST-MODIFIED:20240918T114201Z
UID:10000374-1726768800-1726772400@la-danza.de
SUMMARY:Salsa lady Styling mit Iliana (4 weeks project)
DESCRIPTION:**Salsa Ladystyling Kurs** mit Schwerpunkt auf Bodymovement ist eine wunderbare Gelegenheit für Frauen\, ihre Weiblichkeit auf tiefere Weise zu erleben und auszudrücken. Der Kurs legt besonderen Wert auf geschmeidige\, fließende Bewegungen\, die die Eleganz und Anmut des eigenen Körpers betonen. Dabei geht es nicht nur um das Erlernen von Tanztechniken\, sondern vor allem darum\, das eigene Körpergefühl zu stärken und eine tiefere Verbindung zu sich selbst zu finden. \nDurch das intensive Training und die bewusste Körperarbeit lernen die Frauen\, sich in ihrer Haut wohler zu fühlen und ihre eigene Weiblichkeit mit Stolz und Freude auszudrücken. Der Kurs schafft einen Raum\, in dem jede Teilnehmerin ihre individuelle Schönheit und Stärke entdecken und entfalten kann. \nProjekttermine: 12.\, 19. 26. Sept. und 03. bzw. 10. Okt. \nPreis: 60\,- Euro. Ermäßigung mit Flatrate 40\,- Euro. Ab 2. Termin 45\,- Euro. \n\n\nWo: La Danza Saal 4 – Weyerstr. 68
URL:https://la-danza.de/event/salsa-lady-styling-iliana/
LOCATION:La Danza –\, Engelbertstr. 29\, Köln\, 50674
CATEGORIES:Workshops
GEO:19.4326077;-99.133208
X-APPLE-STRUCTURED-LOCATION;VALUE=URI;X-ADDRESS=La Danza – Engelbertstr. 29 Köln 50674;X-APPLE-RADIUS=500;X-TITLE=Engelbertstr. 29:geo:-99.133208,19.4326077
END:VEVENT
BEGIN:VEVENT
DTSTART;TZID=Europe/Berlin:20240921T203000
DTEND;TZID=Europe/Berlin:20240922T010000
DTSTAMP:20260422T122327
CREATED:20240919T105937Z
LAST-MODIFIED:20240919T105937Z
UID:10000376-1726950600-1726966800@la-danza.de
SUMMARY:Bachata Community Social Night
DESCRIPTION:La Danza lädt wieder zur Bachata Community Night ein. \n  \nWorkshop + Eintritt: 10\,- Euro \nWo: La Danza – Engelbertstr. 29 \nAlkoholfreie Getränke sind für 2\,- Euro erhältlich. Du darfst Deine alkohol. Getränke selber mitbringen\, denke aber bitte daran\, Deine leeren Flaschen wieder mitzunehmen und den Platz sauber zu hinterlassen!
URL:https://la-danza.de/event/bachata-community-social-night/
LOCATION:La Danza –\, Engelbertstr. 29\, Köln\, 50674
CATEGORIES:Party,Workshops
ORGANIZER;CN="La Danza Tanzzentrum":MAILTO:info@la-danza.de
GEO:19.4326077;-99.133208
X-APPLE-STRUCTURED-LOCATION;VALUE=URI;X-ADDRESS=La Danza – Engelbertstr. 29 Köln 50674;X-APPLE-RADIUS=500;X-TITLE=Engelbertstr. 29:geo:-99.133208,19.4326077
END:VEVENT
BEGIN:VEVENT
DTSTART;TZID=Europe/Berlin:20240926T190000
DTEND;TZID=Europe/Berlin:20240926T203000
DTSTAMP:20260422T122327
CREATED:20240918T122937Z
LAST-MODIFIED:20240923T184455Z
UID:10000375-1727377200-1727382600@la-danza.de
SUMMARY:Tango Argentino Level A1
DESCRIPTION:Thema: Tango Argentino \nLevel: Einsteiger (A1) \nThema: Denis und Natasha möchten Dir das Faszinierende diese Tanzes vermitteln. Sie werden nach einer kurzen Einführung zur Körperhaltung\, dem Gehen und der „Umarmung“ ein paar schöne Schrittkombinationen vermitteln. Du kannst Dich allein oder zu zweit anmelden. \nTrainer: Denis & Natasha (Buenos Aires) \n\nWo: La Danza – Aachener Str. 68 (Hinterhofsalon) \nPreis: 20\,- Euro – 5 \,- Euro Ermässigung für Abonnenten von La Danza. 7\,50 Euro Ermässigung\, wenn Du den Tango Kurs A1 (12 Wochen) buchst. \nBook here
URL:https://la-danza.de/event/tango-argentino-workshop/
LOCATION:Saal 3 (Hinterhofsalon)\, Aachener Str. 68 (Hinterhofsalon)\, Köln\, 50674\, Deutschland
CATEGORIES:Workshops
END:VEVENT
END:VCALENDAR