BEGIN:VCALENDAR
VERSION:2.0
PRODID:-//La Danza Tanzzentrum - ECPv6.10.0//NONSGML v1.0//EN
CALSCALE:GREGORIAN
METHOD:PUBLISH
X-WR-CALNAME:La Danza Tanzzentrum
X-ORIGINAL-URL:https://la-danza.de
X-WR-CALDESC:Veranstaltungen für La Danza Tanzzentrum
REFRESH-INTERVAL;VALUE=DURATION:PT1H
X-Robots-Tag:noindex
X-PUBLISHED-TTL:PT1H
BEGIN:VTIMEZONE
TZID:Europe/Berlin
BEGIN:DAYLIGHT
TZOFFSETFROM:+0100
TZOFFSETTO:+0200
TZNAME:CEST
DTSTART:20240331T010000
END:DAYLIGHT
BEGIN:STANDARD
TZOFFSETFROM:+0200
TZOFFSETTO:+0100
TZNAME:CET
DTSTART:20241027T010000
END:STANDARD
END:VTIMEZONE
BEGIN:VEVENT
DTSTART;TZID=Europe/Berlin:20240406T203000
DTEND;TZID=Europe/Berlin:20240407T010000
DTSTAMP:20260422T194400
CREATED:20240326T215620Z
LAST-MODIFIED:20240402T160407Z
UID:10000337-1712435400-1712451600@la-danza.de
SUMMARY:Kizomba Practice Night
DESCRIPTION:La Danza – Kizomba Social Dance Party \nNEW! Monthly – Every First Weekend \n**************************************\nPROGRAM \n20:30 – 21:30: Workshop – Urban Kiz Level M mit Oleg & Alica \n21:30 – 01:30 Social Dance Party mit best tunes von DJ Aaron \n**************************************\nEintritt an der Tür: 10€\nFür La Danza-Kursmitglieder: 8€ \nLocation: La Danza\nEngelbert Str. 29\, Köln \n**************************************\nWir freuen uns euch begrüßen zu dürfen und natürlich auf schöne Tänze. \n**************************************\nBringe Deine Getränke selber mit\, denke aber bitte daran\, Deine leeren Flaschen wieder mitzunehmen und den Platz sauber zu hinterlassen! Für Deine Hilfe beim Einsammeln sind wir Dir sehr dankbar. Alkoholfreie Getränke sind für 2\,-/2\,50 Euro erhältlich.
URL:https://la-danza.de/event/kizomba-practice-night/
LOCATION:La Danza –\, Engelbertstr. 29\, Köln\, 50674
CATEGORIES:Workshops
ATTACH;FMTTYPE=image/png:https://la-danza.de/wp-content/uploads/2024/03/Urban-Kiz-Social-Dance-instagram-story-1080-x-1350-px.png
ORGANIZER;CN="La Danza Tanzzentrum":MAILTO:info@la-danza.de
GEO:19.4326077;-99.133208
X-APPLE-STRUCTURED-LOCATION;VALUE=URI;X-ADDRESS=La Danza – Engelbertstr. 29 Köln 50674;X-APPLE-RADIUS=500;X-TITLE=Engelbertstr. 29:geo:-99.133208,19.4326077
END:VEVENT
BEGIN:VEVENT
DTSTART;TZID=Europe/Berlin:20240413T140000
DTEND;TZID=Europe/Berlin:20240414T163000
DTSTAMP:20260422T194400
CREATED:20240123T141712Z
LAST-MODIFIED:20240123T141712Z
UID:10000326-1713016800-1713112200@la-danza.de
SUMMARY:Salsa Cubana Anfänger (Level A1) - Sa. & So.
DESCRIPTION:Der beliebte zweitägige Wochenend Workshop beinhaltet Spaß und intensives Erlernen der Grundzüge des Tanzes Salsa Cubana. Du lernst die Grundschritte und das Führen und Folgen sowie schöne Kombinationen mit Drehungen und Platzwechsel. Du lernst Passo basico cubano\, Guapea\, Vuelta derecha\, Enchafa doble und Dile Que No. Du kannst Dich mit oder ohne Tanzpartner/in anmelden.\nErmässigung für Studenten und Abonnenten von La Danza. \nDer Saal ist klimatisiert! \nZeiten: Sa. und So.\, jeweils 14:00 bis 16:30 Uhr \nTeilnahme nur nach Anmeldung. \nBitte hier buchen
URL:https://la-danza.de/event/salsa-cubana-anfaenger-level-a1-sa-so-april/
LOCATION:La Danza –\, Engelbertstr. 29\, Köln\, 50674
CATEGORIES:Workshops
ATTACH;FMTTYPE=image/png:https://la-danza.de/wp-content/uploads/2023/08/Uwe-Workshops-6-7-Mai-Instagram-Beitrag-1-1.png
GEO:19.4326077;-99.133208
X-APPLE-STRUCTURED-LOCATION;VALUE=URI;X-ADDRESS=La Danza – Engelbertstr. 29 Köln 50674;X-APPLE-RADIUS=500;X-TITLE=Engelbertstr. 29:geo:-99.133208,19.4326077
END:VEVENT
BEGIN:VEVENT
DTSTART;TZID=Europe/Berlin:20240413T203000
DTEND;TZID=Europe/Berlin:20240414T010000
DTSTAMP:20260422T194400
CREATED:20240404T110326Z
LAST-MODIFIED:20240411T140318Z
UID:10000339-1713040200-1713056400@la-danza.de
SUMMARY:Salsa Cubana Zone Practice Night
DESCRIPTION:Liebe Tänzerinnen und Tänzer\,\n\nherzlich willkommen zur Salsa Cubana Nacht! Wir laden euch ein\, gemeinsam eine unvergessliche Zeit zu erleben.\nBesonders aufregend wird unser exklusiver Salsa-Cubana DJ Alaui und der Workshop sein. Freut euch darauf\, nicht nur das Tanzen und die Salsa Cubana Stimmung zu erleben\, sondern auch jede Menge Spaß zur besten kubanischen Musik zu haben.\nAbendprogramm:\n\n– *19:00 Uhr: Salsa Cubana Level M Workshop mit Elio\n– *20:00 Uhr: Salsa Cubana\, Timba\, Son\, Rumba Party mit DJ Alaui*\n\nDer gesamte Abend wird von 100 % authentischer kubanischer Musik begleitet. Beachtet bitte\, dass für die Workshops kein fester Tanzpartner benötigt wird.\nWir freuen uns darauf\, mit euch gemeinsam zu tanzen und einen unvergesslichen Tanzabend zu erleben!\nHerzliche Grüße\,\nLa Danza Team & Alaui ( Salsa y más)\nWir bitten für den Workshop und den Dj um eine Spende z.B: 5\,- Euro \nWo: Aachener Weiher (Universitätstr. 100\, Köln) \nBringe Deine Getränke selber mit\, denke aber bitte daran\, Deine leeren Flaschen wieder mitzunehmen und den Platz sauber zu hinterlassen!
URL:https://la-danza.de/event/salsa-cubana-zone-practice-night-2/
LOCATION:La Danza –\, Engelbertstr. 29\, Köln\, 50674
CATEGORIES:Workshops
ATTACH;FMTTYPE=image/png:https://la-danza.de/wp-content/uploads/2024/04/SALSA-ZONE-09.02.-Facebook-3.png
ORGANIZER;CN="La Danza Tanzzentrum":MAILTO:info@la-danza.de
GEO:19.4326077;-99.133208
X-APPLE-STRUCTURED-LOCATION;VALUE=URI;X-ADDRESS=La Danza – Engelbertstr. 29 Köln 50674;X-APPLE-RADIUS=500;X-TITLE=Engelbertstr. 29:geo:-99.133208,19.4326077
END:VEVENT
BEGIN:VEVENT
DTSTART;TZID=Europe/Berlin:20240420T133000
DTEND;TZID=Europe/Berlin:20240421T153000
DTSTAMP:20260422T194400
CREATED:20240123T172728Z
LAST-MODIFIED:20240316T122642Z
UID:10000328-1713619800-1713713400@la-danza.de
SUMMARY:Bachata Sensual Anfänger - Sa. & So.
DESCRIPTION:Der beliebte zweitägige Wochenend Workshop beinhaltet Spaß und intensives Erlernen der Grundzüge des Tanzes Bachata Sensual. Du lernst die Grundschritte und das Führen und Folgen sowie schöne Kombinationen. \nErmässigung für Studenten und Abonnenten von La Danza. \nDer Saal ist klimatisiert! \nZeiten: Sa. und So.\, jeweils 13:30 bis 15:30 Uhr \nTeilnahme nur nach Anmeldung. \nBitte hier buchen
URL:https://la-danza.de/event/bachata-sensual-anfaenger-sa-so-april/
LOCATION:La Danza –\, Engelbertstr. 29\, Köln\, 50674
CATEGORIES:Workshops
ATTACH;FMTTYPE=image/png:https://la-danza.de/wp-content/uploads/2024/01/Bachata-Workshops-A1-.png
GEO:19.4326077;-99.133208
X-APPLE-STRUCTURED-LOCATION;VALUE=URI;X-ADDRESS=La Danza – Engelbertstr. 29 Köln 50674;X-APPLE-RADIUS=500;X-TITLE=Engelbertstr. 29:geo:-99.133208,19.4326077
END:VEVENT
BEGIN:VEVENT
DTSTART;TZID=Europe/Berlin:20240420T213000
DTEND;TZID=Europe/Berlin:20240421T010000
DTSTAMP:20260422T194400
CREATED:20240411T140836Z
LAST-MODIFIED:20240418T181154Z
UID:10000340-1713648600-1713661200@la-danza.de
SUMMARY:Bachata Community Social Night
DESCRIPTION:La Danza lädt wieder zur Bachata Community Night ein. \n  \n  \nWorkshop + Eintritt: 15\,- Euro \nEintritt:                         10\,- Euro \nWo: La Danza – Engelbertstr. 29 \nBringe Deine Getränke selber mit\, denke aber bitte daran\, Deine leeren Flaschen wieder mitzunehmen und den Platz sauber zu hinterlassen! Für Deine Hilfe beim Einsammeln sind wir Dir sehr dankbar. Alkoholfreie Getränke sind für 2\,- Euro erhältlich.
URL:https://la-danza.de/event/bachata-community-night/
LOCATION:La Danza –\, Engelbertstr. 29\, Köln\, 50674
CATEGORIES:Workshops
ATTACH;FMTTYPE=image/png:https://la-danza.de/wp-content/uploads/2024/04/IG-Post-BC-Event-.png
ORGANIZER;CN="La Danza Tanzzentrum":MAILTO:info@la-danza.de
GEO:19.4326077;-99.133208
X-APPLE-STRUCTURED-LOCATION;VALUE=URI;X-ADDRESS=La Danza – Engelbertstr. 29 Köln 50674;X-APPLE-RADIUS=500;X-TITLE=Engelbertstr. 29:geo:-99.133208,19.4326077
END:VEVENT
BEGIN:VEVENT
DTSTART;TZID=Europe/Berlin:20240427T150000
DTEND;TZID=Europe/Berlin:20240427T163000
DTSTAMP:20260422T194400
CREATED:20240412T120649Z
LAST-MODIFIED:20240412T120649Z
UID:10000342-1714230000-1714235400@la-danza.de
SUMMARY:Timba Cubana (Level Mittelstufe) - Edson Blanco & Juan Salsa Champion
DESCRIPTION:Edson Blanco und Juan Parra werden zum ersten Mal exklusiv für uns in Köln unterrichten. Die Profi-Tänzer und Weltmeister in Salsa und Bachata werden uns in diesem Workshop ihre besten Schritte mit Schwerpunkt auf die beliebte kubanische Timba nahebringen.\n\nDauer des Workshops:\n90 Minuten\n\nLevel: Mittelstufe ( Sicher in Grundschritten und Rythmusgefühl – 12 bis 18 Monate Salsa Erfahrung)\n\nPreis: €23 (20€ für La Danza Abonnenten)\nAnmeldung: Bald online! Now just save the date \n\n\nStandort:\nEngelbert Str. 29 Köln\n\nWas ist kubanische Timba\, ist sie ein Tanzstil\, ist sie ein Musikgenre?\n\nKurz gesagt\, Timba ist ein Musikgenre kubanischen Ursprungs. Vielleicht ist das Hauptmerkmal der kubanischen Timba genau dieser Touch von Afro-Santeria\, gemischt mit Son und Rap\, sowie melodisch-harmonischen Linien mit jazzigen Saxophonen\, Trompeten und Trommelinstrumenten.\n\nWie tanzt man Timba\, ist es das Gleiche wie Casino-Salsa?\n\nNein\, sie wird „anders“ getanzt.\n\nVom Sicht der Tanzes\, des Tänzers oder des Rumbero\, wie der Timbero auch genannt wird\, muss man sagen\, dass die Timba der maximale Ausdruck des Tänzers ist\, abhängig von der Musik\, die er in einem bestimmten Moment hört\, dem Text des Liedes\, den Refrains\, der Perkussion.\n\nAndererseits kann man in ein und demselben Lied Casino tanzen und am Ende Timba und Despelote tanzen. Die Casino-Schritte zeichnen sich dadurch aus\, dass das Paar zusammenbleibt und eine Reihe von Drehungen und Figuren macht\, die ein gewisses Maß an Geschicklichkeit erfordern. Plötzlich\, wenn sich das Lied zu den Refrains und der Rumba hinbewegt\, die von Klavier-\, Bass-\, Perkussions- und Bläserklängen begleitet werden\, gibt es eine deutliche rhythmische Verschiebung im Lied\, die die Tänzerinnen und Tänzer auffordert\, sich voneinander zu lösen. Die Mädchen fangen an\, ihre Hüften in einem wilden Kreis zu bewegen\, mit den Armen in der Luft\, mit einem Hauch von Koketterie und Provokation\, die Jungen nehmen die Herausforderung an und bleiben bei ihnen\, indem sie den vacunao des guaguancó imitieren. Die kubanische Timba ist ein Synonym für Freude\, Rhythmus\, Koketterie und Provokation.\n\nJa\, am besten hört man Timba und tanzt Timba\, um ein wenig zu verstehen\, was es ist.\n\nMöchtest du erleben\, wie es ist\, kubanischen Timba zu tanzen?\nKomm gerne Vorbei \nBitte hier buchen
URL:https://la-danza.de/event/cubana-level-mittelstufe-edson-blanco-juan-salsa-champion/
LOCATION:La Danza –\, Engelbertstr. 29\, Köln\, 50674
CATEGORIES:Workshops
ATTACH;FMTTYPE=image/png:https://la-danza.de/wp-content/uploads/2024/04/Ready-Workshop-Edson-Instagram-Post.png
GEO:19.4326077;-99.133208
X-APPLE-STRUCTURED-LOCATION;VALUE=URI;X-ADDRESS=La Danza – Engelbertstr. 29 Köln 50674;X-APPLE-RADIUS=500;X-TITLE=Engelbertstr. 29:geo:-99.133208,19.4326077
END:VEVENT
BEGIN:VEVENT
DTSTART;TZID=Europe/Berlin:20240427T210000
DTEND;TZID=Europe/Berlin:20240428T030000
DTSTAMP:20260422T194400
CREATED:20240326T215934Z
LAST-MODIFIED:20240423T191050Z
UID:10000338-1714251600-1714273200@la-danza.de
SUMMARY:Danzalicious! Party - 27. April
DESCRIPTION: La Danza lädt wieder zur Danzalicious Party ein!\n \n✨3 FLOORS: Salsa (Cubana/ Son)\, Bachata (Sensual)\, Kizomba/ Urban Kiz\n \n✨3WORKSHOPS \n \n\n➠21h Salsa Cubana –  (Open level)\n➠20h Bachata meets Zouk – Fernando & Julia (Intermediate)\n➠21h Bachata Tradicional meets Sensual – Malu & Sergio (Intermediate)\n➠22h Urban Kiz –\n\nSalsa Animation\n\n DJ  – Salsa Cubana\nDJ  – Bachata\nDJ  – Urban Kizz\n : Elegant\n\n \n✨PARTY ab 22 Uhr\nLocation: Weißhausstr. 21. 50939 Köln\n \nVORVERKAUF – (der online-VVK ist bis 27.10. 13 Uhr möglich\, es gibt danach noch Tickets an AK)\nVVK Fullpass (Party-Eintritt + 3 Workshops nach Wahl )   Price:  30\,- Euro\nEintritt + 1 WS (21 oder 22 Uhr)                                                 Price: 25\,- Euro\n \nEintritt:               nur AK\nMindestverzehr an der AK\n \nABENDKASSE (Es gibt noch Tickets für Workshops und Eintritt an der Abendkasse)\nWorkshop-Pass:  25\,- Euro (Party-Eintritt + 1 Workshop 21 oder 22 Uhr)\nFullpass:               35\,- Euro (Party-Eintritt + 2 Workshops)\nEintritt:                 15 \,- Euro\n Mindestverzehr 2\,50 €\n*Workshop- und Partypässe nach Verfügbarkeit
URL:https://la-danza.de/event/danzalicious-party-27-april/
LOCATION:CreaDance Tanzzentrum\, Weißhausstraße 21\, Köln\, 50939\, Deutschland
CATEGORIES:Party
ATTACH;FMTTYPE=image/png:https://la-danza.de/wp-content/uploads/2024/03/Danzalicious2404-Instagram-1080-x-1350-px.png
ORGANIZER;CN="La Danza Tanzzentrum":MAILTO:info@la-danza.de
END:VEVENT
END:VCALENDAR