BEGIN:VCALENDAR
VERSION:2.0
PRODID:-//La Danza Tanzzentrum - ECPv6.10.0//NONSGML v1.0//EN
CALSCALE:GREGORIAN
METHOD:PUBLISH
X-WR-CALNAME:La Danza Tanzzentrum
X-ORIGINAL-URL:https://la-danza.de
X-WR-CALDESC:Veranstaltungen für La Danza Tanzzentrum
REFRESH-INTERVAL;VALUE=DURATION:PT1H
X-Robots-Tag:noindex
X-PUBLISHED-TTL:PT1H
BEGIN:VTIMEZONE
TZID:Europe/Berlin
BEGIN:DAYLIGHT
TZOFFSETFROM:+0100
TZOFFSETTO:+0200
TZNAME:CEST
DTSTART:20230326T010000
END:DAYLIGHT
BEGIN:STANDARD
TZOFFSETFROM:+0200
TZOFFSETTO:+0100
TZNAME:CET
DTSTART:20231029T010000
END:STANDARD
END:VTIMEZONE
BEGIN:VEVENT
DTSTART;TZID=Europe/Berlin:20231021T140000
DTEND;TZID=Europe/Berlin:20231022T163000
DTSTAMP:20260423T044807
CREATED:20230707T165108Z
LAST-MODIFIED:20230707T165108Z
UID:10000305-1697896800-1697992200@la-danza.de
SUMMARY:Salsa Cubana Anfänger (Level A2) - Sa. & So.
DESCRIPTION:Die Aufbaustufe des beliebten zweitägigen Wochenend Workshops beinhaltet die Wiederholung der Inhalte des Level  A1\, Spaß und Erlernen der weiterführenden Komniationen des Tanzes Salsa Cubana. Du festigst das Führen und Folgen\, die Drehungen Vuelta derecha und Enchufa doble sowie das wichtige Bindungelement Dile que no. Dann folgen sowie schöne Kombinationen mit Handwechsel\, Carizia und „Sombreros“. Du kannst Dich mit oder ohne Tanzpartner/in anmelden.\nErmässigung für Studenten und Abonnenten von La Danza. \nDer Saal ist klimatisiert! \nZeiten: Sa. und So.\, jeweils 14:00 bis 16:30 Uhr \nTeilnahme nur nach Anmeldung. \nBitte hier buchen
URL:https://la-danza.de/event/salsa-cubana-anfaenger-level-a2-sa-so/
LOCATION:La Danza –\, Engelbertstr. 29\, Köln\, 50674
CATEGORIES:Workshops
ATTACH;FMTTYPE=image/jpeg:https://la-danza.de/wp-content/uploads/2021/08/Salsa-Cubana-Uwe.jpg
GEO:19.4326077;-99.133208
X-APPLE-STRUCTURED-LOCATION;VALUE=URI;X-ADDRESS=La Danza – Engelbertstr. 29 Köln 50674;X-APPLE-RADIUS=500;X-TITLE=Engelbertstr. 29:geo:-99.133208,19.4326077
END:VEVENT
BEGIN:VEVENT
DTSTART;TZID=Europe/Berlin:20231028T140000
DTEND;TZID=Europe/Berlin:20231029T160000
DTSTAMP:20260423T044807
CREATED:20230627T150217Z
LAST-MODIFIED:20230629T172145Z
UID:10000303-1698501600-1698595200@la-danza.de
SUMMARY:Bachata Sensual Anfänger mit Sonu & Annika - Sa. & So.
DESCRIPTION:Der beliebte zweitägige Wochenend Workshop beinhaltet Spaß und intensives Erlernen der Grundzüge des Tanzes Bachata Sensual. Du lernst die Grundschritte und das Führen und Folgen sowie schöne Kombinationen.\nErmässigung für Studenten und Abonnenten von La Danza. \nÜber die Dozenten: \nSonu und Annika tanzen ein ganzes Leben lang und haben schon viele verschiedene Tanzstile getanzt.\nSonu: „Unser Herz hängt schon lange an Bachata. Annika unterrichtet schon seit 2017 und ich seit 2019. Wir beide geben regelmäßige Kurse und Workshops in verschiedenen Städten. Uns ist Technik\, Sicherheit und vor allem Spaß in unseren Kursen das Wichtigste! Wir wollen\, dass du dich in unseren Kursen wohlfühlen kannst und freuen uns\, mit dir deine ersten Bachata Steps zu machen“. \nDer Saal ist klimatisiert! \nZeiten: Sa. und So.\, jeweils 14:00 bis 16:00 Uhr \nTeilnahme nur nach Anmeldung. \nBitte hier buchen
URL:https://la-danza.de/event/bachata-sensual-anfaenger-mit-sonu-annika-sa-so-okt/
LOCATION:La Danza –\, Engelbertstr. 29\, Köln\, 50674
CATEGORIES:Workshops
GEO:19.4326077;-99.133208
X-APPLE-STRUCTURED-LOCATION;VALUE=URI;X-ADDRESS=La Danza – Engelbertstr. 29 Köln 50674;X-APPLE-RADIUS=500;X-TITLE=Engelbertstr. 29:geo:-99.133208,19.4326077
END:VEVENT
BEGIN:VEVENT
DTSTART;TZID=Europe/Berlin:20231028T200000
DTEND;TZID=Europe/Berlin:20231029T030000
DTSTAMP:20260423T044807
CREATED:20230907T145632Z
LAST-MODIFIED:20231026T123914Z
UID:10000311-1698523200-1698548400@la-danza.de
SUMMARY:Danzalicious! Party - 28. Oktober Helloween Edition
DESCRIPTION: La Danza lädt wieder zur Danzalicious Party ein!\n \n✨3 FLOORS: Salsa (Cubana/ Son)\, Bachata (Sensual)\, Zouk\n \n✨5 WORKSHOPS \n \n20h Rueda De Casino (Open level)                                       Luca\n20h Bachata Fusion Flow (Intermed.)                                Charlie & Corinna                                                         \n21h Salsa Fusion (Intermediate)                                           Carlos Anton                         \n21h Bachata Sensual Boddy Isolation (Advanced)           Sonu & Annika                                            \n\n22h Urban Kiz Kizomba (All Level )                                  Oleg\n \n✨ Animation & Show:\nSalsa mit Carlos Anton & Malu\n \n✨4 DJS\nDJ Barnabe              Salsa Cubana/Timba\nDJ Enrique              Salsa Cubana/Timba\nDJ Orhanito            Bachata\nDJ Parjas                 Kizomba\n \n✨PARTY ab 22 Uhr\nLocation: Weißhausstr. 21. 50939 Köln\n \nVORVERKAUF – (der online-VVK ist bis 27.10. 13 Uhr möglich\, es gibt danach noch Tickets an AK)\nVVK Fullpass (Party-Eintritt + 3 Workshops nach Wahl )   Price:  30\,- Euro\nEintritt + 1 WS (21 oder 22 Uhr)                                                 Price: 25\,- Euro\n \nEintritt:               nur AK\nMindestverzehr an der AK\n \nABENDKASSE (Es gibt noch Tickets für Workshops und Eintritt an der Abendkasse)\nWorkshop-Pass:  25\,- Euro (Party-Eintritt + 1 Workshop 21 oder 22 Uhr)\nFullpass:               35\,- Euro (Party-Eintritt + 3 Workshops)\nEintritt:                 15 \,- Euro\n Mindestverzehr 2\,50 €\n*Workshop- und Partypässe nach Verfügbarkeit
URL:https://la-danza.de/event/danzalicious-party-28-oktober-helloween-edition/
LOCATION:CreaDance Tanzzentrum\, Weißhausstraße 21\, Köln\, 50939\, Deutschland
CATEGORIES:Party
ATTACH;FMTTYPE=image/png:https://la-danza.de/wp-content/uploads/2023/09/Entwurf-Danzalicious-October-28-Facebook-1080-×-1350-px-Facebook-Event-Titelbild.png
ORGANIZER;CN="La Danza Tanzzentrum":MAILTO:info@la-danza.de
END:VEVENT
END:VCALENDAR