BEGIN:VCALENDAR
VERSION:2.0
PRODID:-//La Danza Tanzzentrum - ECPv6.10.0//NONSGML v1.0//EN
CALSCALE:GREGORIAN
METHOD:PUBLISH
X-WR-CALNAME:La Danza Tanzzentrum
X-ORIGINAL-URL:https://la-danza.de
X-WR-CALDESC:Veranstaltungen für La Danza Tanzzentrum
REFRESH-INTERVAL;VALUE=DURATION:PT1H
X-Robots-Tag:noindex
X-PUBLISHED-TTL:PT1H
BEGIN:VTIMEZONE
TZID:Europe/Berlin
BEGIN:DAYLIGHT
TZOFFSETFROM:+0100
TZOFFSETTO:+0200
TZNAME:CEST
DTSTART:20230326T010000
END:DAYLIGHT
BEGIN:STANDARD
TZOFFSETFROM:+0200
TZOFFSETTO:+0100
TZNAME:CET
DTSTART:20231029T010000
END:STANDARD
END:VTIMEZONE
BEGIN:VEVENT
DTSTART;TZID=Europe/Berlin:20230805T140000
DTEND;TZID=Europe/Berlin:20230806T163000
DTSTAMP:20260423T071140
CREATED:20230417T110108Z
LAST-MODIFIED:20230727T182039Z
UID:10000293-1691244000-1691339400@la-danza.de
SUMMARY:Salsa Cubana Anfänger (Level A1) - Sa. & So.
DESCRIPTION:Der beliebte zweitägige Wochenend Workshop beinhaltet Spaß und intensives Erlernen der Grundzüge des Tanzes Salsa Cubana. Du lernst die Grundschritte und das Führen und Folgen sowie schöne Kombinationen mit Drehungen und Platzwechsel. Du lernst Passo basico cubano\, Guapea\, Vuelta derecha\, Enchafa doble und Dile Que No. Du kannst Dich mit oder ohne Tanzpartner/in anmelden.\nErmässigung für Studenten und Abonnenten von La Danza. \nOnly Places for men/leaders and couples left! \nDer Saal ist klimatisiert! \nZeiten: Sa. und So.\, jeweils 14:00 bis 16:30 Uhr \nTeilnahme nur nach Anmeldung. \nBitte hier buchen
URL:https://la-danza.de/event/salsa-cubana-anfaenger-level-a1-sa-so-aug/
LOCATION:La Danza –\, Engelbertstr. 29\, Köln\, 50674
CATEGORIES:Workshops
ATTACH;FMTTYPE=image/jpeg:https://la-danza.de/wp-content/uploads/2021/08/Salsa-Cubana-Uwe.jpg
GEO:19.4326077;-99.133208
X-APPLE-STRUCTURED-LOCATION;VALUE=URI;X-ADDRESS=La Danza – Engelbertstr. 29 Köln 50674;X-APPLE-RADIUS=500;X-TITLE=Engelbertstr. 29:geo:-99.133208,19.4326077
END:VEVENT
BEGIN:VEVENT
DTSTART;TZID=Europe/Berlin:20230812T140000
DTEND;TZID=Europe/Berlin:20230813T160000
DTSTAMP:20260423T071140
CREATED:20230622T151408Z
LAST-MODIFIED:20230707T154723Z
UID:10000302-1691848800-1691942400@la-danza.de
SUMMARY:Bachata Sensual Anfänger mit Sonu & Annika - Sa. & So.
DESCRIPTION:Der beliebte zweitägige Wochenend Workshop beinhaltet Spaß und intensives Erlernen der Grundzüge des Tanzes Bachata Sensual. Du lernst die Grundschritte und das Führen und Folgen sowie schöne Kombinationen.\nErmässigung für Studenten und Abonnenten von La Danza. \nÜber die Dozenten: \nSonu und Annika tanzen ein ganzes Leben lang und haben schon viele verschiedene Tanzstile getanzt.\nSonu: „Unser Herz hängt schon lange an Bachata. Annika unterrichtet schon seit 2017 und ich seit 2019. Wir beide geben regelmäßige Kurse und Workshops in verschiedenen Städten. Uns ist Technik\, Sicherheit und vor allem Spaß in unseren Kursen das Wichtigste! Wir wollen\, dass du dich in unseren Kursen wohlfühlen kannst und freuen uns\, mit dir deine ersten Bachata Steps zu machen“. \nDer Saal ist klimatisiert! \nZeiten: Sa. und So.\, jeweils 14:00 bis 16:00 Uhr \nTeilnahme nur nach Anmeldung. \nBitte hier buchen
URL:https://la-danza.de/event/bachata-sensual-anfaenger-mit-sonu-annika-sa-so-aug/
LOCATION:La Danza –\, Engelbertstr. 29\, Köln\, 50674
CATEGORIES:Workshops
GEO:19.4326077;-99.133208
X-APPLE-STRUCTURED-LOCATION;VALUE=URI;X-ADDRESS=La Danza – Engelbertstr. 29 Köln 50674;X-APPLE-RADIUS=500;X-TITLE=Engelbertstr. 29:geo:-99.133208,19.4326077
END:VEVENT
BEGIN:VEVENT
DTSTART;TZID=Europe/Berlin:20230826T200000
DTEND;TZID=Europe/Berlin:20230827T030000
DTSTAMP:20260423T071140
CREATED:20230630T161319Z
LAST-MODIFIED:20230805T160544Z
UID:10000304-1693080000-1693105200@la-danza.de
SUMMARY:Danzalicious! Party - 26. August Sommer Edition
DESCRIPTION: \n \nLa Danza lädt wieder zur Danzalicious Party ein!\n \n✨3 FLOORS: Salsa (Cubana/ Son)\, Bachata (Sensual)\, Zouk\n \n✨5 WORKSHOPS (in Vorbereitung)\n \n20h Yago: Timba Cubana (Open level)                                              \n20h Werner & Lucia: Bachata Sensual (Level M)                                                                  \n21h Enrique & Iljana: Son Cubano (Open level)                          \n21h Shabab & Jasmin: Bachata Sensual (Leve Ml)                                            \n\n22h Tiago & Emilia: Zouk ( Open Level )\n \n✨ Animation:\nSalsa Animation mit Enrique & Yago\n \n✨3 DJS\nDJ Belmar: Salsa Cubana\nDJ Vilson : Bachata\nDJ  Tiago: Zouk\n \n✨PARTY ab 22 Uhr\nLocation: Weißhausstr. 21. 50939 Köln\n \nVORVERKAUF – (der online-VVK ist beendet\, es gibt aber noch Tickets an AK)\nVVK Fullpass Price:   30\,- Euro (Party-Eintritt + 3 Workshops nach Wahl ) \nEintritt + 1 WS: 25\,- Euro\n \nEintritt:               nur AK\nMindestverzehr an der AK 2\,50 €\n \nABENDKASSE (Es gibt noch Tickets für Workshops und Eintritt an der Abendkasse)\nWorkshop-Pass:  25\,- Euro (Party-Eintritt + 1 Workshop)\nFullpass:               35\,- Euro (Party-Eintritt + 3 Workshops)\nEintritt:                 15 \,- Euro\n Mindestverzehr 2\,50 €\n*Workshop- und Partypässe nach Verfügbarkeit
URL:https://la-danza.de/event/danzalicious-party-26-august-sommer-edition/
LOCATION:CreaDance Tanzzentrum\, Weißhausstraße 21\, Köln\, 50939\, Deutschland
CATEGORIES:Party
ORGANIZER;CN="La Danza Tanzzentrum":MAILTO:info@la-danza.de
END:VEVENT
END:VCALENDAR