BEGIN:VCALENDAR
VERSION:2.0
PRODID:-//La Danza Tanzzentrum - ECPv6.10.0//NONSGML v1.0//EN
CALSCALE:GREGORIAN
METHOD:PUBLISH
X-WR-CALNAME:La Danza Tanzzentrum
X-ORIGINAL-URL:https://la-danza.de
X-WR-CALDESC:Veranstaltungen für La Danza Tanzzentrum
REFRESH-INTERVAL;VALUE=DURATION:PT1H
X-Robots-Tag:noindex
X-PUBLISHED-TTL:PT1H
BEGIN:VTIMEZONE
TZID:Europe/Berlin
BEGIN:DAYLIGHT
TZOFFSETFROM:+0100
TZOFFSETTO:+0200
TZNAME:CEST
DTSTART:20230326T010000
END:DAYLIGHT
BEGIN:STANDARD
TZOFFSETFROM:+0200
TZOFFSETTO:+0100
TZNAME:CET
DTSTART:20231029T010000
END:STANDARD
END:VTIMEZONE
BEGIN:VEVENT
DTSTART;TZID=Europe/Berlin:20230610T153000
DTEND;TZID=Europe/Berlin:20230610T193000
DTSTAMP:20260423T094849
CREATED:20230604T144422Z
LAST-MODIFIED:20230604T144422Z
UID:10000299-1686411000-1686425400@la-danza.de
SUMMARY:Zouk Bootcamp (Part 1)
DESCRIPTION:IT´S TIME TO LEARN ZOUK\nBEGINNERS BOOTCAMP IN COLOGNE\nWe offer you 2 DAYS IN JUNE\, where you can learn or improve your Brazilian Zouk Basics \nTiago & Emilia join forces with LaDanza and we offer you 4 hour workshops on the 10th and 17th of June! Those two days will focus on two different main topics\, but you get the optimal learning effect from doing both!\nthe classes will be in the dance school LaDanza\nLocal: Engelbertstraße 29\, 50674 köln\nTime: 15:30h\nPlease write us an E-mail including the following aspects to:\n info@onlinezoukschool.com\n Name\n Role (Leader or Follower)\n Zouk or Dance Experience\n LaDanza member or external participants\n TOPICS!\nOn the 10th we will talk about the linear dynamics of Zouk\nAnd on 17th we will talk about the circular dynamic of Zouk\nBoth are for beginners with no knowledge or for dancers\, that want to dive deep into their Zouk Basics and improve!\nCosts\nPer Workshop\n45€ Early Bird (until 9th for the first and until the 16th for the second Workshop)\n55€ At the door\nFull Pass\n80€ for both days\nWe can’t wait to see you \nVisit our website or our YouTube for more Zouk Content\nwww.onlinezoukschool.com\n\nKomm gerne Vorbei \n\nBitte hier buchen!
URL:https://la-danza.de/event/zouk-june-1/
LOCATION:La Danza –\, Engelbertstr. 29\, Köln\, 50674
CATEGORIES:Workshops
GEO:19.4326077;-99.133208
X-APPLE-STRUCTURED-LOCATION;VALUE=URI;X-ADDRESS=La Danza – Engelbertstr. 29 Köln 50674;X-APPLE-RADIUS=500;X-TITLE=Engelbertstr. 29:geo:-99.133208,19.4326077
END:VEVENT
BEGIN:VEVENT
DTSTART;TZID=Europe/Berlin:20230610T200000
DTEND;TZID=Europe/Berlin:20230611T010000
DTSTAMP:20260423T094849
CREATED:20230608T220642Z
LAST-MODIFIED:20230608T220642Z
UID:10000301-1686427200-1686445200@la-danza.de
SUMMARY:Open Air Salsa & Bachata Social Dance Party & Workshop 10. Juni
DESCRIPTION:La Danza lädt wieder zur Salsa & Bachata Social Dance Party ein. \nAb 20 Uhr Workshop Salsa Casino mit YAGO\nWorkshop 5\,- Euro\nab 21 Uhr Party outdoor frei \nWo:\nAachener Weiher (Universitätsstraße 100).\nBei schlechtem Wetter: La Danza – Engelbertstr. 29\nBringe Deine Getränke selber mit\, denke aber bitte daran\, Deine leeren Flaschen wieder mitzunehmen und den Platz sauber zu hinterlassen! Für Deine Hilfe beim Einsammeln sind wir Dir sehr dankbar.\nWir freuen uns auf euch!
URL:https://la-danza.de/event/open-air-salsa-social-dance-party-workshop-10-juni/
LOCATION:La Danza –\, Engelbertstr. 29\, Köln\, 50674
CATEGORIES:Party
ORGANIZER;CN="La Danza Tanzzentrum":MAILTO:info@la-danza.de
GEO:19.4326077;-99.133208
X-APPLE-STRUCTURED-LOCATION;VALUE=URI;X-ADDRESS=La Danza – Engelbertstr. 29 Köln 50674;X-APPLE-RADIUS=500;X-TITLE=Engelbertstr. 29:geo:-99.133208,19.4326077
END:VEVENT
BEGIN:VEVENT
DTSTART;TZID=Europe/Berlin:20230617T153000
DTEND;TZID=Europe/Berlin:20230617T193000
DTSTAMP:20260423T094849
CREATED:20230604T144531Z
LAST-MODIFIED:20230604T144531Z
UID:10000300-1687015800-1687030200@la-danza.de
SUMMARY:Zouk Bootcamp (Part 2)
DESCRIPTION:IT´S TIME TO LEARN ZOUK\nBEGINNERS BOOTCAMP IN COLOGNE\nWe offer you 2 DAYS IN JUNE\, where you can learn or improve your Brazilian Zouk Basics \nTiago & Emilia join forces with LaDanza and we offer you 4 hour workshops on the 10th and 17th of June! Those two days will focus on two different main topics\, but you get the optimal learning effect from doing both!\nthe classes will be in the dance school LaDanza\nLocal: Engelbertstraße 29\, 50674 köln\nTime: 15:30h\nPlease write us an E-mail including the following aspects to:\n info@onlinezoukschool.com\n Name\n Role (Leader or Follower)\n Zouk or Dance Experience\n LaDanza member or external participants\n TOPICS!\nOn the 10th we will talk about the linear dynamics of Zouk\nAnd on 17th we will talk about the circular dynamic of Zouk\nBoth are for beginners with no knowledge or for dancers\, that want to dive deep into their Zouk Basics and improve!\nCosts\nPer Workshop\n45€ Early Bird (until 9th for the first and until the 16th for the second Workshop)\n55€ At the door\nFull Pass\n80€ for both days\nWe can’t wait to see you \nVisit our website or our YouTube for more Zouk Content\nwww.onlinezoukschool.com\n\nKomm gerne Vorbei \n\nBitte hier buchen!
URL:https://la-danza.de/event/zouk-bootcamp-part-2/
LOCATION:La Danza –\, Engelbertstr. 29\, Köln\, 50674
CATEGORIES:Workshops
GEO:19.4326077;-99.133208
X-APPLE-STRUCTURED-LOCATION;VALUE=URI;X-ADDRESS=La Danza – Engelbertstr. 29 Köln 50674;X-APPLE-RADIUS=500;X-TITLE=Engelbertstr. 29:geo:-99.133208,19.4326077
END:VEVENT
BEGIN:VEVENT
DTSTART;TZID=Europe/Berlin:20230624T140000
DTEND;TZID=Europe/Berlin:20230625T163000
DTSTAMP:20260423T094849
CREATED:20230429T160253Z
LAST-MODIFIED:20230429T160253Z
UID:10000296-1687615200-1687710600@la-danza.de
SUMMARY:Salsa Cubana Anfänger (Level A1) - Sa. & So.
DESCRIPTION:Der beliebte zweitägige Wochenend Workshop beinhaltet Spaß und intensives Erlernen der Grundzüge des Tanzes Salsa Cubana. Du lernst die Grundschritte und das Führen und Folgen sowie schöne Kombinationen mit Drehungen und Platzwechsel. Du lernst Passo basico cubano\, Guapea\, Vuelta derecha\, Enchafa doble und Dile Que No. Du kannst Dich mit oder ohne Tanzpartner/in anmelden.\nErmässigung für Studenten und Abonnenten von La Danza. \nDer Saal ist klimatisiert! \nZeiten: Sa. und So.\, jeweils 14:00 bis 16:30 Uhr \nTeilnahme nur nach Anmeldung. \nBitte hier buchen
URL:https://la-danza.de/event/salsa-cubana-anfaenger-level-a1-jun/
LOCATION:La Danza –\, Engelbertstr. 29\, Köln\, 50674
CATEGORIES:Workshops
ATTACH;FMTTYPE=image/jpeg:https://la-danza.de/wp-content/uploads/2021/08/Salsa-Cubana-Uwe.jpg
GEO:19.4326077;-99.133208
X-APPLE-STRUCTURED-LOCATION;VALUE=URI;X-ADDRESS=La Danza – Engelbertstr. 29 Köln 50674;X-APPLE-RADIUS=500;X-TITLE=Engelbertstr. 29:geo:-99.133208,19.4326077
END:VEVENT
END:VCALENDAR