BEGIN:VCALENDAR
VERSION:2.0
PRODID:-//La Danza Tanzzentrum - ECPv6.10.0//NONSGML v1.0//EN
CALSCALE:GREGORIAN
METHOD:PUBLISH
X-WR-CALNAME:La Danza Tanzzentrum
X-ORIGINAL-URL:https://la-danza.de
X-WR-CALDESC:Veranstaltungen für La Danza Tanzzentrum
REFRESH-INTERVAL;VALUE=DURATION:PT1H
X-Robots-Tag:noindex
X-PUBLISHED-TTL:PT1H
BEGIN:VTIMEZONE
TZID:Europe/Berlin
BEGIN:DAYLIGHT
TZOFFSETFROM:+0100
TZOFFSETTO:+0200
TZNAME:CEST
DTSTART:20220327T010000
END:DAYLIGHT
BEGIN:STANDARD
TZOFFSETFROM:+0200
TZOFFSETTO:+0100
TZNAME:CET
DTSTART:20221030T010000
END:STANDARD
END:VTIMEZONE
BEGIN:VEVENT
DTSTART;TZID=Europe/Berlin:20220402T140000
DTEND;TZID=Europe/Berlin:20220403T163000
DTSTAMP:20260426T043627
CREATED:20220216T141605Z
LAST-MODIFIED:20220325T105437Z
UID:10000200-1648908000-1649003400@la-danza.de
SUMMARY:Salsa Cubana Anfänger (Level A1) - Sa. & So.
DESCRIPTION:Der Workshop wuirde vom 26./27. März auf den 2./3. April verschoben! Anmeldungen behalten Ihre Gültigkeit. \nDer beliebte zweitägige Wochenend Workshop beinhaltet Spaß und intensives Erlernen der Grundzüge des Tanzes Salsa Cubana. Du lernst die Grundschritte und das Führen und Folgen sowie schöne Kombinationen mit Drehungen und Platzwechsel. Du lernst Passo basico cubano\, Guapea\, Vuelta derecha\, Enchafa doble und Dile Que No. Du kannst Dich mit oder ohne Tanzpartner/in anmelden.\nErmässigung für Studenten und Abonnenten von La Danza. \nZeiten: Sa. und So.\, jeweils 14:00 bis 16:30 Uhr \nTeilnahme nur nach Anmeldung. \nBitte hier buchen
URL:https://la-danza.de/event/salsa-cubana-anfaenger-level-a1-sa-so-6/
LOCATION:La Danza –\, Engelbertstr. 29\, Köln\, 50674
CATEGORIES:Workshops
ATTACH;FMTTYPE=image/jpeg:https://la-danza.de/wp-content/uploads/2021/08/Salsa-Cubana-Uwe.jpg
GEO:19.4326077;-99.133208
X-APPLE-STRUCTURED-LOCATION;VALUE=URI;X-ADDRESS=La Danza – Engelbertstr. 29 Köln 50674;X-APPLE-RADIUS=500;X-TITLE=Engelbertstr. 29:geo:-99.133208,19.4326077
END:VEVENT
BEGIN:VEVENT
DTSTART;TZID=Europe/Berlin:20220402T180000
DTEND;TZID=Europe/Berlin:20220402T200000
DTSTAMP:20260426T043627
CREATED:20220306T201618Z
LAST-MODIFIED:20220306T201648Z
UID:10000205-1648922400-1648929600@la-danza.de
SUMMARY:Bachata Sensual Bootcamp Leading & Following
DESCRIPTION:Dieser Workshop ist für alle Tänzer ab guten Vorkenntnissen geeignet. \nTim & Sandra holen Dich mit Deinen guten Tanz-Kenntnissen ab und geben dir ein intensives Training für die Rolle als Leader bzw. Follower. \nErmässigung für Studenten und Abonnenten von La Danza. \nTeilnahme nur nach Anmeldung. Hier kannst du buchen.
URL:https://la-danza.de/event/bachata-sensual-bootcamp/
LOCATION:La Danza –\, Engelbertstr. 29\, Köln\, 50674
CATEGORIES:Workshops
ORGANIZER;CN="La Danza Tanzzentrum":MAILTO:info@la-danza.de
GEO:19.4326077;-99.133208
X-APPLE-STRUCTURED-LOCATION;VALUE=URI;X-ADDRESS=La Danza – Engelbertstr. 29 Köln 50674;X-APPLE-RADIUS=500;X-TITLE=Engelbertstr. 29:geo:-99.133208,19.4326077
END:VEVENT
BEGIN:VEVENT
DTSTART;TZID=Europe/Berlin:20220402T203000
DTEND;TZID=Europe/Berlin:20220403T003000
DTSTAMP:20260426T043627
CREATED:20220317T210600Z
LAST-MODIFIED:20220318T193052Z
UID:10000232-1648931400-1648945800@la-danza.de
SUMMARY:Urban Kiz /Kizomba - Practice Night
DESCRIPTION:La Danza lädt zur Urban Kiz /Kizomba Practice Night ein! \n20:00 Uhr Workshop „urban Kizz – smooth moves“  Level intermediate \nab 21:00 Uhr Freies Training \nEintritt:  Workshop + Social 10\,- Euro\nSocial                                           5\,- Euro \n**Die Teilnahme am Training ist nur  nach online-Registrierung möglich. Es gelten die aktuelle Hygien-Regeln.  Die Teilnehmerzahl ist auf max. 50 Personen begrenzt. Wir berücksichtigen die aktuelle Corona-Schutz-Verordnung. \nDu darfst Deine eigenen Getränke mitbringen. Alkoholfreie Getränke sind für 2\,- erhältlich. \nRegistierung: Hier
URL:https://la-danza.de/event/urbankiz-practice-night/
LOCATION:La Danza –\, Engelbertstr. 29\, Köln\, 50674
CATEGORIES:Party
ORGANIZER;CN="La Danza Tanzzentrum":MAILTO:info@la-danza.de
GEO:19.4326077;-99.133208
X-APPLE-STRUCTURED-LOCATION;VALUE=URI;X-ADDRESS=La Danza – Engelbertstr. 29 Köln 50674;X-APPLE-RADIUS=500;X-TITLE=Engelbertstr. 29:geo:-99.133208,19.4326077
END:VEVENT
BEGIN:VEVENT
DTSTART;TZID=Europe/Berlin:20220409T203000
DTEND;TZID=Europe/Berlin:20220410T003000
DTSTAMP:20260426T043627
CREATED:20220402T101038Z
LAST-MODIFIED:20220406T081858Z
UID:10000235-1649536200-1649550600@la-danza.de
SUMMARY:Bachata - Practice Night
DESCRIPTION:La Danza lädt zur Bachata Sensual und Dominicana Practice Night ein! \n20:00 Uhr Workshop Bachata Sensual  Level intermediate mit Werner & Lucia \nab 21:00 Uhr Social Dance \nEintritt:  Workshop + Social Dance 15\,- Euro (5\,- Ermässigung für La Danza Kursteilnehmer)\nSocial Dance                                           5\,- Euro \n**Die Teilnahme am Training ist nur  nach online-Registrierung und mit Vorlage eine Negativ-Testnachweise möglich. Es gelten die aktuelle Hygiene-Regeln.  Die Teilnehmerzahl ist auf max. 50 Personen begrenzt. Wir berücksichtigen die aktuelle Corona-Schutz-Verordnung. \nDu darfst Deine eigenen Getränke mitbringen. Alkoholfreie Getränke sind für 2\,- erhältlich. \nRegistierung: Hier
URL:https://la-danza.de/event/bachata-practice-night-april/
LOCATION:La Danza –\, Engelbertstr. 29\, Köln\, 50674
CATEGORIES:Party
ORGANIZER;CN="La Danza Tanzzentrum":MAILTO:info@la-danza.de
GEO:19.4326077;-99.133208
X-APPLE-STRUCTURED-LOCATION;VALUE=URI;X-ADDRESS=La Danza – Engelbertstr. 29 Köln 50674;X-APPLE-RADIUS=500;X-TITLE=Engelbertstr. 29:geo:-99.133208,19.4326077
END:VEVENT
BEGIN:VEVENT
DTSTART;TZID=Europe/Berlin:20220423T140000
DTEND;TZID=Europe/Berlin:20220423T160000
DTSTAMP:20260426T043627
CREATED:20220331T193337Z
LAST-MODIFIED:20220404T173010Z
UID:10000234-1650722400-1650729600@la-danza.de
SUMMARY:Ladies in Kompa Workshop (Beginner\, all Levels)
DESCRIPTION:!NEW NEW NEW!\n\n Samstag\, 23.04.14-16 Uhr Workshop „Ladies in Konpa“ open Level\, vor allem aber für Beginner ohne oder mit wenigen Vorkenntnissen\nmit @Callixte\n\nCallixte hat 2020 den Tanz bei Mady K. gelernt und sehr schnell eine große Liebe zu dem Tanz entwickelt. Seitdem hat sie durch verschiedene Workshops weiterentwickelt\, aktuell in Ihrer Ausbildung bei Bev Flowers.\n\nKursbeschreibung:\nDer Kurs ‚Ladies in Konpa‘ soll einen „safe room“ für uns Frauen bieten\, in dem der Fokus auf Musikalität und Sinnlichkeit liegen. Folgendes lernen wir zusammen:\n* Wie erkenne ich Konpa Musik?\n* Welche Basis-Schritte gibt es im Konpa?\n* Wie bewege ich mich ‚richtig‘?\n\nPREIS?:      25\,- Euro\n\nRegistierung: Hier
URL:https://la-danza.de/event/urban-kiz-kizomba-practice-night/
LOCATION:La Danza –\, Engelbertstr. 29\, Köln\, 50674
CATEGORIES:Workshops
ORGANIZER;CN="La Danza Tanzzentrum":MAILTO:info@la-danza.de
GEO:19.4326077;-99.133208
X-APPLE-STRUCTURED-LOCATION;VALUE=URI;X-ADDRESS=La Danza – Engelbertstr. 29 Köln 50674;X-APPLE-RADIUS=500;X-TITLE=Engelbertstr. 29:geo:-99.133208,19.4326077
END:VEVENT
BEGIN:VEVENT
DTSTART;TZID=Europe/Berlin:20220423T190000
DTEND;TZID=Europe/Berlin:20220424T023000
DTSTAMP:20260426T043627
CREATED:20220223T172347Z
LAST-MODIFIED:20220420T090733Z
UID:10000203-1650740400-1650767400@la-danza.de
SUMMARY:Danzalicious! "goes for peace" Party
DESCRIPTION:La Danza lädt zur Danzalicious Charity Party ein! \n** Bitte aktuellen Corona-Testnachweis am Eingang vorzeigen!!*** \nWir freuen uns sehr\, dass wir wieder starten dürfen. Mit unserer beliebten Danzalicious Party-Reihe\, unter dem Motto #3 All My Favorite Colors\, wollen wir ein Zeichen des Zusammenhaltes setzten \n❣Unterstützt uns bei der Aktion „Danzalicious goes for peace“ mit Eurem Beitrag\, der 50% vom Erlös an die Menschen in Ukraine gespendet wird❣ \n#3 All My Favorite Colors – Eintritt nur mit aktuellem Negativtest \n✨3 FLOORS: Salsa (Cubana/ Son)\, Bachata (Sensual)\, Urban Kiz / Kizomba \n✨5 WORKSHOPS\n20 h Luca & Carla\n21 h Javier & Sina\n20:15 h Sergio & Karina\n21:15 h Luis & Lisette\n21 h Mady & Amela\n00 h Javier & Sina\n00:30h Luis & Lisette \n✨5 DJS\nDj Diego\, Dj YA TU SAE\nDj Paulino\, Dj Ramón\nDj Pajras \nFoto/ Video: Lucas Hein \nPARTY ab 22 Uhr \n❗❗❗VVK ab 10. MÄRZ\n(Saal 1\, Engelbertstr. 29\, ab 18 Uhr) \nEintritt:* 15 \,- Euro\nEintritt + 1 Workshop**: 30\,- Euro\nFullpass: 40\,- Euro \nABENDKASSE\nEintritt + 1 Workshop**: 35\,- Euro\nFullpass: 45\,- Euro \nSichere Dein Ticket: Reservierungen für die Abendkasse (AK) bitte hier. \n* Nur Eintritttickets werden nicht im VVK rausgegeben\n** Workshop um 21 h bzw. 21:15 h \n 
URL:https://la-danza.de/event/danzaliciousapril/
LOCATION:CreaDance Tanzzentrum\, Weißhausstraße 21\, Köln\, 50939\, Deutschland
CATEGORIES:Party
ORGANIZER;CN="La Danza Tanzzentrum":MAILTO:info@la-danza.de
END:VEVENT
END:VCALENDAR