BEGIN:VCALENDAR
VERSION:2.0
PRODID:-//La Danza Tanzzentrum - ECPv6.10.0//NONSGML v1.0//EN
CALSCALE:GREGORIAN
METHOD:PUBLISH
X-ORIGINAL-URL:https://la-danza.de
X-WR-CALDESC:Veranstaltungen für La Danza Tanzzentrum
REFRESH-INTERVAL;VALUE=DURATION:PT1H
X-Robots-Tag:noindex
X-PUBLISHED-TTL:PT1H
BEGIN:VTIMEZONE
TZID:Europe/Berlin
BEGIN:DAYLIGHT
TZOFFSETFROM:+0100
TZOFFSETTO:+0200
TZNAME:CEST
DTSTART:20220327T010000
END:DAYLIGHT
BEGIN:STANDARD
TZOFFSETFROM:+0200
TZOFFSETTO:+0100
TZNAME:CET
DTSTART:20221030T010000
END:STANDARD
END:VTIMEZONE
BEGIN:VEVENT
DTSTART;TZID=Europe/Berlin:20220305T200000
DTEND;TZID=Europe/Berlin:20220305T233000
DTSTAMP:20260426T055735
CREATED:20220222T111605Z
LAST-MODIFIED:20220304T094244Z
UID:10000202-1646510400-1646523000@la-danza.de
SUMMARY:Salsa Cubana - Social/Training
DESCRIPTION:La Danza lädt zum Salsa Übungsabend mit Workshop und Freiem Training ein! \n20:00 Uhr Workshop mit Francisco (All Level\, ab Level A2) Preis: 5\,- Euro \n21:00 Uhr Freies Training \n**Die Teilnahme am Training ist nur für Kurs- oder Workshopteilnehmer von La Danza und nach online-Registrierung möglich. Es gelten die 2Gplus- Regeln.\nBitte sende uns Deinen Impfnachweis per email und zeige den aktuellen Schnelltest am Eingang vor. Die Teilnehmerzahl ist auf max. 50 Personen begrenzt. Wir berücksichtigen die aktuelle Corona-Schutz-Verordnung vom 16.12.21.\nAuch Geboosterte bitte Testnachweis oder Vor Ort Test vorzeigen!** \nDu darfst Deine eigenen Getränke mitbringen. Alkoholfreie Getränke sind für 2\,- erhältlich. \nRegistrierung: Hier
URL:https://la-danza.de/event/salsa-cubana-social-training/
LOCATION:La Danza –\, Engelbertstr. 29\, Köln\, 50674
CATEGORIES:Party
ORGANIZER;CN="La Danza Tanzzentrum":MAILTO:info@la-danza.de
GEO:19.4326077;-99.133208
X-APPLE-STRUCTURED-LOCATION;VALUE=URI;X-ADDRESS=La Danza – Engelbertstr. 29 Köln 50674;X-APPLE-RADIUS=500;X-TITLE=Engelbertstr. 29:geo:-99.133208,19.4326077
END:VEVENT
BEGIN:VEVENT
DTSTART;TZID=Europe/Berlin:20220312T150000
DTEND;TZID=Europe/Berlin:20220312T233000
DTSTAMP:20260426T055735
CREATED:20220205T104252Z
LAST-MODIFIED:20220216T194125Z
UID:10000196-1647097200-1647127800@la-danza.de
SUMMARY:Bachata Sensual Workshops & Master Class mit Alexandros und Elly + Social Dance
DESCRIPTION:Workshop schedule: \n15:00 bis 16:30 Uhr –  Level A1/2 (Anfänger mit und ohne Vorkenntnissen) \n16:45 bis 18:15 Uhr –   Mittelstufe/Fortgeschrittene (ab 2 Jahre Bachata Sensual Erfahrung) \n18:30 bis 20:00 Uhr – Masterclass (ab 4 Jahren Bachata Sensual Erfahrung) \nErmässigung für Studenten und Abonnenten von La Danza. \n20:30 bis 0:30 Uhr Bachata Familia Social Dance (Übungsabend) \nTeilnahme nur nach Anmeldung.   Bitte hier buchen.   Einzeln oder im Kombipack buchbar.
URL:https://la-danza.de/event/bachata-workshop-mit-alexandros-und-elly-social-dance/
LOCATION:La Danza –\, Engelbertstr. 29\, Köln\, 50674
CATEGORIES:Workshops
ORGANIZER;CN="La Danza Tanzzentrum":MAILTO:info@la-danza.de
GEO:19.4326077;-99.133208
X-APPLE-STRUCTURED-LOCATION;VALUE=URI;X-ADDRESS=La Danza – Engelbertstr. 29 Köln 50674;X-APPLE-RADIUS=500;X-TITLE=Engelbertstr. 29:geo:-99.133208,19.4326077
END:VEVENT
BEGIN:VEVENT
DTSTART;TZID=Europe/Berlin:20220312T203000
DTEND;TZID=Europe/Berlin:20220313T003000
DTSTAMP:20260426T055735
CREATED:20220301T090247Z
LAST-MODIFIED:20220312T163016Z
UID:10000204-1647117000-1647131400@la-danza.de
SUMMARY:Bachata Sensual - Practice Night
DESCRIPTION:La Danza lädt zur Bachata Sensual Practice Night ein! \n20:30 Uhr Freies Training (5\,- Euro\, Gratis für Teilnernehmer der Workshops mit Alex & Elly) \n**Die Teilnahme am Training ist nur  nach online-Registrierung möglich. Es gelten die 2Gplus- Regeln.  Bitte sende uns Deinen Impfnachweis per email und zeige den aktuellen Schnelltest am Eingang vor. Die Teilnehmerzahl ist auf max. 50 Personen begrenzt. Wir berücksichtigen die aktuelle Corona-Schutz-Verordnung vom 16.12.21.** \nDu darfst Deine eigenen Getränke mitbringen. Alkoholfreie Getränke sind für 2\,- erhältlich. \nRegistierung: Hier
URL:https://la-danza.de/event/bachata-sensual-social-maerz/
LOCATION:La Danza –\, Engelbertstr. 29\, Köln\, 50674
CATEGORIES:Party
ORGANIZER;CN="La Danza Tanzzentrum":MAILTO:info@la-danza.de
GEO:19.4326077;-99.133208
X-APPLE-STRUCTURED-LOCATION;VALUE=URI;X-ADDRESS=La Danza – Engelbertstr. 29 Köln 50674;X-APPLE-RADIUS=500;X-TITLE=Engelbertstr. 29:geo:-99.133208,19.4326077
END:VEVENT
BEGIN:VEVENT
DTSTART;TZID=Europe/Berlin:20220313T143000
DTEND;TZID=Europe/Berlin:20220313T163000
DTSTAMP:20260426T055735
CREATED:20220113T121958Z
LAST-MODIFIED:20220209T175724Z
UID:10000195-1647181800-1647189000@la-danza.de
SUMMARY:Bachata Dominicana (All Level)
DESCRIPTION:Dieser Workshop ist für alle Tänzer ab guten Vorkenntnissen geeignet. \nJulio und Linda holen Dich mit Deinen guten Tanz-Kenntnissen ab\, erklären detailliert die Elemente dieses Tanzstiles und entwickeln mit Dir die typischen Schrittkombinationen und Figuren dieses originalan Bachata Stiles. \nErmässigung für Studenten und Abonnenten von La Danza. \nTeilnahme nur nach Anmeldung. Hier kannst du buchen.
URL:https://la-danza.de/event/bachtadominicana/
LOCATION:La Danza –\, Engelbertstr. 29\, Köln\, 50674
CATEGORIES:Workshops
ORGANIZER;CN="La Danza Tanzzentrum":MAILTO:info@la-danza.de
GEO:19.4326077;-99.133208
X-APPLE-STRUCTURED-LOCATION;VALUE=URI;X-ADDRESS=La Danza – Engelbertstr. 29 Köln 50674;X-APPLE-RADIUS=500;X-TITLE=Engelbertstr. 29:geo:-99.133208,19.4326077
END:VEVENT
BEGIN:VEVENT
DTSTART;TZID=Europe/Berlin:20220318T190000
DTEND;TZID=Europe/Berlin:20220319T023000
DTSTAMP:20260426T055735
CREATED:20220315T181835Z
LAST-MODIFIED:20220315T182335Z
UID:10000230-1647630000-1647657000@la-danza.de
SUMMARY:Salsa Bachata Benefiz Special
DESCRIPTION:An unsere lieben Gäste der Salsa-Abende im Herbrand´s Ehrenfeld\, \nnach langer Pause steht nun das erste Salsa-Event für Freitag\, den 18.03.2022 \, fest ABER: \nWeniger als 2000 km von uns entfernt tobt in der Ukraine ein Krieg mit schrecklichen Auswirkungen für viele unschuldige Menschen! \nEuch in diesem Kontext eine „Salsa-Party as usual“ anzubieten\, erscheint uns demnach grotesk und bizarr. \nWir haben uns deshalb dazu entschlossen\, diesen Abend als besondere Benefizveranstaltung durchzuführen.Es erwarten euch verschiedene Tanz-Workshops\, Salsa-Dj`s und spritzige Cocktails!Wie wir helfen:10 EUR von 15 EUR Special-Benefiz-Eintritt gehen direkt an das lokale Blau-Gelbe Kreuz e.V.\, www.bgk-verein.de \, welches die Spendengelder schnell und direkt dorthin verteilt\, wo sie nun am dringendsten benötigt werden. \nProgramm: Alle Workshops werden in Zusammenarbeit mit „La-Danza-Köln“ durchgeführt.\n19.00 – 19.45\nBachata Sensual Open Level mit Sandra+Tim\n19.45 – 20.30\nSalsa Cubana Open Level mit Luca\n20.30 – 21.15\nBachata Dominicana Open Level mit Linda und Julio\n21.15 – 22.00\nRueda de Casino Open Level mit Francisco\n22.00 Uhr – open end\nSalsa/Bachata Party mit Dj Yoyo + Dj Diego\n\nStand 7. März 2022 : Einlass nach der 2G+ Regel !\n– Vollständig Geimpften / Geboostert  und Genesenen wird bei Vorlage des entsprechenden Nachweises in Verbindung mit einem max. 24 Stunden alten negativen Antigen Schnelltest Ergebnis (Testzentrum – Kein Selbsttest) der Eintritt gewährt.\n– Eine Teilnahme von Ungeimpften Personen ist nicht zulässig.\n\nTESTZENTRUM:\nEin Testzentrum befindet sich für kurzentschlossene vor Ort auf dem Parkplatz des Herbrand’s und ist bis 23 Uhr geöffnet. Wir empfehlen Euch jedoch\, um Wartezeiten zu vermeiden\, Euch vorher testen zu lassen (max 24 Std.). \n\n\nKommt\, tanzt und helft mit ! \nEuer „Salsa im Herbrand´s Ehrenfeld“ Team
URL:https://la-danza.de/event/benefiz/
LOCATION:Saal 3 (Hinterhofsalon)\, Aachener Str. 68 (Hinterhofsalon)\, Köln\, 50674\, Deutschland
CATEGORIES:Party
ORGANIZER;CN="La Danza Tanzzentrum":MAILTO:info@la-danza.de
END:VEVENT
BEGIN:VEVENT
DTSTART;TZID=Europe/Berlin:20220326T190000
DTEND;TZID=Europe/Berlin:20220327T013000
DTSTAMP:20260426T055735
CREATED:20220317T131157Z
LAST-MODIFIED:20220326T172350Z
UID:10000231-1648321200-1648344600@la-danza.de
SUMMARY:SalsaNacht in der Lutherkirche
DESCRIPTION:Die SalsaNacht in der Lutherkirche! ****Findet statt***\n\n\nAlle Workshops werden in Zusammenarbeit mit „La-Danza-Köln“ durchgeführt.\n\n19.00 Salsa Cubana mit Luca & Partnerin (Open Level)\n20.00 Bachata Dominicana mit Werner & Lucia (Open Level )\n21:00- 1.00 Party mit DJ Yoyo\n\n21 bis 22 Uhr: Vorverkauf für die Danzalicous-Fullpässe und Tickets\n\nPartyeintritt:                     12 Euro\n2 Workshops und Party: 25 Euro\n\nHygienkonzept (Stand 9.März 2022) :\nEinlass nach der 2G+ Regel !\n– Vollständig Geimpften Geboostert(mind. 14 Tage nach der 2 Impfung) und Genesenen wird bei Vorlage des entsprechenden Nachweises in Verbindung mit einem max. 24 Stunden alten negativen Antigen Schnelltest Ergebnis (Testzentrum – Kein Selbsttest) der Eintritt gewährt.\n– Lichtbildausweis !\n– Eine Teilnahme von Ungeimpften Personen ist nicht zulässig.
URL:https://la-danza.de/event/salsanacht-lutherkirche/
LOCATION:La Danza\, Weyerstr. 35-37\, Köln\, 50676\, Germany
CATEGORIES:Party
ORGANIZER;CN="La Danza Tanzzentrum":MAILTO:info@la-danza.de
END:VEVENT
END:VCALENDAR