BEGIN:VCALENDAR
VERSION:2.0
PRODID:-//La Danza Tanzzentrum - ECPv6.10.0//NONSGML v1.0//EN
CALSCALE:GREGORIAN
METHOD:PUBLISH
X-ORIGINAL-URL:https://la-danza.de
X-WR-CALDESC:Veranstaltungen für La Danza Tanzzentrum
REFRESH-INTERVAL;VALUE=DURATION:PT1H
X-Robots-Tag:noindex
X-PUBLISHED-TTL:PT1H
BEGIN:VTIMEZONE
TZID:Europe/Berlin
BEGIN:DAYLIGHT
TZOFFSETFROM:+0100
TZOFFSETTO:+0200
TZNAME:CEST
DTSTART:20260329T010000
END:DAYLIGHT
BEGIN:STANDARD
TZOFFSETFROM:+0200
TZOFFSETTO:+0100
TZNAME:CET
DTSTART:20261025T010000
END:STANDARD
END:VTIMEZONE
BEGIN:VEVENT
DTSTART;TZID=Europe/Berlin:20260411T170000
DTEND;TZID=Europe/Berlin:20260411T190000
DTSTAMP:20260421T113611
CREATED:20260401T185432Z
LAST-MODIFIED:20260401T185432Z
UID:10000531-1775926800-1775934000@la-danza.de
SUMMARY:Female Experimental Choreography
DESCRIPTION:WORKSHOP ALLERT <3 \nFemale Experimental Choreography \nOpen Level\, Dance Experience is good to have\, but not necessary. I’m aiming to create a safer space for everyone during the class.\nAfter a warm up\, some partnering exercises\, we continue we continue with a technical\, challenging and nice & juicy choreography with an improvisation to end the class. \nDM or register here: tinastreich.projects@gmail.com \nLooking forward to dance with you! \n  \n11. April\n17:00 – 19:00Uhr\nWeyerstr. 35-37\, Köln\n10€ (Frühbucherpreis gilt bis zum 06. April)\n25€ ab dem 07. April \nBitte hier buchen
URL:https://la-danza.de/event/experimental_tinastreich/
LOCATION:La Danza\, Weyerstr. 35-37\, Köln\, 50676\, Germany
CATEGORIES:Workshops
ATTACH;FMTTYPE=image/jpeg:https://la-danza.de/wp-content/uploads/2026/04/Tina-Streich.jpeg
END:VEVENT
BEGIN:VEVENT
DTSTART;TZID=Europe/Berlin:20260411T200000
DTEND;TZID=Europe/Berlin:20260412T030000
DTSTAMP:20260421T113611
CREATED:20260401T133536Z
LAST-MODIFIED:20260401T133536Z
UID:10000530-1775937600-1775962800@la-danza.de
SUMMARY:Ritmo X Party
DESCRIPTION: La Danza lädt im April 2026 zur Ritmo X ein!\nRitmo X – Workshops & Social Night\n Samstag 11. April 2026 La Danza – Weyerstr 35-37\, 50676 Köln\n\n Workshops:20:00-21:00 Uhr: Urban Kiz – Hooks and more mit Walid und Bella\n21:00-22:00 Uhr: Bachata Sensual – Dynamics in modern Bacahta mit Fernando & Julia\n\n2 Floors – 2 Styles\n Saal 1: Bachata Sensual Saal 2: Urban Kiz\n\nDJs DJ Danzalicious – Bachata Sensual DJ Walido – Bachata Sensual DJ Ralf – Urban Kiz DJ Shasha – Urban Kiz\n\n Partytime: 22:00 Uhr bis 03:00 Uhr – lasst uns gemeinsam feiern!\n\n Tickets:\nVorverkauf:Eventim-LightEintritt: 12 €Eintritt + 1x Workshop: 15€Eintritt + 2x Workshops: 20€\n\nAbendkasse:Eintritt: 15 €Eintritt + 1 Workshop: 20 €Eintritt + 2 Workshops: 25€\n\nLa Danza Mitglieder erhalten 5\,- Ermäßigung an der Abendkasse. Mit oder ohne Workshop\n\nUSC: Check-In + 10\,- Euro (Party)USC: Check-In + 15\,- Euro ( 1 Workshop + Party)USC: Check-In + 20 Euro (2 Workshops + Party)\n\nKommt vorbei! Lasst uns gemeinsam einen schönen Abend verbringen mit viel Musik und Tanz!
URL:https://la-danza.de/event/ritmo-x-party/
LOCATION:La Danza\, Weyerstr. 35-37\, Köln\, 50676\, Germany
CATEGORIES:Party
ATTACH;FMTTYPE=image/png:https://la-danza.de/wp-content/uploads/2026/04/Instagram-Ritmo-X-April-2026-45.png
ORGANIZER;CN="La Danza Tanzzentrum":MAILTO:info@la-danza.de
END:VEVENT
END:VCALENDAR