BEGIN:VCALENDAR
VERSION:2.0
PRODID:-//La Danza Tanzzentrum - ECPv6.10.0//NONSGML v1.0//EN
CALSCALE:GREGORIAN
METHOD:PUBLISH
X-WR-CALNAME:La Danza Tanzzentrum
X-ORIGINAL-URL:https://la-danza.de
X-WR-CALDESC:Veranstaltungen für La Danza Tanzzentrum
REFRESH-INTERVAL;VALUE=DURATION:PT1H
X-Robots-Tag:noindex
X-PUBLISHED-TTL:PT1H
BEGIN:VTIMEZONE
TZID:Europe/Berlin
BEGIN:DAYLIGHT
TZOFFSETFROM:+0100
TZOFFSETTO:+0200
TZNAME:CEST
DTSTART:20260329T010000
END:DAYLIGHT
BEGIN:STANDARD
TZOFFSETFROM:+0200
TZOFFSETTO:+0100
TZNAME:CET
DTSTART:20261025T010000
END:STANDARD
END:VTIMEZONE
BEGIN:VEVENT
DTSTART;TZID=Europe/Berlin:20260314T200000
DTEND;TZID=Europe/Berlin:20260315T030000
DTSTAMP:20260421T113513
CREATED:20260307T112729Z
LAST-MODIFIED:20260307T112729Z
UID:10000522-1773518400-1773543600@la-danza.de
SUMMARY:Ritmo X Party
DESCRIPTION:La Danza lädt im März 2026 zur Ritmo X ein!✨ \nRitmo X – Workshops & Social Night\n️ Samstag 14. März 2026\n La Danza – Weyerstr 35-37\, 50676 Köln \n Workshops:\n20:00-21:00 Uhr: Salsa Cubana – Timba Partnerwork – Introduce Style into your Dancing mit Fabi und Alev \n21:00-22:00 Uhr: Bachata Sensual – Use your transitions mit Alejandro & Evelyn \n✨2 Floors – 2 Styles\n Saal 1: Bachata Sensual\n Saal 2: Salsa Cubana \nDJs\n DJ Georgi – Bachata Sensual\n DJ Alaui – Salsa Cubana\n DJ Alejandro – Salsa Cubana \n Partytime: 22:00 Uhr bis 03:00 Uhr – lasst uns gemeinsam feiern! \n️ Tickets: Vorverkauf:\nEintritt: 12 €\nEintritt + 1x Workshop: 15€\nEintritt + 2x Workshops: 20€ \nAbendkasse:\nEintritt: 15 €\nEintritt + 1 Workshop: 20 €\nEintritt + 2 Workshops: 25€ \n‼️La Danza Mitglieder erhalten 5\,- Ermäßigung an der Abendkasse. Mit oder ohne Workshop‼️ \n\n\n Tickets:\nVorverkauf: hier: EventimEintritt: 12 €Eintritt + 1x Workshop: 15 EuroEintritt + 2x Workshops: 20€\nAbendkasse:Eintritt: 15 €Eintritt + 1 Workshop: 20 €Eintritt + 2 Workshops: 25€\n\nLa Danza Mitglieder erhalten 5\,- Ermäßigung an der Abendkasse. Mit oder ohne Workshop\nUSC: Check-In + 10\,- Euro (Party)USC: Check-In + 15\,- Euro ( 1 Workshop + Party)USC: Check-In + 20 Euro (2 Workshops + Party)\nWir freuen uns auf euch!
URL:https://la-danza.de/event/ritmo-x-party-carneval-edition-3/
LOCATION:La Danza\, Weyerstr. 35-37\, Köln\, 50676\, Germany
CATEGORIES:Party
ATTACH;FMTTYPE=image/png:https://la-danza.de/wp-content/uploads/2026/03/Instagram-Ritmo-X-Januar-2026-45.png
ORGANIZER;CN="La Danza Tanzzentrum":MAILTO:info@la-danza.de
END:VEVENT
BEGIN:VEVENT
DTSTART;TZID=Europe/Berlin:20260315T140000
DTEND;TZID=Europe/Berlin:20260315T160000
DTSTAMP:20260421T113513
CREATED:20260304T104739Z
LAST-MODIFIED:20260304T104739Z
UID:10000521-1773583200-1773590400@la-danza.de
SUMMARY:Son mit Yago & Alice
DESCRIPTION:on Cubano – feel the roots of Salsa  \nDas ist für dich\, wenn du Salsa liebst und den Ursprung wirklich fühlen willst ✨\nDer Son Cubano ist der Vater der modernen Salsa — von der Rhythmik  über die Instrumente  bis hin zur musikalischen Ausdrucksweise  hat er alles geprägt\, was wir heute tanzen und feiern. \nSon ist elegant\, verbunden und voller Gefühl\nHier geht es nicht um schnelle Moves\, sondern um Connection — zu deinem Partner und zur Musik  \n Nach diesem Workshop mit Yago und Alice wirst du Son nicht nur kennen…\ndu wirst ihn auf der Party fühlen und genießen  \n Sonntag 15.3.2026\n 14:00 – 16:00 Uhr\n Open Level mit @yago_rumberito & @_alice.sol_\n️ Preis: 35 € \, Ermässigt: 30 €\n La Danza Weyerstr. 35-37\, Köln \nBitte hier buchen
URL:https://la-danza.de/event/son-workshop-yago-alice/
LOCATION:La Danza\, Weyerstr. 35-37\, Köln\, 50676\, Germany
CATEGORIES:Workshops
ATTACH;FMTTYPE=image/png:https://la-danza.de/wp-content/uploads/2026/03/son-workshop-yago-alice.png
END:VEVENT
END:VCALENDAR