BEGIN:VCALENDAR
VERSION:2.0
PRODID:-//La Danza Tanzzentrum - ECPv6.10.0//NONSGML v1.0//EN
CALSCALE:GREGORIAN
METHOD:PUBLISH
X-WR-CALNAME:La Danza Tanzzentrum
X-ORIGINAL-URL:https://la-danza.de
X-WR-CALDESC:Veranstaltungen für La Danza Tanzzentrum
REFRESH-INTERVAL;VALUE=DURATION:PT1H
X-Robots-Tag:noindex
X-PUBLISHED-TTL:PT1H
BEGIN:VTIMEZONE
TZID:Europe/Berlin
BEGIN:DAYLIGHT
TZOFFSETFROM:+0100
TZOFFSETTO:+0200
TZNAME:CEST
DTSTART:20260329T010000
END:DAYLIGHT
BEGIN:STANDARD
TZOFFSETFROM:+0200
TZOFFSETTO:+0100
TZNAME:CET
DTSTART:20261025T010000
END:STANDARD
END:VTIMEZONE
BEGIN:VEVENT
DTSTART;TZID=Europe/Berlin:20260214T200000
DTEND;TZID=Europe/Berlin:20260215T030000
DTSTAMP:20260421T113453
CREATED:20260116T122423Z
LAST-MODIFIED:20260116T124835Z
UID:10000511-1771099200-1771124400@la-danza.de
SUMMARY:Ritmo X Party - Carneval Edition
DESCRIPTION: La Danza lädt im Februar 2026 zur Ritmo X ein! Lasst uns Karneval & Valentinstag gemeinsam feiern! \nRitmo X – Valentine’s & Carnival Special\n Samstag 14. Februar 2026\n La Danza – Weyerstr 35-37\, 50676 Köln\n\n Workshops:20:00-21:00 Uhr: Salsa Cubana – Luca & Alessia21:00-22:00 Uhr: Bachata Sensual – Taoufik & Ece\n\n2 Floors – 2 Styles Saal 1: Bachata Sensual Saal 2: Salsa Cubana\nDJs DJ Orhanito – Bachata Sensual DJ Alaui – Salsa Cubana DJ Alejandro – Salsa Cubana\n\n Partytime: 22:00 Uhr bis 03:00 Uhr – lasst uns gemeinsam feiern!\n\nDresscode: Kostüm oder Red&White\n\n Tickets:\nVorverkauf: hier: EventimEintritt: 12 €Eintritt + 1x Workshop: 15 EuroEintritt + 2x Workshops: 20€\nAbendkasse:Eintritt: 15 €Eintritt + 1 Workshop: 20 €Eintritt + 2 Workshops: 25€\n\nLa Danza Mitglieder erhalten 5\,- Ermäßigung an der Abendkasse. Mit oder ohne Workshop\nUSC: Check-In + 10\,- Euro (Party)USC: Check-In + 15\,- Euro ( 1 Workshop + Party)USC: Check-In + 20 Euro (2 Workshops + Party)\nWir freuen uns auf euch!
URL:https://la-danza.de/event/ritmo-x-party-carneval-edition/
LOCATION:La Danza\, Weyerstr. 35-37\, Köln\, 50676\, Germany
CATEGORIES:Party
ATTACH;FMTTYPE=image/png:https://la-danza.de/wp-content/uploads/2026/01/Instagram-Ritmo-X-Januar-2026-45-Instagram-Post-45.png
ORGANIZER;CN="La Danza Tanzzentrum":MAILTO:info@la-danza.de
END:VEVENT
END:VCALENDAR