BEGIN:VCALENDAR
VERSION:2.0
PRODID:-//La Danza Tanzzentrum - ECPv6.10.0//NONSGML v1.0//EN
CALSCALE:GREGORIAN
METHOD:PUBLISH
X-ORIGINAL-URL:https://la-danza.de
X-WR-CALDESC:Veranstaltungen für La Danza Tanzzentrum
REFRESH-INTERVAL;VALUE=DURATION:PT1H
X-Robots-Tag:noindex
X-PUBLISHED-TTL:PT1H
BEGIN:VTIMEZONE
TZID:Europe/Berlin
BEGIN:DAYLIGHT
TZOFFSETFROM:+0100
TZOFFSETTO:+0200
TZNAME:CEST
DTSTART:20250330T010000
END:DAYLIGHT
BEGIN:STANDARD
TZOFFSETFROM:+0200
TZOFFSETTO:+0100
TZNAME:CET
DTSTART:20251026T010000
END:STANDARD
END:VTIMEZONE
BEGIN:VEVENT
DTSTART;TZID=Europe/Berlin:20251108T200000
DTEND;TZID=Europe/Berlin:20251109T030000
DTSTAMP:20260419T171442
CREATED:20251030T173808Z
LAST-MODIFIED:20251030T173808Z
UID:10000486-1762632000-1762657200@la-danza.de
SUMMARY:Ritmo X Party
DESCRIPTION:La Danza lädt zur ✨Ritmo X✨ ein! \nWorkshops & Social Night! \n✨ 2 Floors – 2 Styles:\n2 Workshops\nSaal A: Bachata Sensual\nSaal C: Salsa Cubana \nWorkshops ab 20 Uhr:\n20:00 – 21:00 Bachata Sensual mit Daniel & Lucia\nIn & Out of the Shadow Position (Open Level) \n21:00 – 22:00 Salsa Cubana mit Luca (Open Level) \nDJs:\nDJ Esteban – Bachata Sensual\nDJ Daliciouz – Bachata Sensual\nDJ TimbaMo – Salsa Cubana \nParty Time: 22:00 – 03:00 Uhr \nVorverkauf: Eventim\nEintritt: 12\,- Euro\nEintritt + 1 Workshop: 15\,- Euro\nEintritt + 2 Workshops: 20\,- Euro \n️Abendkasse:\nEintritt: 15\,- Euro\nEintritt + 1 Workshop: 20\,- Euro\nEintritt + 2 Workshops: 25\,- Euro \n  \n‼️ La Danza Mitglieder erhalten 5\,- Ermäßigung an der Abendkasse!\nMit oder ohne Workshop‼️ \nUSC: Check-In + 10\,- Euro (Party)\nUSC: Check-In + 15\,- Euro ( 1 Workshop + Party)\nUSC: Check-In + 20\,- Euro (2 Workshops + Party)
URL:https://la-danza.de/event/ritmo-x-party-08-november/
LOCATION:La Danza\, Weyerstr. 35-37\, Köln\, 50676\, Germany
CATEGORIES:Party,Workshops
ATTACH;FMTTYPE=image/png:https://la-danza.de/wp-content/uploads/2025/10/instagram-Ritmo-X-Nov-Instagram-Post-45.png
ORGANIZER;CN="La Danza Tanzzentrum":MAILTO:info@la-danza.de
END:VEVENT
END:VCALENDAR