BEGIN:VCALENDAR
VERSION:2.0
PRODID:-//La Danza Tanzzentrum - ECPv6.10.0//NONSGML v1.0//EN
CALSCALE:GREGORIAN
METHOD:PUBLISH
X-WR-CALNAME:La Danza Tanzzentrum
X-ORIGINAL-URL:https://la-danza.de
X-WR-CALDESC:Veranstaltungen für La Danza Tanzzentrum
REFRESH-INTERVAL;VALUE=DURATION:PT1H
X-Robots-Tag:noindex
X-PUBLISHED-TTL:PT1H
BEGIN:VTIMEZONE
TZID:Europe/Berlin
BEGIN:DAYLIGHT
TZOFFSETFROM:+0100
TZOFFSETTO:+0200
TZNAME:CEST
DTSTART:20240331T010000
END:DAYLIGHT
BEGIN:STANDARD
TZOFFSETFROM:+0200
TZOFFSETTO:+0100
TZNAME:CET
DTSTART:20241027T010000
END:STANDARD
END:VTIMEZONE
BEGIN:VEVENT
DTSTART;TZID=Europe/Berlin:20241126T183000
DTEND;TZID=Europe/Berlin:20241126T200000
DTSTAMP:20260420T101800
CREATED:20241026T131453Z
LAST-MODIFIED:20241026T134141Z
UID:10000383-1732645800-1732651200@la-danza.de
SUMMARY:Bachata Sensual Lady Styling 10 weeks-Bootcamp mit Ece
DESCRIPTION:Ab Level A2+ and more! \n10 Wochen Projekt. Start 12. November 2024 (Pause am 24. und 31. Dez.) \nDienstags: 18:30 bis 20:00 Uhr \nTrainerin: Ece Demiray \n\nPreisübersicht: \n14o\,- regulär \n125\,- für Teilnehmerinnen des ersten Cyclus \n90\,- für Inhaberinnen eines Abos/Flatrate bei La Danza \nWo: La Danza – Weyerstr. 35-37
URL:https://la-danza.de/event/bachata-sensual-lady-styling-10-weeks-bootcamp-mit-ece/2024-11-26/
LOCATION:La Danza\, Weyerstr. 35-37\, Köln\, 50676\, Germany
CATEGORIES:Workshops
ATTACH;FMTTYPE=image/png:https://la-danza.de/wp-content/uploads/2024/10/Ece-1.png
ORGANIZER;CN="La Danza Tanzzentrum":MAILTO:info@la-danza.de
END:VEVENT
END:VCALENDAR