BEGIN:VCALENDAR
VERSION:2.0
PRODID:-//La Danza Tanzzentrum - ECPv6.10.0//NONSGML v1.0//EN
CALSCALE:GREGORIAN
METHOD:PUBLISH
X-ORIGINAL-URL:https://la-danza.de
X-WR-CALDESC:Veranstaltungen für La Danza Tanzzentrum
REFRESH-INTERVAL;VALUE=DURATION:PT1H
X-Robots-Tag:noindex
X-PUBLISHED-TTL:PT1H
BEGIN:VTIMEZONE
TZID:Europe/Berlin
BEGIN:DAYLIGHT
TZOFFSETFROM:+0100
TZOFFSETTO:+0200
TZNAME:CEST
DTSTART:20240331T010000
END:DAYLIGHT
BEGIN:STANDARD
TZOFFSETFROM:+0200
TZOFFSETTO:+0100
TZNAME:CET
DTSTART:20241027T010000
END:STANDARD
END:VTIMEZONE
BEGIN:VEVENT
DTSTART;TZID=Europe/Berlin:20240706T153000
DTEND;TZID=Europe/Berlin:20240706T180000
DTSTAMP:20260422T164720
CREATED:20240627T165647Z
LAST-MODIFIED:20240704T083443Z
UID:10000364-1720279800-1720288800@la-danza.de
SUMMARY:Gentle Leading - From Leaders for Leaders
DESCRIPTION:Meine Herren! Komm am 6. Juli zu uns nach Köln zu einer Veranstaltung\, die deine tänzerische Führung transformieren wird. Bei Gentle Leading geht es darum\, Bachata mit Selbstvertrauen\, Sorgfalt und Verbundenheit zu meistern. Warum solltest du teilnehmen? In der heutigen schnelllebigen Welt bietet Gentle Leading dir die Chance\, eine sinnvolle Verbindung herzustellen und mit Integrität zu führen. Baue emotionale Intelligenz auf\, knüpfe starke Bindungen\, stärke dein Selbstvertrauen\, verbessere deine Fähigkeiten und werde Teil einer unterstützenden Gemeinschaft. \n\nUhrzeit: 15:30 bis 18:00 \nStandort: Saal 1 – Engelbertstr. 29 Köln \nPreise:\nEarly bird (until 30.06.): 27€\nNormal price: 29€\n\nUnsere Dozenten:\n@alagunam\n@alejandro.dancing \nDer Unterricht findet in Deutsch\, Englisch und natürlich Spanisch statt.\nWir freuen uns auf Euch! \n\nBook here
URL:https://la-danza.de/event/gentle-leading-from-leaders-for-leaders/
LOCATION:La Danza –\, Engelbertstr. 29\, Köln\, 50674
CATEGORIES:Workshops
GEO:19.4326077;-99.133208
X-APPLE-STRUCTURED-LOCATION;VALUE=URI;X-ADDRESS=La Danza – Engelbertstr. 29 Köln 50674;X-APPLE-RADIUS=500;X-TITLE=Engelbertstr. 29:geo:-99.133208,19.4326077
END:VEVENT
END:VCALENDAR