BEGIN:VCALENDAR
VERSION:2.0
PRODID:-//La Danza Tanzzentrum - ECPv6.10.0//NONSGML v1.0//EN
CALSCALE:GREGORIAN
METHOD:PUBLISH
X-ORIGINAL-URL:https://la-danza.de
X-WR-CALDESC:Veranstaltungen für La Danza Tanzzentrum
REFRESH-INTERVAL;VALUE=DURATION:PT1H
X-Robots-Tag:noindex
X-PUBLISHED-TTL:PT1H
BEGIN:VTIMEZONE
TZID:Europe/Berlin
BEGIN:DAYLIGHT
TZOFFSETFROM:+0100
TZOFFSETTO:+0200
TZNAME:CEST
DTSTART:20240331T010000
END:DAYLIGHT
BEGIN:STANDARD
TZOFFSETFROM:+0200
TZOFFSETTO:+0100
TZNAME:CET
DTSTART:20241027T010000
END:STANDARD
END:VTIMEZONE
BEGIN:VEVENT
DTSTART;TZID=Europe/Berlin:20240528T230000
DTEND;TZID=Europe/Berlin:20240528T230000
DTSTAMP:20260422T181025
CREATED:20240501T092721Z
LAST-MODIFIED:20241026T133619Z
UID:10000359-1716937200-1716937200@la-danza.de
SUMMARY:Bachata Sensual Lady Styling Bootcamp mit Ece
DESCRIPTION:Ab Level A2+ and more! \n8 Wochen Projekt. Start 21. Mai 2024 bis 09. Juli 2024 \nDienstags: 21:00 bis 22:15 Uhr \nPreisübersicht: \n14o\,- regulär \n125\,- für Teilnehmerinnen des ersten Cyclus \n90\,- für Inhaberinnen eines Abos/Flatrate bei La Danza \nTrainerin: Ece Demiray \n\nWo: La Danza – Engelbertstr. 29
URL:https://la-danza.de/event/bachata-ladystyling-ece/2024-05-28/
LOCATION:La Danza –\, Engelbertstr. 29\, Köln\, 50674
CATEGORIES:Workshops
ATTACH;FMTTYPE=image/png:https://la-danza.de/wp-content/uploads/2024/05/Ece.png
ORGANIZER;CN="La Danza Tanzzentrum":MAILTO:info@la-danza.de
GEO:19.4326077;-99.133208
X-APPLE-STRUCTURED-LOCATION;VALUE=URI;X-ADDRESS=La Danza – Engelbertstr. 29 Köln 50674;X-APPLE-RADIUS=500;X-TITLE=Engelbertstr. 29:geo:-99.133208,19.4326077
END:VEVENT
END:VCALENDAR