BEGIN:VCALENDAR
VERSION:2.0
PRODID:-//La Danza Tanzzentrum - ECPv6.10.0//NONSGML v1.0//EN
CALSCALE:GREGORIAN
METHOD:PUBLISH
X-ORIGINAL-URL:https://la-danza.de
X-WR-CALDESC:Veranstaltungen für La Danza Tanzzentrum
REFRESH-INTERVAL;VALUE=DURATION:PT1H
X-Robots-Tag:noindex
X-PUBLISHED-TTL:PT1H
BEGIN:VTIMEZONE
TZID:Europe/Berlin
BEGIN:DAYLIGHT
TZOFFSETFROM:+0100
TZOFFSETTO:+0200
TZNAME:CEST
DTSTART:20240331T010000
END:DAYLIGHT
BEGIN:STANDARD
TZOFFSETFROM:+0200
TZOFFSETTO:+0100
TZNAME:CET
DTSTART:20241027T010000
END:STANDARD
END:VTIMEZONE
BEGIN:VEVENT
DTSTART;TZID=Europe/Berlin:20240224T140000
DTEND;TZID=Europe/Berlin:20240225T160000
DTSTAMP:20260423T002148
CREATED:20240123T172636Z
LAST-MODIFIED:20240208T192730Z
UID:10000327-1708783200-1708876800@la-danza.de
SUMMARY:Bachata Sensual Anfänger - Sa. & So.
DESCRIPTION:Der beliebte zweitägige Wochenend Workshop beinhaltet Spaß und intensives Erlernen der Grundzüge des Tanzes Bachata Sensual. Du lernst die Grundschritte und das Führen und Folgen sowie schöne Kombinationen. \nErmässigung für Studenten und Abonnenten von La Danza. \nDer Saal ist klimatisiert! \nZeiten: Sa. und So.\, jeweils 14:00 bis 16:00 Uhr \nTeilnahme nur nach Anmeldung. \nBitte hier buchen
URL:https://la-danza.de/event/bachata-sensual-anfaenger-workshop/
LOCATION:La Danza –\, Engelbertstr. 29\, Köln\, 50674
CATEGORIES:Workshops
ATTACH;FMTTYPE=image/png:https://la-danza.de/wp-content/uploads/2024/01/Bachata-Workshops-A1-1.png
GEO:19.4326077;-99.133208
X-APPLE-STRUCTURED-LOCATION;VALUE=URI;X-ADDRESS=La Danza – Engelbertstr. 29 Köln 50674;X-APPLE-RADIUS=500;X-TITLE=Engelbertstr. 29:geo:-99.133208,19.4326077
END:VEVENT
BEGIN:VEVENT
DTSTART;TZID=Europe/Berlin:20240224T210000
DTEND;TZID=Europe/Berlin:20240225T030000
DTSTAMP:20260423T002148
CREATED:20240206T120129Z
LAST-MODIFIED:20240206T121037Z
UID:10000330-1708808400-1708830000@la-danza.de
SUMMARY:Danzalicious! Party - 24. Februar
DESCRIPTION: La Danza lädt wieder zur Danzalicious Party ein!\n \n✨3 FLOORS: Salsa (Cubana/ Son)\, Bachata (Sensual)\, Kizomba/ Urban Kiz\n \n✨3WORKSHOPS \n \n\n➠21h Salsa Cubana –  (Open level)\n➠21h Bachata Sensual –  (Intermediate)\n➠22h Urban Kiz –\n\nSalsa Animation\n\n DJ  – Salsa Cubana\nDJ  – Bachata\nDJ  – Urban Kizz\n : Elegant\n\n \n✨PARTY ab 22 Uhr\nLocation: Weißhausstr. 21. 50939 Köln\n \nVORVERKAUF – (der online-VVK ist bis 27.10. 13 Uhr möglich\, es gibt danach noch Tickets an AK)\nVVK Fullpass (Party-Eintritt + 3 Workshops nach Wahl )   Price:  30\,- Euro\nEintritt + 1 WS (21 oder 22 Uhr)                                                 Price: 25\,- Euro\n \nEintritt:               nur AK\nMindestverzehr an der AK\n \nABENDKASSE (Es gibt noch Tickets für Workshops und Eintritt an der Abendkasse)\nWorkshop-Pass:  25\,- Euro (Party-Eintritt + 1 Workshop 21 oder 22 Uhr)\nFullpass:               35\,- Euro (Party-Eintritt + 2 Workshops)\nEintritt:                 15 \,- Euro\n Mindestverzehr 2\,50 €\n*Workshop- und Partypässe nach Verfügbarkeit
URL:https://la-danza.de/event/danzalicious-party-24-feb2024/
LOCATION:CreaDance Tanzzentrum\, Weißhausstraße 21\, Köln\, 50939\, Deutschland
CATEGORIES:Party
ATTACH;FMTTYPE=image/png:https://la-danza.de/wp-content/uploads/2024/02/Entwurf-Danzalicious-Flyer-2402-Instagram-.png
ORGANIZER;CN="La Danza Tanzzentrum":MAILTO:info@la-danza.de
END:VEVENT
END:VCALENDAR