BEGIN:VCALENDAR
VERSION:2.0
PRODID:-//La Danza Tanzzentrum - ECPv6.10.0//NONSGML v1.0//EN
CALSCALE:GREGORIAN
METHOD:PUBLISH
X-ORIGINAL-URL:https://la-danza.de
X-WR-CALDESC:Veranstaltungen für La Danza Tanzzentrum
REFRESH-INTERVAL;VALUE=DURATION:PT1H
X-Robots-Tag:noindex
X-PUBLISHED-TTL:PT1H
BEGIN:VTIMEZONE
TZID:Europe/Berlin
BEGIN:DAYLIGHT
TZOFFSETFROM:+0100
TZOFFSETTO:+0200
TZNAME:CEST
DTSTART:20240331T010000
END:DAYLIGHT
BEGIN:STANDARD
TZOFFSETFROM:+0200
TZOFFSETTO:+0100
TZNAME:CET
DTSTART:20241027T010000
END:STANDARD
END:VTIMEZONE
BEGIN:VEVENT
DTSTART;TZID=Europe/Berlin:20240127T210000
DTEND;TZID=Europe/Berlin:20240128T030000
DTSTAMP:20260423T014958
CREATED:20231221T115749Z
LAST-MODIFIED:20231221T115749Z
UID:10000322-1706389200-1706410800@la-danza.de
SUMMARY:Danzalicious! Party - 27. Januar Winter Edition
DESCRIPTION: La Danza lädt wieder zur Danzalicious Party ein!\n \n✨3 FLOORS: Salsa (Cubana/ Son)\, Bachata (Sensual)\, Kizomba/ Urban Kiz\n \n✨3WORKSHOPS \n \n\n➠21h Salsa Cubana – Caro & Emilio (Open level)\n➠21h Bachata Sensual – Stella & Sergio (Intermediate)\n➠22h Urban Kiz – Devid & Melissa\n\nSalsa Animation\n\n DJ Belmar – Salsa Cubana\nDJ Fadi – Bachata\nDJ Insane – Urban Kizz\n : Elegant\n\n \n✨PARTY ab 22 Uhr\nLocation: Weißhausstr. 21. 50939 Köln\n \nVORVERKAUF – (der online-VVK ist bis 27.10. 13 Uhr möglich\, es gibt danach noch Tickets an AK)\nVVK Fullpass (Party-Eintritt + 3 Workshops nach Wahl )   Price:  30\,- Euro\nEintritt + 1 WS (21 oder 22 Uhr)                                                 Price: 25\,- Euro\n \nEintritt:               nur AK\nMindestverzehr an der AK\n \nABENDKASSE (Es gibt noch Tickets für Workshops und Eintritt an der Abendkasse)\nWorkshop-Pass:  25\,- Euro (Party-Eintritt + 1 Workshop 21 oder 22 Uhr)\nFullpass:               35\,- Euro (Party-Eintritt + 3 Workshops)\nEintritt:                 15 \,- Euro\n Mindestverzehr 2\,50 €\n*Workshop- und Partypässe nach Verfügbarkeit
URL:https://la-danza.de/event/danzalicious-party-27-januar-winter-edition/
LOCATION:CreaDance Tanzzentrum\, Weißhausstraße 21\, Köln\, 50939\, Deutschland
CATEGORIES:Party
ATTACH;FMTTYPE=image/png:https://la-danza.de/wp-content/uploads/2023/12/Danzalicious-27.01.-Instagram-1080-x-1350-px.png
ORGANIZER;CN="La Danza Tanzzentrum":MAILTO:info@la-danza.de
END:VEVENT
END:VCALENDAR