BEGIN:VCALENDAR
VERSION:2.0
PRODID:-//La Danza Tanzzentrum - ECPv6.10.0//NONSGML v1.0//EN
CALSCALE:GREGORIAN
METHOD:PUBLISH
X-ORIGINAL-URL:https://la-danza.de
X-WR-CALDESC:Veranstaltungen für La Danza Tanzzentrum
REFRESH-INTERVAL;VALUE=DURATION:PT1H
X-Robots-Tag:noindex
X-PUBLISHED-TTL:PT1H
BEGIN:VTIMEZONE
TZID:Europe/Berlin
BEGIN:DAYLIGHT
TZOFFSETFROM:+0100
TZOFFSETTO:+0200
TZNAME:CEST
DTSTART:20240331T010000
END:DAYLIGHT
BEGIN:STANDARD
TZOFFSETFROM:+0200
TZOFFSETTO:+0100
TZNAME:CET
DTSTART:20241027T010000
END:STANDARD
END:VTIMEZONE
BEGIN:VEVENT
DTSTART;TZID=Europe/Berlin:20240113T140000
DTEND;TZID=Europe/Berlin:20240114T163000
DTSTAMP:20260423T015357
CREATED:20231114T171449Z
LAST-MODIFIED:20231114T171449Z
UID:10000318-1705154400-1705249800@la-danza.de
SUMMARY:Salsa Cubana Anfänger (Level A1) - Sa. & So.
DESCRIPTION:Der beliebte zweitägige Wochenend Workshop beinhaltet Spaß und intensives Erlernen der Grundzüge des Tanzes Salsa Cubana. Du lernst die Grundschritte und das Führen und Folgen sowie schöne Kombinationen mit Drehungen und Platzwechsel. Du lernst Passo basico cubano\, Guapea\, Vuelta derecha\, Enchafa doble und Dile Que No. Du kannst Dich mit oder ohne Tanzpartner/in anmelden.\nErmässigung für Studenten und Abonnenten von La Danza. \nDer Saal ist klimatisiert! \nZeiten: Sa. und So.\, jeweils 14:00 bis 16:30 Uhr \nTeilnahme nur nach Anmeldung. \nBitte hier buchen
URL:https://la-danza.de/event/salsa-cubana-anfaenger-level-a1-sa-so-16/
LOCATION:La Danza –\, Engelbertstr. 29\, Köln\, 50674
CATEGORIES:Workshops
ATTACH;FMTTYPE=image/png:https://la-danza.de/wp-content/uploads/2023/08/Uwe-Workshops-6-7-Mai-Instagram-Beitrag-1-1.png
GEO:19.4326077;-99.133208
X-APPLE-STRUCTURED-LOCATION;VALUE=URI;X-ADDRESS=La Danza – Engelbertstr. 29 Köln 50674;X-APPLE-RADIUS=500;X-TITLE=Engelbertstr. 29:geo:-99.133208,19.4326077
END:VEVENT
BEGIN:VEVENT
DTSTART;TZID=Europe/Berlin:20240113T203000
DTEND;TZID=Europe/Berlin:20240114T010000
DTSTAMP:20260423T015357
CREATED:20231221T114306Z
LAST-MODIFIED:20240110T124100Z
UID:10000321-1705177800-1705194000@la-danza.de
SUMMARY:Salsa Cubana Zone Party
DESCRIPTION:Liebe Tänzerinnen und Tänzer\,\n\nherzlich willkommen zur Salsa Cubana Nacht am 13. Januar 2024! Wir laden euch ein\, gemeinsam eine unvergessliche Zeit zu erleben.\nBesonders aufregend wird unser exklusiver Salsa-Cubana DJ Alaui und der Workshop sein. Freut euch darauf\, nicht nur das Tanzen und die Salsa Cubana Stimmung zu erleben\, sondern auch jede Menge Spaß zur besten kubanischen Musik zu haben.\nAbendprogramm:\n\n– *20:30 Uhr: Salsa Cubana Level M Workshop mit Alex*\n– *21:30 Uhr: Salsa Cubana\, Timba\, Son\, Rumba Party mit DJ Alaui*\n\nDie gesamte Party wird von 100 % authentischer kubanischer Musik begleitet. Beachtet bitte\, dass für die Workshops kein fester Tanzpartner benötigt wird.\nWir freuen uns darauf\, mit euch gemeinsam zu tanzen und einen unvergesslichen Tanzabend zu erleben!\nHerzliche Grüße\,\nLa Danza Team & Alaui ( Salsa y más)\nEintritt: 10\,- Euro \nWo: La Danza – Engelbertstr. 29 \nBringe Deine Getränke selber mit\, denke aber bitte daran\, Deine leeren Flaschen wieder mitzunehmen und den Platz sauber zu hinterlassen! Für Deine Hilfe beim Einsammeln sind wir Dir sehr dankbar. Alkoholfreie Getränke sind für 2\,- Euro erhältlich.
URL:https://la-danza.de/event/salsa-cubana-zone-party/
LOCATION:La Danza –\, Engelbertstr. 29\, Köln\, 50674
CATEGORIES:Party
ORGANIZER;CN="La Danza Tanzzentrum":MAILTO:info@la-danza.de
GEO:19.4326077;-99.133208
X-APPLE-STRUCTURED-LOCATION;VALUE=URI;X-ADDRESS=La Danza – Engelbertstr. 29 Köln 50674;X-APPLE-RADIUS=500;X-TITLE=Engelbertstr. 29:geo:-99.133208,19.4326077
END:VEVENT
END:VCALENDAR