BEGIN:VCALENDAR
VERSION:2.0
PRODID:-//La Danza Tanzzentrum - ECPv6.10.0//NONSGML v1.0//EN
CALSCALE:GREGORIAN
METHOD:PUBLISH
X-ORIGINAL-URL:https://la-danza.de
X-WR-CALDESC:Veranstaltungen für La Danza Tanzzentrum
REFRESH-INTERVAL;VALUE=DURATION:PT1H
X-Robots-Tag:noindex
X-PUBLISHED-TTL:PT1H
BEGIN:VTIMEZONE
TZID:Europe/Berlin
BEGIN:DAYLIGHT
TZOFFSETFROM:+0100
TZOFFSETTO:+0200
TZNAME:CEST
DTSTART:20230326T010000
END:DAYLIGHT
BEGIN:STANDARD
TZOFFSETFROM:+0200
TZOFFSETTO:+0100
TZNAME:CET
DTSTART:20231029T010000
END:STANDARD
END:VTIMEZONE
BEGIN:VEVENT
DTSTART;TZID=Europe/Berlin:20230812T140000
DTEND;TZID=Europe/Berlin:20230813T160000
DTSTAMP:20260423T083515
CREATED:20230622T151408Z
LAST-MODIFIED:20230707T154723Z
UID:10000302-1691848800-1691942400@la-danza.de
SUMMARY:Bachata Sensual Anfänger mit Sonu & Annika - Sa. & So.
DESCRIPTION:Der beliebte zweitägige Wochenend Workshop beinhaltet Spaß und intensives Erlernen der Grundzüge des Tanzes Bachata Sensual. Du lernst die Grundschritte und das Führen und Folgen sowie schöne Kombinationen.\nErmässigung für Studenten und Abonnenten von La Danza. \nÜber die Dozenten: \nSonu und Annika tanzen ein ganzes Leben lang und haben schon viele verschiedene Tanzstile getanzt.\nSonu: „Unser Herz hängt schon lange an Bachata. Annika unterrichtet schon seit 2017 und ich seit 2019. Wir beide geben regelmäßige Kurse und Workshops in verschiedenen Städten. Uns ist Technik\, Sicherheit und vor allem Spaß in unseren Kursen das Wichtigste! Wir wollen\, dass du dich in unseren Kursen wohlfühlen kannst und freuen uns\, mit dir deine ersten Bachata Steps zu machen“. \nDer Saal ist klimatisiert! \nZeiten: Sa. und So.\, jeweils 14:00 bis 16:00 Uhr \nTeilnahme nur nach Anmeldung. \nBitte hier buchen
URL:https://la-danza.de/event/bachata-sensual-anfaenger-mit-sonu-annika-sa-so-aug/
LOCATION:La Danza –\, Engelbertstr. 29\, Köln\, 50674
CATEGORIES:Workshops
GEO:19.4326077;-99.133208
X-APPLE-STRUCTURED-LOCATION;VALUE=URI;X-ADDRESS=La Danza – Engelbertstr. 29 Köln 50674;X-APPLE-RADIUS=500;X-TITLE=Engelbertstr. 29:geo:-99.133208,19.4326077
END:VEVENT
END:VCALENDAR