BEGIN:VCALENDAR
VERSION:2.0
PRODID:-//La Danza Tanzzentrum - ECPv6.10.0//NONSGML v1.0//EN
CALSCALE:GREGORIAN
METHOD:PUBLISH
X-ORIGINAL-URL:https://la-danza.de
X-WR-CALDESC:Veranstaltungen für La Danza Tanzzentrum
REFRESH-INTERVAL;VALUE=DURATION:PT1H
X-Robots-Tag:noindex
X-PUBLISHED-TTL:PT1H
BEGIN:VTIMEZONE
TZID:Europe/Berlin
BEGIN:DAYLIGHT
TZOFFSETFROM:+0100
TZOFFSETTO:+0200
TZNAME:CEST
DTSTART:20230326T010000
END:DAYLIGHT
BEGIN:STANDARD
TZOFFSETFROM:+0200
TZOFFSETTO:+0100
TZNAME:CET
DTSTART:20231029T010000
END:STANDARD
END:VTIMEZONE
BEGIN:VEVENT
DTSTART;TZID=Europe/Berlin:20230722T190000
DTEND;TZID=Europe/Berlin:20230723T010000
DTSTAMP:20260423T094900
CREATED:20230712T171005Z
LAST-MODIFIED:20230712T171005Z
UID:10000307-1690052400-1690074000@la-danza.de
SUMMARY:Open Air Salsa & Bachata Social Dance Party & Workshop 22. Juli
DESCRIPTION:La Danza lädt wieder zur Salsa & Bachata Social Dance Party ein. \nAb 19 Uhr Workshop Salsa Cubana mit Calena Elementen mit Enrique & Iljana\nab 21 Uhr Party outdoor frei \nWo:\nAachener Weiher (Universitätsstraße 100).\nBei schlechtem Wetter: La Danza – Engelbertstr. 29\nBringe Deine Getränke selber mit\, denke aber bitte daran\, Deine leeren Flaschen wieder mitzunehmen und den Platz sauber zu hinterlassen! Für Deine Hilfe beim Einsammeln sind wir Dir sehr dankbar.\nWir freuen uns auf euch!
URL:https://la-danza.de/event/open-air-salsa-bachata-social-dance-party-workshop-22-juli/
LOCATION:La Danza –\, Engelbertstr. 29\, Köln\, 50674
CATEGORIES:Party
ORGANIZER;CN="La Danza Tanzzentrum":MAILTO:info@la-danza.de
GEO:19.4326077;-99.133208
X-APPLE-STRUCTURED-LOCATION;VALUE=URI;X-ADDRESS=La Danza – Engelbertstr. 29 Köln 50674;X-APPLE-RADIUS=500;X-TITLE=Engelbertstr. 29:geo:-99.133208,19.4326077
END:VEVENT
END:VCALENDAR