BEGIN:VCALENDAR
VERSION:2.0
PRODID:-//La Danza Tanzzentrum - ECPv6.10.0//NONSGML v1.0//EN
CALSCALE:GREGORIAN
METHOD:PUBLISH
X-ORIGINAL-URL:https://la-danza.de
X-WR-CALDESC:Veranstaltungen für La Danza Tanzzentrum
REFRESH-INTERVAL;VALUE=DURATION:PT1H
X-Robots-Tag:noindex
X-PUBLISHED-TTL:PT1H
BEGIN:VTIMEZONE
TZID:Europe/Berlin
BEGIN:DAYLIGHT
TZOFFSETFROM:+0100
TZOFFSETTO:+0200
TZNAME:CEST
DTSTART:20230326T010000
END:DAYLIGHT
BEGIN:STANDARD
TZOFFSETFROM:+0200
TZOFFSETTO:+0100
TZNAME:CET
DTSTART:20231029T010000
END:STANDARD
END:VTIMEZONE
BEGIN:VEVENT
DTSTART;TZID=Europe/Berlin:20230429T200000
DTEND;TZID=Europe/Berlin:20230430T030000
DTSTAMP:20260425T134009
CREATED:20230305T103945Z
LAST-MODIFIED:20230428T163104Z
UID:10000291-1682798400-1682823600@la-danza.de
SUMMARY:Danzalicious! Party - 29. April Spring Edition
DESCRIPTION: \n \nLa Danza lädt wieder zur Danzalicious Party ein!\n \nSpecial!\nDer Salsa- und Bachata-Weltmeistern Edson Blanco und Juan Parra präsentieren zum ersten mal ihre neue Salsa Show in Köln!Außerdem hast du die Möglichkeit\, von den beiden Weltmeistern in ihrem Workshop interessanten Timba Moves zu lernen.\n \n✨3 FLOORS: Salsa (Cubana/ Son)\, Bachata (Sensual)\, Urban Kiz / Kizomba\n \n✨5 WORKSHOPS (in Vorbereitung)\n \n20h Ece: Salsa Lady Styling (Open level)                                              \n21h Edson & Juan: Timba Cubana con Rumba (Level M)                                                                  \n20h Tira & Tina: Bachata Sensual Social Dance (Level M)                          \n21h Julio & Linda: Bachata Dominicana (Open Level)                                            \n\n22h Yossi & Ronja: Kizomba                                                        \n \n✨Show / Animation\n00:00 h Salsa Show (Edson Blanco & Juan)\n00:30 h Salsa Animation mit Edson und Juan\n \n \n✨3 DJS\nDJ Belmar: Salsa Cubana\nDJ Quba : Bachata\nDJ  Yossinho:  Kizomba/Urban Kiz\n \n✨PARTY ab 22 Uhr\nLocation: Weißhausstr. 21. 50939 Köln\n \nVORVERKAUF – (der online-VVK ist beendet\, es gibt aber noch Tickets an AK)\nVVK Fullpass Price:   30\,- Euro (Party-Eintritt + 3 Workshops nach Wahl ) \nEintritt + 1 WS: 25\,- Euro\n \nEintritt:               nur AK\nMindestverzehr an der AK 2\,50 €\n \nABENDKASSE (Es gibt noch Tickets für Workshops und Eintritt an der Abendkasse)\nWorkshop-Pass:  25\,- Euro (Party-Eintritt + 1 Workshop)\nFullpass:               35\,- Euro (Party-Eintritt + 3 Workshops)\nEintritt:                 15 \,- Euro\n Mindestverzehr 2\,50 €\n*Workshop- und Partypässe nach Verfügbarkeit
URL:https://la-danza.de/event/danzalicious-party-29-april/
LOCATION:CreaDance Tanzzentrum\, Weißhausstraße 21\, Köln\, 50939\, Deutschland
CATEGORIES:Party
ATTACH;FMTTYPE=image/jpeg:https://la-danza.de/wp-content/uploads/2023/03/Welcome-Spring-Facebook-Event-Titelbild.jpg
ORGANIZER;CN="La Danza Tanzzentrum":MAILTO:info@la-danza.de
END:VEVENT
END:VCALENDAR