BEGIN:VCALENDAR
VERSION:2.0
PRODID:-//La Danza Tanzzentrum - ECPv6.10.0//NONSGML v1.0//EN
CALSCALE:GREGORIAN
METHOD:PUBLISH
X-WR-CALNAME:La Danza Tanzzentrum
X-ORIGINAL-URL:https://la-danza.de
X-WR-CALDESC:Veranstaltungen für La Danza Tanzzentrum
REFRESH-INTERVAL;VALUE=DURATION:PT1H
X-Robots-Tag:noindex
X-PUBLISHED-TTL:PT1H
BEGIN:VTIMEZONE
TZID:Europe/Berlin
BEGIN:DAYLIGHT
TZOFFSETFROM:+0100
TZOFFSETTO:+0200
TZNAME:CEST
DTSTART:20230326T010000
END:DAYLIGHT
BEGIN:STANDARD
TZOFFSETFROM:+0200
TZOFFSETTO:+0100
TZNAME:CET
DTSTART:20231029T010000
END:STANDARD
END:VTIMEZONE
BEGIN:VEVENT
DTSTART;TZID=Europe/Berlin:20230204T150000
DTEND;TZID=Europe/Berlin:20230204T160000
DTSTAMP:20260425T161049
CREATED:20230122T033143Z
LAST-MODIFIED:20230122T035139Z
UID:10000286-1675522800-1675526400@la-danza.de
SUMMARY:Salsa Caleña Lady Styling - 04. Februar
DESCRIPTION:Salsa Caleña ist ein faszinierendes Salsa Stil \, der seinen Ursprung in Cali/Kolumbien hat. Dieser Salsa Stil wird mit viel Footwork\, hoher Geschwindigkeit und verschiedenen Grundschritten getanzt. Die Betonung der Grundschritte variiert sehr. Die exotischen Schritte sind ein echter Blickfang und ziehen die Aufmerksamkeit auf der Tanzfläche auf sich.\nLass uns euch den Salsa Caleña Stil zeigen und mit Michel direkt aus Cali\, Kolumbien das ganze Authentisch erlernen zu können.\n\nWann?\nSamstag 04.02\n\n– Salsa Caleña Lady Styling (Mittelstufe):\n15 Uhr mit Michel\n€18 p.p\n\nwo? Engelbert Str. 29\, Köln\nTeilnahme nur nach Anmeldung. \nBitte hier buchen
URL:https://la-danza.de/event/salsa-calena-ladystylingr-level-m-sa/
LOCATION:La Danza –\, Engelbertstr. 29\, Köln\, 50674
CATEGORIES:Workshops
GEO:19.4326077;-99.133208
X-APPLE-STRUCTURED-LOCATION;VALUE=URI;X-ADDRESS=La Danza – Engelbertstr. 29 Köln 50674;X-APPLE-RADIUS=500;X-TITLE=Engelbertstr. 29:geo:-99.133208,19.4326077
END:VEVENT
BEGIN:VEVENT
DTSTART;TZID=Europe/Berlin:20230204T161500
DTEND;TZID=Europe/Berlin:20230204T173000
DTSTAMP:20260425T161049
CREATED:20230122T034732Z
LAST-MODIFIED:20230122T034732Z
UID:10000287-1675527300-1675531800@la-danza.de
SUMMARY:Salsa Caleña Partnerwork - 04. Februar
DESCRIPTION:Salsa Caleña ist ein faszinierendes Salsa Stil \, der seinen Ursprung in Cali/Kolumbien hat. Dieser Salsa Stil wird mit viel Footwork\, hoher Geschwindigkeit und verschiedenen Grundschritten getanzt. Die Betonung der Grundschritte variiert sehr. Die exotischen Schritte sind ein echter Blickfang und ziehen die Aufmerksamkeit auf der Tanzfläche auf sich.\nLass uns euch den Salsa Caleña Stil zeigen und mit  Enrique und Michel direkt aus Cali\, Kolumbien das ganze Authentisch erlernen zu können.\n\nWann?\nSamstag 04.02\n\n– Salsa Caleña Partnerwork (Open Level):\n16:15 Uhr mit Enrique und Michel\n€18 p.p\n\nwo? Engelbert Str. 29\, Köln\nTeilnahme nur nach Anmeldung. \nBitte hier buchen
URL:https://la-danza.de/event/salsa-calena-partnerwork-04-februar/
LOCATION:La Danza –\, Engelbertstr. 29\, Köln\, 50674
CATEGORIES:Workshops
GEO:19.4326077;-99.133208
X-APPLE-STRUCTURED-LOCATION;VALUE=URI;X-ADDRESS=La Danza – Engelbertstr. 29 Köln 50674;X-APPLE-RADIUS=500;X-TITLE=Engelbertstr. 29:geo:-99.133208,19.4326077
END:VEVENT
END:VCALENDAR