BEGIN:VCALENDAR
VERSION:2.0
PRODID:-//La Danza Tanzzentrum - ECPv6.10.0//NONSGML v1.0//EN
CALSCALE:GREGORIAN
METHOD:PUBLISH
X-ORIGINAL-URL:https://la-danza.de
X-WR-CALDESC:Veranstaltungen für La Danza Tanzzentrum
REFRESH-INTERVAL;VALUE=DURATION:PT1H
X-Robots-Tag:noindex
X-PUBLISHED-TTL:PT1H
BEGIN:VTIMEZONE
TZID:Europe/Berlin
BEGIN:DAYLIGHT
TZOFFSETFROM:+0100
TZOFFSETTO:+0200
TZNAME:CEST
DTSTART:20220327T010000
END:DAYLIGHT
BEGIN:STANDARD
TZOFFSETFROM:+0200
TZOFFSETTO:+0100
TZNAME:CET
DTSTART:20221030T010000
END:STANDARD
END:VTIMEZONE
BEGIN:VEVENT
DTSTART;TZID=Europe/Berlin:20221126T200000
DTEND;TZID=Europe/Berlin:20221127T010000
DTSTAMP:20260425T202259
CREATED:20221118T204940Z
LAST-MODIFIED:20221126T162341Z
UID:10000279-1669492800-1669510800@la-danza.de
SUMMARY:Salsa Social Dance - 26. November
DESCRIPTION:La Danza lädt wieder zur Practice Night bei La Danza ein. \nAb 20 Uhr Schnupperstunde Slas Cubana Level Mittelstufe\n \nEintritt inkl.  Workshop 10\,- Euro (5\,- Euro für La Danza-Mitglieder)\nEintritt ab 21 Uhr              5\,- Euro (0\,- Euro für La Danza-Mitglieder) \nWo: La Danza – Engelbertstr. 29 \nBringe Deine Getränke selber mit\, denke aber bitte daran\, Deine leeren Flaschen wieder mitzunehmen und den Platz sauber zu hinterlassen! Für Deine Hilfe beim Einsammeln sind wir Dir sehr dankbar. Alkoholfreie Getränler sind für 2\,- Euro erhältlich.
URL:https://la-danza.de/event/salsa-social-dance-26-november-2/
LOCATION:La Danza –\, Engelbertstr. 29\, Köln\, 50674
CATEGORIES:Party
ORGANIZER;CN="La Danza Tanzzentrum":MAILTO:info@la-danza.de
GEO:19.4326077;-99.133208
X-APPLE-STRUCTURED-LOCATION;VALUE=URI;X-ADDRESS=La Danza – Engelbertstr. 29 Köln 50674;X-APPLE-RADIUS=500;X-TITLE=Engelbertstr. 29:geo:-99.133208,19.4326077
END:VEVENT
END:VCALENDAR