BEGIN:VCALENDAR
VERSION:2.0
PRODID:-//La Danza Tanzzentrum - ECPv6.10.0//NONSGML v1.0//EN
CALSCALE:GREGORIAN
METHOD:PUBLISH
X-ORIGINAL-URL:https://la-danza.de
X-WR-CALDESC:Veranstaltungen für La Danza Tanzzentrum
REFRESH-INTERVAL;VALUE=DURATION:PT1H
X-Robots-Tag:noindex
X-PUBLISHED-TTL:PT1H
BEGIN:VTIMEZONE
TZID:Europe/Berlin
BEGIN:DAYLIGHT
TZOFFSETFROM:+0100
TZOFFSETTO:+0200
TZNAME:CEST
DTSTART:20220327T010000
END:DAYLIGHT
BEGIN:STANDARD
TZOFFSETFROM:+0200
TZOFFSETTO:+0100
TZNAME:CET
DTSTART:20221030T010000
END:STANDARD
END:VTIMEZONE
BEGIN:VEVENT
DTSTART;TZID=Europe/Berlin:20221029T200000
DTEND;TZID=Europe/Berlin:20221030T023000
DTSTAMP:20260425T213835
CREATED:20220530T132920Z
LAST-MODIFIED:20221029T160157Z
UID:10000243-1667073600-1667097000@la-danza.de
SUMMARY:Danzalicious! Party - 29. Okt.
DESCRIPTION:La Danza lädt wieder zur Danzalicious Party ein! \n✨3 FLOORS: Salsa (Cubana/ Son)\, Bachata (Sensual)\, Urban Kiz / Kizomba \n**Das Line Up ist noch in Arbeit** \n✨5 WORKSHOPS (Ab Level A2/M und mehr)\n20:00 h    Luca& Noemi         (Salsa Casino)\n21:00 h    Yohan & Elaine      (Salsa Cubana)\n20:15 h    Sergio & Ece           (Bachata)\n21:15 h     Sonu & Annika      (Bachata)\n21:00 h    Shah & Lea             (Urban Kiz) \n✨Shows & Animation 00 h\nEnrique                Salsa Show\nSarah                    Salsa Show\nSalsa Casino        Ladys Show (Noemi)\nYohan & Elaine  Salsa/Rumba Animation \n✨5 DJS\nDj Barnabe\nDj Fran\nDj Instict \nFoto/ Video: \nPARTY ab 22 Uhr \n❗❗❗VVK online\nEintritt: 15 \,- Euro\nEintritt + 1 Workshop**: 30\,- Euro\nFullpass: 40\,- Euro (Der VVK Preis gilt für Kursteilnehmer von La Danza auch an der Abendkasse!) \nABENDKASSE\nEintritt: 15 \,- Euro\nEintritt + 1 Workshop**: 35\,- Euro\nFullpass: 45\,- Euro \nSichere Dein Ticket: Reservierungen für die Abendkasse (AK) bitte hier.
URL:https://la-danza.de/event/danzalicious-party-oktober/
LOCATION:CreaDance Tanzzentrum\, Weißhausstraße 21\, Köln\, 50939\, Deutschland
CATEGORIES:Party
ATTACH;FMTTYPE=image/jpeg:https://la-danza.de/wp-content/uploads/2022/09/dia-de-los-muertos-edition-Instagram-1080-×-1350-px.jpg
ORGANIZER;CN="La Danza Tanzzentrum":MAILTO:info@la-danza.de
END:VEVENT
END:VCALENDAR