BEGIN:VCALENDAR
VERSION:2.0
PRODID:-//La Danza Tanzzentrum - ECPv6.10.0//NONSGML v1.0//EN
CALSCALE:GREGORIAN
METHOD:PUBLISH
X-WR-CALNAME:La Danza Tanzzentrum
X-ORIGINAL-URL:https://la-danza.de
X-WR-CALDESC:Veranstaltungen für La Danza Tanzzentrum
REFRESH-INTERVAL;VALUE=DURATION:PT1H
X-Robots-Tag:noindex
X-PUBLISHED-TTL:PT1H
BEGIN:VTIMEZONE
TZID:Europe/Berlin
BEGIN:DAYLIGHT
TZOFFSETFROM:+0100
TZOFFSETTO:+0200
TZNAME:CEST
DTSTART:20220327T010000
END:DAYLIGHT
BEGIN:STANDARD
TZOFFSETFROM:+0200
TZOFFSETTO:+0100
TZNAME:CET
DTSTART:20221030T010000
END:STANDARD
END:VTIMEZONE
BEGIN:VEVENT
DTSTART;TZID=Europe/Berlin:20221022T120000
DTEND;TZID=Europe/Berlin:20221022T133000
DTSTAMP:20260425T213810
CREATED:20220817T115415Z
LAST-MODIFIED:20221021T140017Z
UID:10000258-1666440000-1666445400@la-danza.de
SUMMARY:Afroheels Workshop - 22.10.22 - 12 Uhr
DESCRIPTION:Afro Heels Workshop in dem Afro Elemente in Ladys Style/ Heels integriert werden und dazu natürlich zu Afrobeats Songs getanzt wird.\nHeels sind erwünscht jedoch keine Pflicht\, Hauptsache ihr hab Spaß daran etwas neues auszuprobieren und dabei eure Weiblichkeit zu entfalten.\n\n La Danza Instagram\n\nBitte hier buchen
URL:https://la-danza.de/event/afroheels-workshop-10-09-22-12-uhr/
LOCATION:La Danza –\, Engelbertstr. 29\, Köln\, 50674
CATEGORIES:Workshops
ATTACH;FMTTYPE=image/jpeg:https://la-danza.de/wp-content/uploads/2022/08/Afroheels-Workshop-Facebook-Event-Titelbild.jpg
GEO:19.4326077;-99.133208
X-APPLE-STRUCTURED-LOCATION;VALUE=URI;X-ADDRESS=La Danza – Engelbertstr. 29 Köln 50674;X-APPLE-RADIUS=500;X-TITLE=Engelbertstr. 29:geo:-99.133208,19.4326077
END:VEVENT
BEGIN:VEVENT
DTSTART;TZID=Europe/Berlin:20221022T140000
DTEND;TZID=Europe/Berlin:20221023T163000
DTSTAMP:20260425T213810
CREATED:20220831T094008Z
LAST-MODIFIED:20221021T140007Z
UID:10000265-1666447200-1666542600@la-danza.de
SUMMARY:Salsa Cubana Anfänger (Level A1) - Sa. & So.
DESCRIPTION:Der beliebte zweitägige Wochenend Workshop beinhaltet Spaß und intensives Erlernen der Grundzüge des Tanzes Salsa Cubana. Du lernst die Grundschritte und das Führen und Folgen sowie schöne Kombinationen mit Drehungen und Platzwechsel. Du lernst Passo basico cubano\, Guapea\, Vuelta derecha\, Enchafa doble und Dile Que No. Du kannst Dich mit oder ohne Tanzpartner/in anmelden.\nErmässigung für Studenten und Abonnenten von La Danza. \nAusgebucht! Nur Plätze für einzelne Herren frei! \nDer Saal ist klimatisiert! \nZeiten: Sa. und So.\, jeweils 14:00 bis 16:30 Uhr \nTeilnahme nur nach Anmeldung. \nBitte hier buchen
URL:https://la-danza.de/event/salsa-cubana-anfaenger-okt/
LOCATION:La Danza –\, Engelbertstr. 29\, Köln\, 50674
CATEGORIES:Workshops
ATTACH;FMTTYPE=image/jpeg:https://la-danza.de/wp-content/uploads/2021/08/Salsa-Cubana-Uwe.jpg
GEO:19.4326077;-99.133208
X-APPLE-STRUCTURED-LOCATION;VALUE=URI;X-ADDRESS=La Danza – Engelbertstr. 29 Köln 50674;X-APPLE-RADIUS=500;X-TITLE=Engelbertstr. 29:geo:-99.133208,19.4326077
END:VEVENT
BEGIN:VEVENT
DTSTART;TZID=Europe/Berlin:20221022T200000
DTEND;TZID=Europe/Berlin:20221023T010000
DTSTAMP:20260425T213810
CREATED:20221006T100014Z
LAST-MODIFIED:20221022T143844Z
UID:10000271-1666468800-1666486800@la-danza.de
SUMMARY:Salsa Social Dance - 22. Oktober
DESCRIPTION:La Danza lädt wieder zur Practice Night bei La Danza ein. \nAb 20 Uhr Schnupperstunde Level Mittelstufe mit Enrique & Iliana!\n \nEintritt: 5\,- Euro\, La Danza-Mitglieder haben freien Eintritt. \nWo: La Danza – Engelbertstr. 29 \nBringe Deine Getränke selber mit\, denke aber bitte daran\, Deine leeren Flaschen wieder mitzunehmen und den Platz sauber zu hinterlassen! Für Deine Hilfe beim Einsammeln sind wir Dir sehr dankbar. Alkoholfreie Getränler sind für 2\,- Euro erhältlich.
URL:https://la-danza.de/event/salsa-social-dance-22-okober/
LOCATION:La Danza –\, Engelbertstr. 29\, Köln\, 50674
CATEGORIES:Party
ORGANIZER;CN="La Danza Tanzzentrum":MAILTO:info@la-danza.de
GEO:19.4326077;-99.133208
X-APPLE-STRUCTURED-LOCATION;VALUE=URI;X-ADDRESS=La Danza – Engelbertstr. 29 Köln 50674;X-APPLE-RADIUS=500;X-TITLE=Engelbertstr. 29:geo:-99.133208,19.4326077
END:VEVENT
END:VCALENDAR