BEGIN:VCALENDAR
VERSION:2.0
PRODID:-//La Danza Tanzzentrum - ECPv6.10.0//NONSGML v1.0//EN
CALSCALE:GREGORIAN
METHOD:PUBLISH
X-WR-CALNAME:La Danza Tanzzentrum
X-ORIGINAL-URL:https://la-danza.de
X-WR-CALDESC:Veranstaltungen für La Danza Tanzzentrum
REFRESH-INTERVAL;VALUE=DURATION:PT1H
X-Robots-Tag:noindex
X-PUBLISHED-TTL:PT1H
BEGIN:VTIMEZONE
TZID:Europe/Berlin
BEGIN:DAYLIGHT
TZOFFSETFROM:+0100
TZOFFSETTO:+0200
TZNAME:CEST
DTSTART:20220327T010000
END:DAYLIGHT
BEGIN:STANDARD
TZOFFSETFROM:+0200
TZOFFSETTO:+0100
TZNAME:CET
DTSTART:20221030T010000
END:STANDARD
END:VTIMEZONE
BEGIN:VEVENT
DTSTART;TZID=Europe/Berlin:20220917T140000
DTEND;TZID=Europe/Berlin:20220918T163000
DTSTAMP:20260426T002829
CREATED:20220613T133108Z
LAST-MODIFIED:20220613T133108Z
UID:10000245-1663423200-1663518600@la-danza.de
SUMMARY:Salsa Cubana Anfänger (Level A1) - Sa. & So.
DESCRIPTION:Der beliebte zweitägige Wochenend Workshop beinhaltet Spaß und intensives Erlernen der Grundzüge des Tanzes Salsa Cubana. Du lernst die Grundschritte und das Führen und Folgen sowie schöne Kombinationen mit Drehungen und Platzwechsel. Du lernst Passo basico cubano\, Guapea\, Vuelta derecha\, Enchafa doble und Dile Que No. Du kannst Dich mit oder ohne Tanzpartner/in anmelden.\nErmässigung für Studenten und Abonnenten von La Danza. \nDer Saal ist klimatisiert! \nZeiten: Sa. und So.\, jeweils 14:00 bis 16:30 Uhr \nTeilnahme nur nach Anmeldung. \nBitte hier buchen
URL:https://la-danza.de/event/salsa-cubana-anfaenger-level-a1-sa-so-10/
LOCATION:La Danza –\, Engelbertstr. 29\, Köln\, 50674
CATEGORIES:Workshops
ATTACH;FMTTYPE=image/jpeg:https://la-danza.de/wp-content/uploads/2021/08/Salsa-Cubana-Uwe.jpg
GEO:19.4326077;-99.133208
X-APPLE-STRUCTURED-LOCATION;VALUE=URI;X-ADDRESS=La Danza – Engelbertstr. 29 Köln 50674;X-APPLE-RADIUS=500;X-TITLE=Engelbertstr. 29:geo:-99.133208,19.4326077
END:VEVENT
BEGIN:VEVENT
DTSTART;TZID=Europe/Berlin:20220917T163000
DTEND;TZID=Europe/Berlin:20220917T190000
DTSTAMP:20260426T002829
CREATED:20220812T171837Z
LAST-MODIFIED:20220823T161735Z
UID:10000257-1663432200-1663441200@la-danza.de
SUMMARY:Timba Cubana Intensiv Solo Tanz Workshop - Mittelstufe
DESCRIPTION:Für dieses Jahr haben wir eine Reihe von 4 Timba-Workshops geplant. 03.09. – 17.09. – 01.10. – 15.10. Jeder Workshop hat eine Dauer von zweieinhalb Stunden. Die Workshops sind für Solisten (Männer und Frauen) geeignet die Vorkenntnisse in Salsa Cubana haben.  Im Rahmen einer Timba Choreographie werden wir Drehtechnik\, Koordination\, Körpergleichgewicht\, Beingeschwindigkeit\, Körperhaltung\, Körperbewusstsein und choreografisches Gedächtnis verbessern. Am Ende des Workshops werden wir Raum haben\, um ein Video aufzunehmen\, damit wir uns selbst beobachten können und jeder der Teilnehmenden ein Feedback von mir erhält. \n\nWas ist Timba? Timba ist ein kubanischer Musikstil\, der sich ab den 1990er-Jahren in Kuba etabliert hat. Sie besteht aus verschiedenen Stilen wie Rumba\, Son\, Yoruba-Musik\, Changüí\, Rapp\, Reggae und anderen modernen Musikrichtungen. Dank ihres energischen Charakters und der verschiedenen musikalischen Akzente bietet Timba den Tänzern eine breite Palette von Interpretationsmöglichkeiten durch Elemente der Salsa Cubana\, Rumba\, Mambo und Footwork.\nTanzlehrer Instagram Enrique Mateus\n La Danza Instagram\n\nBitte hier buchen
URL:https://la-danza.de/event/timbacubana-openlevel-workshop/
LOCATION:La Danza –\, Engelbertstr. 29\, Köln\, 50674
CATEGORIES:Workshops
ATTACH;FMTTYPE=image/png:https://la-danza.de/wp-content/uploads/2022/08/Timba-Fusion-Workshop-Facebook-Event-Titelbild_png.png
GEO:19.4326077;-99.133208
X-APPLE-STRUCTURED-LOCATION;VALUE=URI;X-ADDRESS=La Danza – Engelbertstr. 29 Köln 50674;X-APPLE-RADIUS=500;X-TITLE=Engelbertstr. 29:geo:-99.133208,19.4326077
END:VEVENT
END:VCALENDAR