BEGIN:VCALENDAR
VERSION:2.0
PRODID:-//La Danza Tanzzentrum - ECPv6.10.0//NONSGML v1.0//EN
CALSCALE:GREGORIAN
METHOD:PUBLISH
X-WR-CALNAME:La Danza Tanzzentrum
X-ORIGINAL-URL:https://la-danza.de
X-WR-CALDESC:Veranstaltungen für La Danza Tanzzentrum
REFRESH-INTERVAL;VALUE=DURATION:PT1H
X-Robots-Tag:noindex
X-PUBLISHED-TTL:PT1H
BEGIN:VTIMEZONE
TZID:Europe/Berlin
BEGIN:DAYLIGHT
TZOFFSETFROM:+0100
TZOFFSETTO:+0200
TZNAME:CEST
DTSTART:20220327T010000
END:DAYLIGHT
BEGIN:STANDARD
TZOFFSETFROM:+0200
TZOFFSETTO:+0100
TZNAME:CET
DTSTART:20221030T010000
END:STANDARD
END:VTIMEZONE
BEGIN:VEVENT
DTSTART;TZID=Europe/Berlin:20220827T200000
DTEND;TZID=Europe/Berlin:20220828T023000
DTSTAMP:20260426T002300
CREATED:20220530T132816Z
LAST-MODIFIED:20220826T134550Z
UID:10000242-1661630400-1661653800@la-danza.de
SUMMARY:Danzalicious! Party - 27. Aug.
DESCRIPTION:La Danza lädt wieder zur Danzalicious Party ein! \n✨3 FLOORS: Salsa (Cubana/ Son)\, Bachata (Sensual)\, Urban Kiz / Kizomba \n✨5 WORKSHOPS (Alle Level)\n20 h Enrique & Aliana (Salsa Cubana)\n21 h Amanda (Salsa Suelta)\n20 h Tim & Sandra (Bachata Sensual)\n21 h Shahab & Jasmine (Bachat Sensual)\n21 h Ahed (Urban Kiz) \n✨Show/Animation:\n00 h       Bachata Ladies Team\n00:30h  Enrique \n✨5 DJS\nDj Bel Mar (Salsa)\nDj Fadi (Bachata)\nDj Pajras (Kizomba) \nFoto/ Video: \nPARTY ab 22 Uhr \n❗❗❗VVK ist beendet. \nEs gibt noch Karten an der Abendkasse. Wenn Du bis ca. 22:30/23:00 uhr da bist erhälst Du bestimmt noch welche. \nABENDKASSE \nEintritt:                                15 \,- Euro\nEintritt + 1 Workshop**: 35\,- Euro\nFullpass:                              40\,- Euro \n** Workshop um 21 h bzw. 21:15 h \n 
URL:https://la-danza.de/event/danzalicious-party-august/
LOCATION:CreaDance Tanzzentrum\, Weißhausstraße 21\, Köln\, 50939\, Deutschland
CATEGORIES:Party
ORGANIZER;CN="La Danza Tanzzentrum":MAILTO:info@la-danza.de
END:VEVENT
BEGIN:VEVENT
DTSTART;TZID=Europe/Berlin:20220828T140000
DTEND;TZID=Europe/Berlin:20220828T153000
DTSTAMP:20260426T002300
CREATED:20220805T165012Z
LAST-MODIFIED:20220805T165012Z
UID:10000253-1661695200-1661700600@la-danza.de
SUMMARY:Salsa Caleña Open Level - 28.08.22 - 14:00 Uhr
DESCRIPTION:Text folgt\n\nSee: instagram ladanzakoeln \n\nBitte hier buchen
URL:https://la-danza.de/event/salsa-calena-openlevel/
LOCATION:La Danza –\, Engelbertstr. 29\, Köln\, 50674
CATEGORIES:Workshops
GEO:19.4326077;-99.133208
X-APPLE-STRUCTURED-LOCATION;VALUE=URI;X-ADDRESS=La Danza – Engelbertstr. 29 Köln 50674;X-APPLE-RADIUS=500;X-TITLE=Engelbertstr. 29:geo:-99.133208,19.4326077
END:VEVENT
BEGIN:VEVENT
DTSTART;TZID=Europe/Berlin:20220828T153000
DTEND;TZID=Europe/Berlin:20220828T170000
DTSTAMP:20260426T002300
CREATED:20220805T171639Z
LAST-MODIFIED:20220805T172149Z
UID:10000254-1661700600-1661706000@la-danza.de
SUMMARY:Salsa Caleña Lady Styling - 28.08.22 - 15:30 Uhr
DESCRIPTION:Text folgt\n\nSee: instagram ladanzakoeln \n\nBitte hier buchen
URL:https://la-danza.de/event/salsa-calena-ladystyling/
LOCATION:La Danza –\, Engelbertstr. 29\, Köln\, 50674
CATEGORIES:Workshops
GEO:19.4326077;-99.133208
X-APPLE-STRUCTURED-LOCATION;VALUE=URI;X-ADDRESS=La Danza – Engelbertstr. 29 Köln 50674;X-APPLE-RADIUS=500;X-TITLE=Engelbertstr. 29:geo:-99.133208,19.4326077
END:VEVENT
END:VCALENDAR