BEGIN:VCALENDAR
VERSION:2.0
PRODID:-//La Danza Tanzzentrum - ECPv6.10.0//NONSGML v1.0//EN
CALSCALE:GREGORIAN
METHOD:PUBLISH
X-ORIGINAL-URL:https://la-danza.de
X-WR-CALDESC:Veranstaltungen für La Danza Tanzzentrum
REFRESH-INTERVAL;VALUE=DURATION:PT1H
X-Robots-Tag:noindex
X-PUBLISHED-TTL:PT1H
BEGIN:VTIMEZONE
TZID:Europe/Berlin
BEGIN:DAYLIGHT
TZOFFSETFROM:+0100
TZOFFSETTO:+0200
TZNAME:CEST
DTSTART:20220327T010000
END:DAYLIGHT
BEGIN:STANDARD
TZOFFSETFROM:+0200
TZOFFSETTO:+0100
TZNAME:CET
DTSTART:20221030T010000
END:STANDARD
END:VTIMEZONE
BEGIN:VEVENT
DTSTART;TZID=Europe/Berlin:20220820T120000
DTEND;TZID=Europe/Berlin:20220820T131500
DTSTAMP:20260426T002415
CREATED:20220718T210943Z
LAST-MODIFIED:20220718T210943Z
UID:10000251-1660996800-1661001300@la-danza.de
SUMMARY:Timba Lady Styling Workshop #2 mit Caro Flores
DESCRIPTION:Als Variation der Salsa Cubana gibt es die Timba\, die es Dir erlaubt\, Dich noch freier und spielerischer in der Musik auszudrücken. In diesem Workshop werden wir eine feminine aber auch energetische Choreo erlernen\, die neben Salsa Cubana unter anderem auch Einflüsse aus dem Reggaeton haben wird. Für den Workshop solltest Du Vorkenntnisse in Salsa Cubana mitbringen. Wenn Du also ein kleines Stück Kuba an diesem Samstagmittag erleben möchtest\, voller Spaß und Bewegung\, dann ist dieser Workshop optimal für Dich!\n\n\nSee: instagram ladanzakoeln \n\nBitte hier buchen
URL:https://la-danza.de/event/timba-lady-styling-workshop-2-mit-caro-flores/
LOCATION:La Danza –\, Engelbertstr. 29\, Köln\, 50674
CATEGORIES:Workshops
ATTACH;FMTTYPE=image/jpeg:https://la-danza.de/wp-content/uploads/2021/03/caroqu.jpg
GEO:19.4326077;-99.133208
X-APPLE-STRUCTURED-LOCATION;VALUE=URI;X-ADDRESS=La Danza – Engelbertstr. 29 Köln 50674;X-APPLE-RADIUS=500;X-TITLE=Engelbertstr. 29:geo:-99.133208,19.4326077
END:VEVENT
BEGIN:VEVENT
DTSTART;TZID=Europe/Berlin:20220820T210000
DTEND;TZID=Europe/Berlin:20220821T010000
DTSTAMP:20260426T002415
CREATED:20220810T144321Z
LAST-MODIFIED:20220819T190705Z
UID:10000256-1661029200-1661043600@la-danza.de
SUMMARY:Salsa & Bachata Social Dance - Open Air - 20. Aug.
DESCRIPTION:La Danza lädt wieder zur Practice Night unter Freiem Himmel ein. \nHinweis: Bitte teile diese Veranstaltung nicht in Social Media! Wir wollen es heute Abend im begrenzten Rahmen halten\, damit es keine Restriktionen der öffentlichen Hand gibt. \nWir spielen wieder 3-4 Salsa und 3-4 Stücke Bachata im Wechsel. \n21 Uhr: Workshop Salsa Cubana  mit Uwe & Iliana – All Level (gratis für Kursteilnehmer von La Danza oder kleine Spende)\n \nWo: Am Ostasiatischen Museum\, Universitätstr.st. 100 (Bei Regen tanzen wir in der Engelbertstr. 29) \nBringe Deine Getränke selber mit\, denke aber bitte daran\, Deine leeren Flaschen wieder mitzunehmen und den Platz sauber zu hinterlassen! Für Deine Hilfe beim Einsammeln sind wir Dir sehr dankbar.
URL:https://la-danza.de/event/salsa-bachata-social-dance-open-air-20-aug/
LOCATION:Open Air Aachener Weiher\, Universtitätsstr. 100\, Köln\, Deutschland
CATEGORIES:Party
ORGANIZER;CN="La Danza Tanzzentrum":MAILTO:info@la-danza.de
END:VEVENT
END:VCALENDAR