BEGIN:VCALENDAR
VERSION:2.0
PRODID:-//La Danza Tanzzentrum - ECPv6.10.0//NONSGML v1.0//EN
CALSCALE:GREGORIAN
METHOD:PUBLISH
X-WR-CALNAME:La Danza Tanzzentrum
X-ORIGINAL-URL:https://la-danza.de
X-WR-CALDESC:Veranstaltungen für La Danza Tanzzentrum
REFRESH-INTERVAL;VALUE=DURATION:PT1H
X-Robots-Tag:noindex
X-PUBLISHED-TTL:PT1H
BEGIN:VTIMEZONE
TZID:Europe/Berlin
BEGIN:DAYLIGHT
TZOFFSETFROM:+0100
TZOFFSETTO:+0200
TZNAME:CEST
DTSTART:20220327T010000
END:DAYLIGHT
BEGIN:STANDARD
TZOFFSETFROM:+0200
TZOFFSETTO:+0100
TZNAME:CET
DTSTART:20221030T010000
END:STANDARD
END:VTIMEZONE
BEGIN:VEVENT
DTSTART;TZID=Europe/Berlin:20220806T120000
DTEND;TZID=Europe/Berlin:20220806T131500
DTSTAMP:20260426T002814
CREATED:20220629T171623Z
LAST-MODIFIED:20220718T210745Z
UID:10000247-1659787200-1659791700@la-danza.de
SUMMARY:Timba Lady Styling Workshops mit Caro Flores
DESCRIPTION:Als Variation der Salsa Cubana gibt es die Timba\, die es Dir erlaubt\, Dich noch freier und spielerischer in der Musik auszudrücken. In diesem Workshop werden wir eine feminine aber auch energetische Choreo erlernen\, die neben Salsa Cubana unter anderem auch Einflüsse aus dem Reggaeton haben wird. Für den Workshop solltest Du Vorkenntnisse in Salsa Cubana mitbringen. Wenn Du also ein kleines Stück Kuba an diesem Samstagmittag erleben möchtest\, voller Spaß und Bewegung\, dann ist dieser Workshop optimal für Dich!\n\n2. Termin: 20. August\n\nSee: instagram ladanzakoeln \n\nBitte hier buchen
URL:https://la-danza.de/event/timba-lady-styling-caro1/
LOCATION:La Danza –\, Engelbertstr. 29\, Köln\, 50674
CATEGORIES:Workshops
ATTACH;FMTTYPE=image/jpeg:https://la-danza.de/wp-content/uploads/2021/03/caroqu.jpg
GEO:19.4326077;-99.133208
X-APPLE-STRUCTURED-LOCATION;VALUE=URI;X-ADDRESS=La Danza – Engelbertstr. 29 Köln 50674;X-APPLE-RADIUS=500;X-TITLE=Engelbertstr. 29:geo:-99.133208,19.4326077
END:VEVENT
END:VCALENDAR