BEGIN:VCALENDAR
VERSION:2.0
PRODID:-//La Danza Tanzzentrum - ECPv6.10.0//NONSGML v1.0//EN
CALSCALE:GREGORIAN
METHOD:PUBLISH
X-WR-CALNAME:La Danza Tanzzentrum
X-ORIGINAL-URL:https://la-danza.de
X-WR-CALDESC:Veranstaltungen für La Danza Tanzzentrum
REFRESH-INTERVAL;VALUE=DURATION:PT1H
X-Robots-Tag:noindex
X-PUBLISHED-TTL:PT1H
BEGIN:VTIMEZONE
TZID:Europe/Berlin
BEGIN:DAYLIGHT
TZOFFSETFROM:+0100
TZOFFSETTO:+0200
TZNAME:CEST
DTSTART:20220327T010000
END:DAYLIGHT
BEGIN:STANDARD
TZOFFSETFROM:+0200
TZOFFSETTO:+0100
TZNAME:CET
DTSTART:20221030T010000
END:STANDARD
END:VTIMEZONE
BEGIN:VEVENT
DTSTART;TZID=Europe/Berlin:20220730T160000
DTEND;TZID=Europe/Berlin:20220731T200000
DTSTAMP:20260426T015304
CREATED:20220728T084554Z
LAST-MODIFIED:20220728T095359Z
UID:10000252-1659196800-1659297600@la-danza.de
SUMMARY:Wiedereröffnung des Rheinparkcafes mit Programm / Kölner Sommer 2022
DESCRIPTION:Wiedereröffnung des Rheinpark Cafes mit einem bunten Programm im Rahmen des Kölner Sommer 2022!\n \nMit Gratis-Tanzkursen/Animation vom La Danza Team: \nSamstag 16 Uhr Uwe und Caro (Merengue Bachata)\nSonntag 14 Uhr mit Enrique & Iliana (Salsa\, Timba) \nDu bist herzlich eingeladen\, mit zu tanzen! \n\nHier zum Eröffnungsrahmenprogramm\n\nSee: instagram ladanzakoeln 
URL:https://la-danza.de/event/rheinparkcafe/
LOCATION:La Danza –\, Engelbertstr. 29\, Köln\, 50674
CATEGORIES:Workshops
GEO:19.4326077;-99.133208
X-APPLE-STRUCTURED-LOCATION;VALUE=URI;X-ADDRESS=La Danza – Engelbertstr. 29 Köln 50674;X-APPLE-RADIUS=500;X-TITLE=Engelbertstr. 29:geo:-99.133208,19.4326077
END:VEVENT
END:VCALENDAR