BEGIN:VCALENDAR
VERSION:2.0
PRODID:-//La Danza Tanzzentrum - ECPv6.10.0//NONSGML v1.0//EN
CALSCALE:GREGORIAN
METHOD:PUBLISH
X-WR-CALNAME:La Danza Tanzzentrum
X-ORIGINAL-URL:https://la-danza.de
X-WR-CALDESC:Veranstaltungen für La Danza Tanzzentrum
REFRESH-INTERVAL;VALUE=DURATION:PT1H
X-Robots-Tag:noindex
X-PUBLISHED-TTL:PT1H
BEGIN:VTIMEZONE
TZID:Europe/Berlin
BEGIN:DAYLIGHT
TZOFFSETFROM:+0100
TZOFFSETTO:+0200
TZNAME:CEST
DTSTART:20220327T010000
END:DAYLIGHT
BEGIN:STANDARD
TZOFFSETFROM:+0200
TZOFFSETTO:+0100
TZNAME:CET
DTSTART:20221030T010000
END:STANDARD
END:VTIMEZONE
BEGIN:VEVENT
DTSTART;TZID=Europe/Berlin:20220625T170000
DTEND;TZID=Europe/Berlin:20220626T183000
DTSTAMP:20260426T043011
CREATED:20220511T184910Z
LAST-MODIFIED:20220624T124949Z
UID:10000239-1656176400-1656268200@la-danza.de
SUMMARY:Urban Kiz Workshops mit Lionel & Helen
DESCRIPTION:See: instagram ladanzakoeln\n\nBitte hier buchen
URL:https://la-danza.de/event/urban-kiz-ws-lionel/
LOCATION:La Danza –\, Engelbertstr. 29\, Köln\, 50674
CATEGORIES:Workshops
GEO:19.4326077;-99.133208
X-APPLE-STRUCTURED-LOCATION;VALUE=URI;X-ADDRESS=La Danza – Engelbertstr. 29 Köln 50674;X-APPLE-RADIUS=500;X-TITLE=Engelbertstr. 29:geo:-99.133208,19.4326077
END:VEVENT
BEGIN:VEVENT
DTSTART;TZID=Europe/Berlin:20220625T200000
DTEND;TZID=Europe/Berlin:20220626T023000
DTSTAMP:20260426T043011
CREATED:20220530T132704Z
LAST-MODIFIED:20220624T125116Z
UID:10000241-1656187200-1656210600@la-danza.de
SUMMARY:Danzalicious! Party - Summer Edition
DESCRIPTION:✨3 FLOORS: Salsa (Cubana/ Son)\, Bachata (Sensual)\, Urban Kiz / Kizomba \n✨5 WORKSHOPS\nSalsa:\n20 h Francisco               Salsa Cubana (ab Level M)\n21 h  Erind el Cacique Salsa Fusion (open Level)\nBachata Sensual:\n20 h Werner & Lucia (mit Vorkenntnissen)\n21 h Tira & Tina (open Level)\nUrban Kiz:\n21 h Lionel & Helen \n✨Animation/Show (Salsa Floor):\n00 h      Enrique & Sarah (Pa´los Rumberos)\n00:15 h Erind el Cacique (Animation) \n✨ ab 22 Uhr PARTY mit 3 DJS\nDjane Julia (Salsa)\nDj Vilson (Bachata)\nDj Fayad Confuego (Kizomba) \n❗❗❗VORVERKAUF (VVK Online (bis Samstag\, 13 Uhr!\, siehe unten) oder: Saal 1\, Engelbertstr. 29\, ab 18 Uhr)\nEintritt:                                15 \,- Euro\nEintritt + 1 Workshop**: 30\,- Euro   (** Workshop um 21 h)\nFullpass:                              35\,- Euro \nABENDKASSE \nEintritt:                               15 \,- Euro\nEintritt + 1 Workshop**: 35\,- Euro\nFullpass:                             40\,- Euro
URL:https://la-danza.de/event/danzalicious-juni/
LOCATION:CreaDance Tanzzentrum\, Weißhausstraße 21\, Köln\, 50939\, Deutschland
CATEGORIES:Party
ORGANIZER;CN="La Danza Tanzzentrum":MAILTO:info@la-danza.de
END:VEVENT
END:VCALENDAR