BEGIN:VCALENDAR
VERSION:2.0
PRODID:-//La Danza Tanzzentrum - ECPv6.10.0//NONSGML v1.0//EN
CALSCALE:GREGORIAN
METHOD:PUBLISH
X-ORIGINAL-URL:https://la-danza.de
X-WR-CALDESC:Veranstaltungen für La Danza Tanzzentrum
REFRESH-INTERVAL;VALUE=DURATION:PT1H
X-Robots-Tag:noindex
X-PUBLISHED-TTL:PT1H
BEGIN:VTIMEZONE
TZID:Europe/Berlin
BEGIN:DAYLIGHT
TZOFFSETFROM:+0100
TZOFFSETTO:+0200
TZNAME:CEST
DTSTART:20220327T010000
END:DAYLIGHT
BEGIN:STANDARD
TZOFFSETFROM:+0200
TZOFFSETTO:+0100
TZNAME:CET
DTSTART:20221030T010000
END:STANDARD
END:VTIMEZONE
BEGIN:VEVENT
DTSTART;TZID=Europe/Berlin:20220615T204500
DTEND;TZID=Europe/Berlin:20220616T220000
DTSTAMP:20260426T031728
CREATED:20220315T084338Z
LAST-MODIFIED:20220422T120522Z
UID:10000212-1655325900-1655416800@la-danza.de
SUMMARY:„Sara Panero Bachata Ladies Team Cologne”
DESCRIPTION:Registrierung: Hier\n\n\n–DE — \nSara Panero Bachata Ladies Team Cologne – by Sandra Vanessa   • Exklusives Teamprojekt für Bachata Tänzerinnen\, beschränkte Teilnehmeranzahl   • Offizielle Zusammenarbeit mit der bekannten Marke „Sensual Teams“ und der     weltberühmten Bachata Künstlerin „Sara Panero“ \nHast du Lust auf eine neue Herausforderung? Möchtest du dein tänzerisches Ichweiterentwickeln\, selbstbewusster tanzen und vielleicht sogar auf der Bühne strahlen? Dannist dieses Team das richtige für dich. \nWir bieten dir die unglaubliche Möglichkeit von Sara Panero zu lernen\, vertreten durchunsere Sandra Vanessa.\nKonzept:   • 90 min wöchentliches Lady Group Training – Mittwoch\, 20:45–22:15 Uhr         o Warm Up         o Ladystyling Fundamentals / Technique Training         o Choreography Part         o Stretching   • 1x im Monat Open Practice / Get together – Samstag\, Uhrzeit & Details folgen   • Festes Ladyteam & Community   • Optional: Shows & Bühnen Auftritte\n  Anforderungen:   • Erfolgreiche Aufnahmeprüfung   • Mittelstufe Bachata Level (in Partnerwork oder Solo)   • Minimum 2 Jahre Tanzerfahrung – Quereinstieg aus anderen Tänzen möglich   • Kein Tanzpartner benötigt   • Tanzschuhe (heels oder sneakers)   • Gruppen Outfit – Lady Top (einmalige Kosten) & optional Show Outfit   • Teamgeist\, Motivation\, Ehrgeiz\nLa Danza Trainer: Sandra VanessaSupervision: Sara Panero\nMelde dich schnell an und sei Teil dieses großartigen Konzeptes des Ladies Teams! \n—EN —\n„Sara Panero Bachata Ladies Team Cologne – by Sandra Vanessa”\n• Exclusive Project for Bachateras\, limited Spots• Official Collaboration with the famous brand ‘Sensual Teams’ and one of the mostworld famous Bachatera ‘Sara Panero’\nDo you want to challenge yourself\, improve & glamourize your dancing and share one stagewith the Queen of Bachata Ladystyle? Then this team is for you.\nWe offer you an amazing and unique opportunity to learn from Sara Panero representing bySandra Vanessa.\nConcept:   • 90 min weekly Lady Group Training – Wednesday\, 8:45 – 10:15 pm         o Warm Up        o Ladystyling Fundamentals / Technique Training        o Choreography Part        o Stretching   • Monthly Open Practice / Get together – Saturday\, time tbd   • Fixed Ladyteam & Community   • Option: Stage Performance\nRequirements:   • Successful Audition   • Intermediate Bachata Level (in Partnerwork or Solo)   • Minimum 2 years of Dancing Experience   • Dancing shoes (heels or flat shoes)   • Group Outfit – Lady Top (extra costs) is mandatory & optional Show Outfit   • Team spirit\, motivation\, challenging yourself\nLa Danza Trainer: Sandra VanessaSupervision: Sara Panero\nGet your spot now and be part of this great new concept and Ladies Team! \nRegistrierung: Hier
URL:https://la-danza.de/event/bachata-ladiesteam-cologne/2022-06-15/
LOCATION:La Danza –\, Engelbertstr. 29\, Köln\, 50674
CATEGORIES:Workshops
ATTACH;FMTTYPE=image/jpeg:https://la-danza.de/wp-content/uploads/2022/04/sandrasara-panero.jpg
ORGANIZER;CN="La Danza Tanzzentrum":MAILTO:info@la-danza.de
GEO:19.4326077;-99.133208
X-APPLE-STRUCTURED-LOCATION;VALUE=URI;X-ADDRESS=La Danza – Engelbertstr. 29 Köln 50674;X-APPLE-RADIUS=500;X-TITLE=Engelbertstr. 29:geo:-99.133208,19.4326077
END:VEVENT
END:VCALENDAR