BEGIN:VCALENDAR
VERSION:2.0
PRODID:-//La Danza Tanzzentrum - ECPv6.10.0//NONSGML v1.0//EN
CALSCALE:GREGORIAN
METHOD:PUBLISH
X-ORIGINAL-URL:https://la-danza.de
X-WR-CALDESC:Veranstaltungen für La Danza Tanzzentrum
REFRESH-INTERVAL;VALUE=DURATION:PT1H
X-Robots-Tag:noindex
X-PUBLISHED-TTL:PT1H
BEGIN:VTIMEZONE
TZID:Europe/Berlin
BEGIN:DAYLIGHT
TZOFFSETFROM:+0100
TZOFFSETTO:+0200
TZNAME:CEST
DTSTART:20220327T010000
END:DAYLIGHT
BEGIN:STANDARD
TZOFFSETFROM:+0200
TZOFFSETTO:+0100
TZNAME:CET
DTSTART:20221030T010000
END:STANDARD
END:VTIMEZONE
BEGIN:VEVENT
DTSTART;TZID=Europe/Berlin:20220611T210000
DTEND;TZID=Europe/Berlin:20220612T010000
DTSTAMP:20260426T031736
CREATED:20220602T191253Z
LAST-MODIFIED:20220609T153730Z
UID:10000244-1654981200-1654995600@la-danza.de
SUMMARY:Open Air Social Dance - Salsa & Bachata
DESCRIPTION:La Danza lädt zum Tanz unter Freiem Himmel ein. \n21 Uhr: Workshop Salsa Cubana – All Level (Gratis für Kursteilnehmer von La Danza\, Externe: kleine Spende erbeten)\n \nAm Ostasiatischen Museum\, vor dem Wasser. \nBringe Deine Getränke selber mit\, denke aber bitte daran\, Deine leeren Flaschen wieder mitzunehmen und den Platz sauber zu hinterlassen!
URL:https://la-danza.de/event/open-air-social-juni/
LOCATION:Open Air Aachener Weiher\, Universtitätsstr. 100\, Köln\, Deutschland
CATEGORIES:Party
ORGANIZER;CN="La Danza Tanzzentrum":MAILTO:info@la-danza.de
END:VEVENT
END:VCALENDAR