BEGIN:VCALENDAR
VERSION:2.0
PRODID:-//La Danza Tanzzentrum - ECPv6.10.0//NONSGML v1.0//EN
CALSCALE:GREGORIAN
METHOD:PUBLISH
X-ORIGINAL-URL:https://la-danza.de
X-WR-CALDESC:Veranstaltungen für La Danza Tanzzentrum
REFRESH-INTERVAL;VALUE=DURATION:PT1H
X-Robots-Tag:noindex
X-PUBLISHED-TTL:PT1H
BEGIN:VTIMEZONE
TZID:Europe/Berlin
BEGIN:DAYLIGHT
TZOFFSETFROM:+0100
TZOFFSETTO:+0200
TZNAME:CEST
DTSTART:20220327T010000
END:DAYLIGHT
BEGIN:STANDARD
TZOFFSETFROM:+0200
TZOFFSETTO:+0100
TZNAME:CET
DTSTART:20221030T010000
END:STANDARD
END:VTIMEZONE
BEGIN:VEVENT
DTSTART;TZID=Europe/Berlin:20220528T170000
DTEND;TZID=Europe/Berlin:20220528T190000
DTSTAMP:20260426T043144
CREATED:20220511T185025Z
LAST-MODIFIED:20220527T204609Z
UID:10000240-1653757200-1653764400@la-danza.de
SUMMARY:Urban Kiz Workshops mit Max & Merjam
DESCRIPTION:Samstag 28.05 \nAchtung! Neue Uhrzeit: \nLevel A2/M: 15-17 Uhr \nEngelbert Str. 29 – 50674 \nBitte hier buchen
URL:https://la-danza.de/event/urban-kiz-workshops-max-merjam/
LOCATION:La Danza –\, Engelbertstr. 29\, Köln\, 50674
CATEGORIES:Workshops
GEO:19.4326077;-99.133208
X-APPLE-STRUCTURED-LOCATION;VALUE=URI;X-ADDRESS=La Danza – Engelbertstr. 29 Köln 50674;X-APPLE-RADIUS=500;X-TITLE=Engelbertstr. 29:geo:-99.133208,19.4326077
END:VEVENT
BEGIN:VEVENT
DTSTART;TZID=Europe/Berlin:20220528T210000
DTEND;TZID=Europe/Berlin:20220529T010000
DTSTAMP:20260426T043144
CREATED:20220422T182016Z
LAST-MODIFIED:20220527T165022Z
UID:10000237-1653771600-1653786000@la-danza.de
SUMMARY:Salsa\, Bachata und Kizomba Familia Social Dance
DESCRIPTION:La Danza lädt zur Salsa und Bachata Indoor Party \nAufgrund des Wetters findet der Veranstaltung im Saal 1 (Engelbert Str. 29) Statt \nStart 21:00 Uhr \nAlkoholische Getränke dürften mitgebrach werden! (nimm bitte Deine leeren Behältnisse mit)
URL:https://la-danza.de/event/salsa-bachata-social-mai/
LOCATION:La Danza –\, Engelbertstr. 29\, Köln\, 50674
CATEGORIES:Party
ORGANIZER;CN="La Danza Tanzzentrum":MAILTO:info@la-danza.de
GEO:19.4326077;-99.133208
X-APPLE-STRUCTURED-LOCATION;VALUE=URI;X-ADDRESS=La Danza – Engelbertstr. 29 Köln 50674;X-APPLE-RADIUS=500;X-TITLE=Engelbertstr. 29:geo:-99.133208,19.4326077
END:VEVENT
END:VCALENDAR