BEGIN:VCALENDAR
VERSION:2.0
PRODID:-//La Danza Tanzzentrum - ECPv6.10.0//NONSGML v1.0//EN
CALSCALE:GREGORIAN
METHOD:PUBLISH
X-ORIGINAL-URL:https://la-danza.de
X-WR-CALDESC:Veranstaltungen für La Danza Tanzzentrum
REFRESH-INTERVAL;VALUE=DURATION:PT1H
X-Robots-Tag:noindex
X-PUBLISHED-TTL:PT1H
BEGIN:VTIMEZONE
TZID:Europe/Berlin
BEGIN:DAYLIGHT
TZOFFSETFROM:+0100
TZOFFSETTO:+0200
TZNAME:CEST
DTSTART:20220327T010000
END:DAYLIGHT
BEGIN:STANDARD
TZOFFSETFROM:+0200
TZOFFSETTO:+0100
TZNAME:CET
DTSTART:20221030T010000
END:STANDARD
END:VTIMEZONE
BEGIN:VEVENT
DTSTART;TZID=Europe/Berlin:20220409T203000
DTEND;TZID=Europe/Berlin:20220410T003000
DTSTAMP:20260426T054819
CREATED:20220402T101038Z
LAST-MODIFIED:20220406T081858Z
UID:10000235-1649536200-1649550600@la-danza.de
SUMMARY:Bachata - Practice Night
DESCRIPTION:La Danza lädt zur Bachata Sensual und Dominicana Practice Night ein! \n20:00 Uhr Workshop Bachata Sensual  Level intermediate mit Werner & Lucia \nab 21:00 Uhr Social Dance \nEintritt:  Workshop + Social Dance 15\,- Euro (5\,- Ermässigung für La Danza Kursteilnehmer)\nSocial Dance                                           5\,- Euro \n**Die Teilnahme am Training ist nur  nach online-Registrierung und mit Vorlage eine Negativ-Testnachweise möglich. Es gelten die aktuelle Hygiene-Regeln.  Die Teilnehmerzahl ist auf max. 50 Personen begrenzt. Wir berücksichtigen die aktuelle Corona-Schutz-Verordnung. \nDu darfst Deine eigenen Getränke mitbringen. Alkoholfreie Getränke sind für 2\,- erhältlich. \nRegistierung: Hier
URL:https://la-danza.de/event/bachata-practice-night-april/
LOCATION:La Danza –\, Engelbertstr. 29\, Köln\, 50674
CATEGORIES:Party
ORGANIZER;CN="La Danza Tanzzentrum":MAILTO:info@la-danza.de
GEO:19.4326077;-99.133208
X-APPLE-STRUCTURED-LOCATION;VALUE=URI;X-ADDRESS=La Danza – Engelbertstr. 29 Köln 50674;X-APPLE-RADIUS=500;X-TITLE=Engelbertstr. 29:geo:-99.133208,19.4326077
END:VEVENT
END:VCALENDAR